Workbook

Sheet DATA
A2: DATA | C2: การออกแบบและพัฒนาหลักสูตรอิงสมรรถนะให้กับสถานประกอบการ
A4: สถานประกอบการ | C4: โรงแรมวังใต้ | I4: แผนก | J4: ต้อนรับ
A5: ชื่อตำแหน่งงาน | C5: พนักงานต้อนรับ | I5: วัน / เดือน /ปี ที่วิเคราะห์ | L5: =NOW() -> 42360.481
A7: ผู้วิเคราะห์
A8: 1 | B8: กกกก | D8: ภาพถ่าย | E8: ตำแหน่ง | F8: กกกกกแฟฟฟ
A10: 2 | D10: ภาพถ่าย | E10: ตำแหน่ง
A12: 3 | D12: ภาพถ่าย | E12: ตำแหน่ง
A14: 4 | D14: ภาพถ่าย | E14: ตำแหน่ง
A16: 5 | D16: ภาพถ่าย | E16: ตำแหน่ง
A18: 6 | D18: ภาพถ่าย | E18: ตำแหน่ง
A20: ผู้ทบทวน
A21: 1 | B21: นาย1 | E21: ตำแหน่ง | F21: ผู้จัดการฝ่ายผลิต
A22: ผู้อนุมัติ
A23: 1 | B23: นาย2 | E23: ตำแหน่ง | F23: ผู้จัดการโรงงาน

Sheet แบบStep
A1: การวิเคราะห์งาน (Job Analysis : Step)
B3: สถานประกอบการ | D3: =DATA!C2 -> การออกแบบและพัฒนาหลักสูตรอิงสมรรถนะให้กับสถานประกอบการ | F3: แผนก
B4: ตำแหน่งงาน | F4: วัน / เดือน / ปี ที่วิเคราะห์
B8: ที่ | C8: ขั้นตอนการปฏิบัติงาน | D8: เครื่องมือ / วัสดุ / อุปกรณ์ | E8: ความรู้ที่ต้องใช้ | F8: คุณลักษณะ/ทัศนคติ | G8: มาตรฐาน | H8: ความปลอดภัย
D9: ที่ใช้ในการปฏิบัติงาน | E9: ในการปฏิบัติงาน | F9: ที่ต้องใช้ในการปฏิบัติงาน | G9: ในการปฏิบัติงาน | H9: ข้อควรระวัง
B10: 1
B13: 2
B16: 3
B19: 4
B22: 5
B25: 6
B28: 7
A31: ผู้วิเคราะห์ | G31: ผู้ทบทวน | H31: ผู้อนุมัติ

Sheet Duty
A1: การวิเคราะห์งาน (Job Analysis : Duty)
A2: สถานประกอบการ | C2: =DATA!C4 -> โรงแรมวังใต้ | I2: แผนก | J2: =DATA!J4 -> ต้อนรับ
A3: ชื่อตำแหน่งงาน | C3: =DATA!C5 -> พนักงานต้อนรับ | I3: วัน / เดือน /ปี ที่วิเคราะห์ | L3: =DATA!L5 -> 42360.481
A5: คำบรรยายลักษณะงานโดยย่อ :
A6: พนักงานต้อนรับโรงแรมวังใต้ทำหน้าที่ต้อนรับหน้าเคาเตอร์ให้ข้อมูลสินค้าและการบริการต่าง ๆ ของทางโรงแรมและให้ข้อมูลทั่วไปตามที่ลูกค้าสอบถาม เสนอขายห้องพัก รับจองห้องพัก จัดเตรียมความพร้อมล่วงหน้าไว้สำหรับลูกค้าที่ทำการจอง รับการเช็คอินเข้าพักของลูกค้า บันทึกข้อมูลลูกค้าลงในคอมพิวเตอร์ แจกและขายบัตรรับประทานอาหารเช้า การทำสัญลักษณ์ห้องที่ขายหรือห้องที่ถูกจองไปแล้ว สรุปปิดรอบห้องพัก เช็คเอาท์รับกุญแจคืนห้องพักจากลูกค้า รวมไปถึงการแก้ปัญหาเฉพาะหน้าเมื่อเกิดปัญหาต่าง ๆ
A9: หน้าที่ /งานหลัก : (DUTY)
B10: การเตรียมความพร้อมล่วงหน้า
B13: การต้อนรับลูกค้า
B16: การเช็คอิน
B19: การปฏิบัติเมื่อลูกค้าเข้าพัก
A22: ผู้วิเคราะห์ | B22: =DATA!B8 -> กกกก | E22: =DATA!F8 -> กกกกกแฟฟฟ | I22: ผู้ทบทวน | M22: ผู้อนุมัติ
B23: =DATA!B10 -> 0 | E23: =DATA!F10 -> 0 | I23: =DATA!B21 -> นาย1 | M23: =DATA!B23 -> นาย2
B24: =DATA!B12 -> 0 | E24: =DATA!F12 -> 0
B25: =DATA!B14 -> 0 | E25: =DATA!F14 -> 0 | H25: ตำแหน่ง | I25: =DATA!F21 -> ผู้จัดการฝ่ายผลิต | L25: ตำแหน่ง | M25: =DATA!F23 -> ผู้จัดการโรงงาน
B26: =DATA!B16 -> 0 | E26: =DATA!F16 -> 0

Sheet Task
B1: การวิเคราะห์งาน (Job Analysis : Task)
B2: สถานประกอบการ | D2: =DATA!C4 -> โรงแรมวังใต้ | K2: แผนก | O2: =DATA!J4 -> ต้อนรับ
B3: ชื่อตำแหน่งงาน | D3: =DATA!C5 -> พนักงานต้อนรับ | K3: วัน / เดือน /ปี ที่วิเคราะห์ | O3: =DATA!$L$5 -> 42360.481
B5: งานหลัก (DUTY) | F5: งานย่อย (Task)
B7: =Duty!B10 -> การเตรียมความพร้อมล่วงหน้า | F7: ล๊อคห้องที่มีการสำรองห้องพัก | J7: เตรียมห้องสำหรับเข้าพัก | N7: จัดกุญแจใส่ซอง | R7: เตรียมใบลงทะเบียนเข้าพัก
B10: =Duty!B13 -> การต้อนรับลูกค้า | F10: การเสนอขายห้องพัก | J10: ทักทายและสอบถามลูกค้า
B13: =Duty!B16 -> การเช็คอิน | F13: ลงทะเบียนการเข้าห้องพัก | J13: ให้ข้อมูลสินค้าและ การบริการแก่ลูกค้า
B18: =Duty!B19 -> การปฏิบัติเมื่อลูกค้าเข้าพัก | F18: การสรุปรอบห้องพัก | J18: รับคืนห้อง | N18: ให้บริการข้อมูลที่ลูกค้าต้องการ | R18: การแก้ปัญหาเฉพาะหน้า
B25: ผู้วิเคราห์ | C25: =DATA!B8 -> กกกก | H25: =DATA!F8 -> กกกกกแฟฟฟ | N25: ผู้ทบทวน | R25: ผู้อนุมัติ
C26: =DATA!B10 -> 0 | H26: =DATA!F10 -> 0
C27: =DATA!B12 -> 0 | H27: =DATA!F12 -> 0
C28: =DATA!B14 -> 0 | H28: =DATA!F14 -> 0 | N28: ตำแหน่ง | O28: =DATA!F21 -> ผู้จัดการฝ่ายผลิต | R28: ตำแหน่ง | S28: =DATA!F23 -> ผู้จัดการโรงงาน
C29: =DATA!B16 -> 0 | H29: =DATA!F16 -> 0
C30: =DATA!B18 -> 0 | H30: =DATA!F18 -> 0

Sheet A1
A1: การวิเคราะห์งาน (Job Analysis : Step)
B3: สถานประกอบการ | D3: =DATA!$C$4 -> โรงแรมวังใต้ | F3: แผนก | G3: =DATA!$J$4 -> ต้อนรับ
B4: ตำแหน่งงาน | D4: =DATA!$C$5 -> พนักงานต้อนรับ | F4: วัน / เดือน / ปี ที่วิเคราะห์ | G4: =DATA!$L$5 -> 42360.481
C6: =Duty!B10 -> การเตรียมความพร้อมล่วงหน้า | F6: =Task!F7 -> ล๊อคห้องที่มีการสำรองห้องพัก
B8: ที่ | C8: ขั้นตอนการปฏิบัติงาน | D8: เครื่องมือ / วัสดุ / อุปกรณ์ | E8: ความรู้ที่ต้องใช้ | F8: คุณลักษณะ/ทัศนคติ | G8: มาตรฐาน | H8: ความปลอดภัย
D9: ที่ใช้ในการปฏิบัติงาน | E9: ในการปฏิบัติงาน | F9: ที่ต้องใช้ในการปฏิบัติงาน | G9: ในการปฏิบัติงาน | H9: ข้อควรระวัง
B10: 1 | C10: เช็ครายละเอียดใบจอง | D10: ใบจอง | E10: ภาษาไทย,อังกฤษ | F10: ความละเอียด | G10: อ่านใบจองได้อย่างถูกต้อง | H10: อย่าอ่านผิด
E11: การดูรายละเอียใบจอง | F11: ความรอบครอบ
B13: 2 | C13: ทำสลิบ | D13: กระดาษ,แผ่นพลาสติก | E13: ประเภทของสลิบ | F13: ความปรานีต | G13: เลือกอุปกรณ์ได้อย่างถูกต้อง | H13: อย่าตัดผิดขนาด
D14: กรรไกร | E14: การตัด | G14: ตัดให้ได้ขนาดตามกำหนด
B16: 3 | C16: นำสลิปใส่รูมแล็ก | D16: สลิบ | E16: ประเภทห้องในรูมแล็ก | F16: ความรอบคอบ | G16: ใส่สลิบในรูมแล็กได้ | H16: อย่าใส่สลิบผิดประเภทห้อง
D17: รูมแร็ก | G17: อย่างถูกต้อง
B19: 4
B22: 5
B25: 6
B28: 7
A31: ผู้วิเคราะห์ | C31: =IF(DATA!$B$8="","",DATA!$B$8) -> กกกก | D31: =IF(DATA!$F$8="","",DATA!$F$8) -> กกกกกแฟฟฟ | G31: ผู้ทบทวน | H31: ผู้อนุมัติ
C32: =IF(DATA!$B$10="","",DATA!$B$10) | D32: =IF(DATA!$F$10="","",DATA!$F$10)
C33: =IF(DATA!$B$12="","",DATA!$B$12) | D33: =IF(DATA!$F$12="","",DATA!$F$12) | E33: =IF(DATA!D12="","",DATA!D12) -> ภาพถ่าย | G33: =DATA!$B$21 -> นาย1 | H33: =DATA!$B$23 -> นาย2
C34: =IF(DATA!$B$14="","",DATA!$B$14) | D34: =IF(DATA!$F$14="","",DATA!$F$14) | E34: =IF(DATA!D14="","",DATA!D14) -> ภาพถ่าย
C35: =IF(DATA!$B$16="","",DATA!$B$16) | D35: =IF(DATA!$F$16="","",DATA!$F$16) | E35: =IF(DATA!D16="","",DATA!D16) -> ภาพถ่าย | G35: =DATA!$F$21 -> ผู้จัดการฝ่ายผลิต | H35: =DATA!$F$23 -> ผู้จัดการโรงงาน
C36: =IF(DATA!$B$18="","",DATA!$B$18) | D36: =IF(DATA!$F$18="","",DATA!$F$18) | E36: =IF(DATA!D18="","",DATA!D18) -> ภาพถ่าย

Sheet A2
A1: การวิเคราะห์งาน (Job Analysis : Step)
B3: สถานประกอบการ | D3: =DATA!$C$4 -> โรงแรมวังใต้ | F3: แผนก | G3: =DATA!$J$4 -> ต้อนรับ
B4: ตำแหน่งงาน | D4: =DATA!$C$5 -> พนักงานต้อนรับ | F4: วัน / เดือน / ปี ที่วิเคราะห์ | G4: =DATA!$L$5 -> 42360.481
C6: =Duty!B10 -> การเตรียมความพร้อมล่วงหน้า | F6: =Task!J7 -> เตรียมห้องสำหรับเข้าพัก
B8: ที่ | C8: ขั้นตอนการปฏิบัติงาน | D8: เครื่องมือ / วัสดุ / อุปกรณ์ | E8: ความรู้ที่ต้องใช้ | F8: คุณลักษณะ/ทัศนคติ | G8: มาตรฐาน | H8: ความปลอดภัย
D9: ที่ใช้ในการปฏิบัติงาน | E9: ในการปฏิบัติงาน | F9: ที่ต้องใช้ในการปฏิบัติงาน | G9: ในการปฏิบัติงาน | H9: ข้อควรระวัง
B10: 1 | C10: ปริ้นรายงานการจองห้องพัก | D10: ปริ้นเตอร์ | E10: ความรู้การใช้คอมพิวเตอร์ | F10: ละเอียด,รอบครอบ | G10: ใช้คอมพิวเตอร์,ปริ้นเตอร์, | H10: อย่าเลือกใบรายงนผิด
D11: คอมพิวเตอร์ | E11: ความรู้การใช้ปริ้นเตอร์ | F11: ความรับผิดชอบ | G11: โปรแกรม ได้อย่างถูกต้อง
D12: กระดาษ
B13: 2 | C13: เขียนหมายเลขห้องลงใบรายงาน | D13: ปากกา | E13: ความรู้ประเภทห้องพัก | F13: ละเอียด,รอบครอบ | G13: เขียนหมายเลขห้อง | H13: อย่าเขียนหมายเลขห้อง
D14: ใบรายงาน | G14: ลงใบรายงานได้อย่างถูกต้อง | H14: ผิด
B16: 3 | C16: นำส่งใบรายงานให้แม่บ้าน | D16: ใบรายงาน | E16: การสื่อสาร | F16: มนุษย์สัมพันธ์ที่ดี | G16: ส่งใบรายงานได้อย่างถูกต้อง | H16: อย่าส่งผิดแผนก
E17: การประสานงาน
B19: 4
B22: 5
B25: 6
B28: 7
A31: ผู้วิเคราะห์ | C31: =IF(DATA!$B$8="","",DATA!$B$8) -> กกกก | D31: =IF(DATA!$F$8="","",DATA!$F$8) -> กกกกกแฟฟฟ | G31: ผู้ทบทวน | H31: ผู้อนุมัติ
C32: =IF(DATA!$B$10="","",DATA!$B$10) | D32: =IF(DATA!$F$10="","",DATA!$F$10)
C33: =IF(DATA!$B$12="","",DATA!$B$12) | D33: =IF(DATA!$F$12="","",DATA!$F$12) | E33: =IF(DATA!D12="","",DATA!D12) -> ภาพถ่าย | G33: =DATA!$B$21 -> นาย1 | H33: =DATA!$B$23 -> นาย2
C34: =IF(DATA!$B$14="","",DATA!$B$14) | D34: =IF(DATA!$F$14="","",DATA!$F$14) | E34: =IF(DATA!D14="","",DATA!D14) -> ภาพถ่าย
C35: =IF(DATA!$B$16="","",DATA!$B$16) | D35: =IF(DATA!$F$16="","",DATA!$F$16) | E35: =IF(DATA!D16="","",DATA!D16) -> ภาพถ่าย | G35: =DATA!$F$21 -> ผู้จัดการฝ่ายผลิต | H35: =DATA!$F$23 -> ผู้จัดการโรงงาน
C36: =IF(DATA!$B$18="","",DATA!$B$18) | D36: =IF(DATA!$F$18="","",DATA!$F$18) | E36: =IF(DATA!D18="","",DATA!D18) -> ภาพถ่าย

Sheet A3
A1: การวิเคราะห์งาน (Job Analysis : Step)
B3: สถานประกอบการ | D3: =DATA!$C$4 -> โรงแรมวังใต้ | F3: แผนก | G3: =DATA!$J$4 -> ต้อนรับ
B4: ตำแหน่งงาน | D4: =DATA!$C$5 -> พนักงานต้อนรับ | F4: วัน / เดือน / ปี ที่วิเคราะห์ | G4: =DATA!$L$5 -> 42360.481
C6: =Duty!B10 -> การเตรียมความพร้อมล่วงหน้า | F6: =Task!N7 -> จัดกุญแจใส่ซอง
B8: ที่ | C8: ขั้นตอนการปฏิบัติงาน | D8: เครื่องมือ / วัสดุ / อุปกรณ์ | E8: ความรู้ที่ต้องใช้ | F8: คุณลักษณะ/ทัศนคติ | G8: มาตรฐาน | H8: ความปลอดภัย
D9: ที่ใช้ในการปฏิบัติงาน | E9: ในการปฏิบัติงาน | F9: ที่ต้องใช้ในการปฏิบัติงาน | G9: ในการปฏิบัติงาน | H9: ข้อควรระวัง
B10: 1
B13: 2
B16: 3
B19: 4
B22: 5
B25: 6
B28: 7
A31: ผู้วิเคราะห์ | C31: =IF(DATA!$B$8="","",DATA!$B$8) -> กกกก | D31: =IF(DATA!$F$8="","",DATA!$F$8) -> กกกกกแฟฟฟ | G31: ผู้ทบทวน | H31: ผู้อนุมัติ
C32: =IF(DATA!$B$10="","",DATA!$B$10) | D32: =IF(DATA!$F$10="","",DATA!$F$10)
C33: =IF(DATA!$B$12="","",DATA!$B$12) | D33: =IF(DATA!$F$12="","",DATA!$F$12) | E33: =IF(DATA!D12="","",DATA!D12) -> ภาพถ่าย | G33: =DATA!$B$21 -> นาย1 | H33: =DATA!$B$23 -> นาย2
C34: =IF(DATA!$B$14="","",DATA!$B$14) | D34: =IF(DATA!$F$14="","",DATA!$F$14) | E34: =IF(DATA!D14="","",DATA!D14) -> ภาพถ่าย
C35: =IF(DATA!$B$16="","",DATA!$B$16) | D35: =IF(DATA!$F$16="","",DATA!$F$16) | E35: =IF(DATA!D16="","",DATA!D16) -> ภาพถ่าย | G35: =DATA!$F$21 -> ผู้จัดการฝ่ายผลิต | H35: =DATA!$F$23 -> ผู้จัดการโรงงาน
C36: =IF(DATA!$B$18="","",DATA!$B$18) | D36: =IF(DATA!$F$18="","",DATA!$F$18) | E36: =IF(DATA!D18="","",DATA!D18) -> ภาพถ่าย

Sheet A4
A1: การวิเคราะห์งาน (Job Analysis : Step)
B3: สถานประกอบการ | D3: =DATA!$C$4 -> โรงแรมวังใต้ | F3: แผนก | G3: =DATA!$J$4 -> ต้อนรับ
B4: ตำแหน่งงาน | D4: =DATA!$C$5 -> พนักงานต้อนรับ | F4: วัน / เดือน / ปี ที่วิเคราะห์ | G4: =DATA!$L$5 -> 42360.481
C6: =Duty!B10 -> การเตรียมความพร้อมล่วงหน้า | F6: =Task!R7 -> เตรียมใบลงทะเบียนเข้าพัก
B8: ที่ | C8: ขั้นตอนการปฏิบัติงาน | D8: เครื่องมือ / วัสดุ / อุปกรณ์ | E8: ความรู้ที่ต้องใช้ | F8: คุณลักษณะ/ทัศนคติ | G8: มาตรฐาน | H8: ความปลอดภัย
D9: ที่ใช้ในการปฏิบัติงาน | E9: ในการปฏิบัติงาน | F9: ที่ต้องใช้ในการปฏิบัติงาน | G9: ในการปฏิบัติงาน | H9: ข้อควรระวัง
B10: 1
B13: 2
B16: 3
B19: 4
B22: 5
B25: 6
B28: 7
A31: ผู้วิเคราะห์ | C31: =IF(DATA!$B$8="","",DATA!$B$8) -> กกกก | D31: =IF(DATA!$F$8="","",DATA!$F$8) -> กกกกกแฟฟฟ | G31: ผู้ทบทวน | H31: ผู้อนุมัติ
C32: =IF(DATA!$B$10="","",DATA!$B$10) | D32: =IF(DATA!$F$10="","",DATA!$F$10)
C33: =IF(DATA!$B$12="","",DATA!$B$12) | D33: =IF(DATA!$F$12="","",DATA!$F$12) | E33: =IF(DATA!D12="","",DATA!D12) -> ภาพถ่าย | G33: =DATA!$B$21 -> นาย1 | H33: =DATA!$B$23 -> นาย2
C34: =IF(DATA!$B$14="","",DATA!$B$14) | D34: =IF(DATA!$F$14="","",DATA!$F$14) | E34: =IF(DATA!D14="","",DATA!D14) -> ภาพถ่าย
C35: =IF(DATA!$B$16="","",DATA!$B$16) | D35: =IF(DATA!$F$16="","",DATA!$F$16) | E35: =IF(DATA!D16="","",DATA!D16) -> ภาพถ่าย | G35: =DATA!$F$21 -> ผู้จัดการฝ่ายผลิต | H35: =DATA!$F$23 -> ผู้จัดการโรงงาน
C36: =IF(DATA!$B$18="","",DATA!$B$18) | D36: =IF(DATA!$F$18="","",DATA!$F$18) | E36: =IF(DATA!D18="","",DATA!D18) -> ภาพถ่าย

Sheet B1
A1: การวิเคราะห์งาน (Job Analysis : Step)
B3: สถานประกอบการ | D3: =DATA!$C$4 -> โรงแรมวังใต้ | F3: แผนก | G3: =DATA!$J$4 -> ต้อนรับ
B4: ตำแหน่งงาน | D4: =DATA!$C$5 -> พนักงานต้อนรับ | F4: วัน / เดือน / ปี ที่วิเคราะห์ | G4: =DATA!$L$5 -> 42360.481
C6: =Task!B10 -> การต้อนรับลูกค้า | F6: =Task!F10 -> การเสนอขายห้องพัก
B8: ที่ | C8: ขั้นตอนการปฏิบัติงาน | D8: เครื่องมือ / วัสดุ / อุปกรณ์ | E8: ความรู้ที่ต้องใช้ | F8: คุณลักษณะ/ทัศนคติ | G8: มาตรฐาน | H8: ความปลอดภัย
D9: ที่ใช้ในการปฏิบัติงาน | E9: ในการปฏิบัติงาน | F9: ที่ต้องใช้ในการปฏิบัติงาน | G9: ในการปฏิบัติงาน | H9: ข้อควรระวัง
B10: 1 | C10: ตรวจเช็คห้องว่างจากรูมแล็ก | D10: รูมแล็ก | E10: ประเภทห้องพัก | F10: ความรอบครอบ | G10: ตรวจเช็คได้อย่างถูกต้อง | H10: อย่าตรวจประเภทห้องผิด
E11: สัญลักษณ์ที่รูมแล็ก
B13: 2 | C13: แนะนำประเภทห้องและราคา | D13: รูมแล็ก | E13: ประเภทห้องพัก | F13: รักงานบริการ | G13: แนะนำประเภทห้องได้อย่าง | H13: อย่าแนะนำผิดห้อง
E14: สัญลักษณ์ที่รูมแล็ก | F14: มนุษย์สัมพันธ์ที่ดี | G14: ถูกต้อง
B16: 3
B19: 4
B22: 5
B25: 6
B28: 7
A31: ผู้วิเคราะห์ | C31: =IF(DATA!$B$8="","",DATA!$B$8) -> กกกก | D31: =IF(DATA!$F$8="","",DATA!$F$8) -> กกกกกแฟฟฟ | G31: ผู้ทบทวน | H31: ผู้อนุมัติ
C32: =IF(DATA!$B$10="","",DATA!$B$10) | D32: =IF(DATA!$F$10="","",DATA!$F$10)
C33: =IF(DATA!$B$12="","",DATA!$B$12) | D33: =IF(DATA!$F$12="","",DATA!$F$12) | E33: =IF(DATA!D12="","",DATA!D12) -> ภาพถ่าย | G33: =DATA!$B$21 -> นาย1 | H33: =DATA!$B$23 -> นาย2
C34: =IF(DATA!$B$14="","",DATA!$B$14) | D34: =IF(DATA!$F$14="","",DATA!$F$14) | E34: =IF(DATA!D14="","",DATA!D14) -> ภาพถ่าย
C35: =IF(DATA!$B$16="","",DATA!$B$16) | D35: =IF(DATA!$F$16="","",DATA!$F$16) | E35: =IF(DATA!D16="","",DATA!D16) -> ภาพถ่าย | G35: =DATA!$F$21 -> ผู้จัดการฝ่ายผลิต | H35: =DATA!$F$23 -> ผู้จัดการโรงงาน
C36: =IF(DATA!$B$18="","",DATA!$B$18) | D36: =IF(DATA!$F$18="","",DATA!$F$18) | E36: =IF(DATA!D18="","",DATA!D18) -> ภาพถ่าย

Sheet B2
A1: การวิเคราะห์งาน (Job Analysis : Step)
B3: สถานประกอบการ | D3: =DATA!$C$4 -> โรงแรมวังใต้ | F3: แผนก | G3: =DATA!$J$4 -> ต้อนรับ
B4: ตำแหน่งงาน | D4: =DATA!$C$5 -> พนักงานต้อนรับ | F4: วัน / เดือน / ปี ที่วิเคราะห์ | G4: =DATA!$L$5 -> 42360.481
C6: =Task!B10 -> การต้อนรับลูกค้า | F6: =Task!J10 -> ทักทายและสอบถามลูกค้า
B8: ที่ | C8: ขั้นตอนการปฏิบัติงาน | D8: เครื่องมือ / วัสดุ / อุปกรณ์ | E8: ความรู้ที่ต้องใช้ | F8: คุณลักษณะ/ทัศนคติ | G8: มาตรฐาน | H8: ความปลอดภัย
D9: ที่ใช้ในการปฏิบัติงาน | E9: ในการปฏิบัติงาน | F9: ที่ต้องใช้ในการปฏิบัติงาน | G9: ในการปฏิบัติงาน | H9: ข้อควรระวัง
B10: 1 | C10: ทักทายลูกค้า | D10: ตัวพนักงานต้อนรับ | E10: มารยาทการทักทาย | F10: มนุษย์สัมพันธ์ | G10: ใช้ภาษาได้อย่างถูกต้อง | H10: ระวังเรื่องภาษา
E11: ภาษา | F11: ใจรักบริการ | G11: ทักทายได้ตรงตามมารฐาน | H11: วาจาสุภาพ
B13: 2 | C13: สอบถามลูกค้า | D13: ลูกค้า | E13: ภาษา | F13: มนุษย์สัมพันธ์ | G13: ใช้ภาษาและสื่อสารร | H13: อย่าสื่อสารผิด
D14: พนักงานต้อนรับ | E14: การสื่อสาร | F14: ใจรักบริการ | G14: ได้อย่างถูกต้อง
B16: 3 | C16: ตอบคำถามครับ | D16: แผ่นพับแนะนำการท่องเที่ยว | E16: แหล่งท่องเที่ยว | F16: ใฝ่รู้ | G16: ถูกต้อง | H16: อย่าให้ข้อมูลผิดแก่ลูกค้า
E17: ความรู้รอบตัว | F17: มนุษย์สัมพันธ์ | G17: รวดเร็ว
G18: ครบถ้วน
B19: 4
B22: 5
B25: 6
B28: 7
A31: ผู้วิเคราะห์ | C31: =IF(DATA!$B$8="","",DATA!$B$8) -> กกกก | D31: =IF(DATA!$F$8="","",DATA!$F$8) -> กกกกกแฟฟฟ | G31: ผู้ทบทวน | H31: ผู้อนุมัติ
C32: =IF(DATA!$B$10="","",DATA!$B$10) | D32: =IF(DATA!$F$10="","",DATA!$F$10)
C33: =IF(DATA!$B$12="","",DATA!$B$12) | D33: =IF(DATA!$F$12="","",DATA!$F$12) | E33: =IF(DATA!D12="","",DATA!D12) -> ภาพถ่าย | G33: =DATA!$B$21 -> นาย1 | H33: =DATA!$B$23 -> นาย2
C34: =IF(DATA!$B$14="","",DATA!$B$14) | D34: =IF(DATA!$F$14="","",DATA!$F$14) | E34: =IF(DATA!D14="","",DATA!D14) -> ภาพถ่าย
C35: =IF(DATA!$B$16="","",DATA!$B$16) | D35: =IF(DATA!$F$16="","",DATA!$F$16) | E35: =IF(DATA!D16="","",DATA!D16) -> ภาพถ่าย | G35: =DATA!$F$21 -> ผู้จัดการฝ่ายผลิต | H35: =DATA!$F$23 -> ผู้จัดการโรงงาน
C36: =IF(DATA!$B$18="","",DATA!$B$18) | D36: =IF(DATA!$F$18="","",DATA!$F$18) | E36: =IF(DATA!D18="","",DATA!D18) -> ภาพถ่าย

Sheet C1
A1: การวิเคราะห์งาน (Job Analysis : Step)
B3: สถานประกอบการ | D3: =DATA!$C$4 -> โรงแรมวังใต้ | F3: แผนก | G3: =DATA!$J$4 -> ต้อนรับ
B4: ตำแหน่งงาน | D4: =DATA!$C$5 -> พนักงานต้อนรับ | F4: วัน / เดือน / ปี ที่วิเคราะห์ | G4: =DATA!$L$5 -> 42360.481
C6: =Duty!B16 -> การเช็คอิน | F6: =Task!F13 -> ลงทะเบียนการเข้าห้องพัก
B8: ที่ | C8: ขั้นตอนการปฏิบัติงาน | D8: เครื่องมือ / วัสดุ / อุปกรณ์ | E8: ความรู้ที่ต้องใช้ | F8: คุณลักษณะ/ทัศนคติ | G8: มาตรฐาน | H8: ความปลอดภัย
D9: ที่ใช้ในการปฏิบัติงาน | E9: ในการปฏิบัติงาน | F9: ที่ต้องใช้ในการปฏิบัติงาน | G9: ในการปฏิบัติงาน | H9: ข้อควรระวัง
B10: 1 | C10: นำใบลงทะเบียนให้ลูกค้ากรอก | D10: ใบลงทะเบียน | E10: ภาษา | F10: รักการบริการ | G10: ความถูกต้อง ครบถ้วน
D11: ปากกา | E11: รายละเอียดใบลงทะเบียน | F11: มนุษย์สัมพันธ์ที่ดี
B13: 2 | C13: ถ่ายสำเนาบัตรประชาชนหรือ | D13: เครื่องถ่ายเอกสาร | E13: การใช้เครื่องถ่ายเอกสาร | F13: ความละเอียด รอบครอบ | G13: คมชัดของเอกสาร | H13: ระวังเอกสารสูญหาย
C14: บัตรที่ทางราชการออกให้ของลูกค้า | D14: บัตรที่ทางราชการออกให้ | F14: ประนีต
B16: 3 | C16: รูดสลิบที่รูมแล็ก | D16: รูมแล็ก | E16: ความรู้เรื่องรูมแล็ก | F16: ความละเอียด รอบครอบ | G16: รูดสลิบที่รูมแล็กถูกต้อง | H16: อย่ารูดสลิบผิดห้อง
B19: 4 | C19: มอบคูปองพร้อมอาหารเช้า | D19: ลูกกุญแจ | E19: ประเภทห้อง | F19: ความละเอียด รอบครอบ | G19: มอบคูปองพร้อมอาหารเช้า | H19: อย่ามอบกุญแจผิดห้อง
D20: คูปองอาหารเช้า | E20: ประเภทคูปอง | G20: ถูกต้อง
B22: 5 | C22: ตรวจใบลงทะเบียน | D22: ใบลงทะเบียน | E22: ภาษา | F22: ความละเอียด รอบครอบ | G22: ถูกต้อง | H22: ข้อมูลไม่ครบถ้วน
B25: 6 | C25: บันทึกข้อมูลจากใบลงทะเบียน | D25: คอมพิวเตอร์ | E25: คอมพิวเตอร์ | F25: ความละเอียด รอบครอบ | G25: ถูกต้อง | H25: อย่าคีย์ข้อมูลผิด
D26: ใบลงทะเบียน | E26: โปรแกรม | G26: ครบถ้วน | H26: คีย์ข้อมูลให้ครบถ้วน
D27: โปรแกรม
B28: 7
A31: ผู้วิเคราะห์ | C31: =IF(DATA!$B$8="","",DATA!$B$8) -> กกกก | D31: =IF(DATA!$F$8="","",DATA!$F$8) -> กกกกกแฟฟฟ | G31: ผู้ทบทวน | H31: ผู้อนุมัติ
C32: =IF(DATA!$B$10="","",DATA!$B$10) | D32: =IF(DATA!$F$10="","",DATA!$F$10)
C33: =IF(DATA!$B$12="","",DATA!$B$12) | D33: =IF(DATA!$F$12="","",DATA!$F$12) | E33: =IF(DATA!D12="","",DATA!D12) -> ภาพถ่าย | G33: =DATA!$B$21 -> นาย1 | H33: =DATA!$B$23 -> นาย2
C34: =IF(DATA!$B$14="","",DATA!$B$14) | D34: =IF(DATA!$F$14="","",DATA!$F$14) | E34: =IF(DATA!D14="","",DATA!D14) -> ภาพถ่าย
C35: =IF(DATA!$B$16="","",DATA!$B$16) | D35: =IF(DATA!$F$16="","",DATA!$F$16) | E35: =IF(DATA!D16="","",DATA!D16) -> ภาพถ่าย | G35: =DATA!$F$21 -> ผู้จัดการฝ่ายผลิต | H35: =DATA!$F$23 -> ผู้จัดการโรงงาน
C36: =IF(DATA!$B$18="","",DATA!$B$18) | D36: =IF(DATA!$F$18="","",DATA!$F$18) | E36: =IF(DATA!D18="","",DATA!D18) -> ภาพถ่าย

Sheet C2
A1: การวิเคราะห์งาน (Job Analysis : Step)
B3: สถานประกอบการ | D3: =DATA!$C$4 -> โรงแรมวังใต้ | F3: แผนก | G3: =DATA!$J$4 -> ต้อนรับ
B4: ตำแหน่งงาน | D4: =DATA!$C$5 -> พนักงานต้อนรับ | F4: วัน / เดือน / ปี ที่วิเคราะห์ | G4: =DATA!$L$5 -> 42360.481
C6: =Duty!B16 -> การเช็คอิน | F6: =Task!J13 -> ให้ข้อมูลสินค้าและ การบริการแก่ลูกค้า
B8: ที่ | C8: ขั้นตอนการปฏิบัติงาน | D8: เครื่องมือ / วัสดุ / อุปกรณ์ | E8: ความรู้ที่ต้องใช้ | F8: คุณลักษณะ/ทัศนคติ | G8: มาตรฐาน | H8: ความปลอดภัย
D9: ที่ใช้ในการปฏิบัติงาน | E9: ในการปฏิบัติงาน | F9: ที่ต้องใช้ในการปฏิบัติงาน | G9: ในการปฏิบัติงาน | H9: ข้อควรระวัง
B10: 1
B13: 2
B16: 3
B19: 4
B22: 5
B25: 6
B28: 7
A31: ผู้วิเคราะห์ | C31: =IF(DATA!$B$8="","",DATA!$B$8) -> กกกก | D31: =IF(DATA!$F$8="","",DATA!$F$8) -> กกกกกแฟฟฟ | G31: ผู้ทบทวน | H31: ผู้อนุมัติ
C32: =IF(DATA!$B$10="","",DATA!$B$10) | D32: =IF(DATA!$F$10="","",DATA!$F$10)
C33: =IF(DATA!$B$12="","",DATA!$B$12) | D33: =IF(DATA!$F$12="","",DATA!$F$12) | E33: =IF(DATA!D12="","",DATA!D12) -> ภาพถ่าย | G33: =DATA!$B$21 -> นาย1 | H33: =DATA!$B$23 -> นาย2
C34: =IF(DATA!$B$14="","",DATA!$B$14) | D34: =IF(DATA!$F$14="","",DATA!$F$14) | E34: =IF(DATA!D14="","",DATA!D14) -> ภาพถ่าย
C35: =IF(DATA!$B$16="","",DATA!$B$16) | D35: =IF(DATA!$F$16="","",DATA!$F$16) | E35: =IF(DATA!D16="","",DATA!D16) -> ภาพถ่าย | G35: =DATA!$F$21 -> ผู้จัดการฝ่ายผลิต | H35: =DATA!$F$23 -> ผู้จัดการโรงงาน
C36: =IF(DATA!$B$18="","",DATA!$B$18) | D36: =IF(DATA!$F$18="","",DATA!$F$18) | E36: =IF(DATA!D18="","",DATA!D18) -> ภาพถ่าย

Sheet C3
A1: การวิเคราะห์งาน (Job Analysis : Step)
B3: สถานประกอบการ | D3: =DATA!$C$4 -> โรงแรมวังใต้ | F3: แผนก | G3: =DATA!$J$4 -> ต้อนรับ
B4: ตำแหน่งงาน | D4: =DATA!$C$5 -> พนักงานต้อนรับ | F4: วัน / เดือน / ปี ที่วิเคราะห์ | G4: =DATA!$L$5 -> 42360.481
C6: =Duty!B16 -> การเช็คอิน | F6: =Task!N13
B8: ที่ | C8: ขั้นตอนการปฏิบัติงาน | D8: เครื่องมือ / วัสดุ / อุปกรณ์ | E8: ความรู้ที่ต้องใช้ | F8: คุณลักษณะ/ทัศนคติ | G8: มาตรฐาน | H8: ความปลอดภัย
D9: ที่ใช้ในการปฏิบัติงาน | E9: ในการปฏิบัติงาน | F9: ที่ต้องใช้ในการปฏิบัติงาน | G9: ในการปฏิบัติงาน | H9: ข้อควรระวัง
B10: 1
B13: 2
B16: 3
B19: 4
B22: 5
B25: 6
B28: 7
A31: ผู้วิเคราะห์ | C31: =IF(DATA!$B$8="","",DATA!$B$8) -> กกกก | D31: =IF(DATA!$F$8="","",DATA!$F$8) -> กกกกกแฟฟฟ | G31: ผู้ทบทวน | H31: ผู้อนุมัติ
C32: =IF(DATA!$B$10="","",DATA!$B$10) | D32: =IF(DATA!$F$10="","",DATA!$F$10)
C33: =IF(DATA!$B$12="","",DATA!$B$12) | D33: =IF(DATA!$F$12="","",DATA!$F$12) | E33: =IF(DATA!D12="","",DATA!D12) -> ภาพถ่าย | G33: =DATA!$B$21 -> นาย1 | H33: =DATA!$B$23 -> นาย2
C34: =IF(DATA!$B$14="","",DATA!$B$14) | D34: =IF(DATA!$F$14="","",DATA!$F$14) | E34: =IF(DATA!D14="","",DATA!D14) -> ภาพถ่าย
C35: =IF(DATA!$B$16="","",DATA!$B$16) | D35: =IF(DATA!$F$16="","",DATA!$F$16) | E35: =IF(DATA!D16="","",DATA!D16) -> ภาพถ่าย | G35: =DATA!$F$21 -> ผู้จัดการฝ่ายผลิต | H35: =DATA!$F$23 -> ผู้จัดการโรงงาน
C36: =IF(DATA!$B$18="","",DATA!$B$18) | D36: =IF(DATA!$F$18="","",DATA!$F$18) | E36: =IF(DATA!D18="","",DATA!D18) -> ภาพถ่าย

Sheet C4
A1: การวิเคราะห์งาน (Job Analysis : Step)
B3: สถานประกอบการ | D3: =DATA!$C$4 -> โรงแรมวังใต้ | F3: แผนก | G3: =DATA!$J$4 -> ต้อนรับ
B4: ตำแหน่งงาน | D4: =DATA!$C$5 -> พนักงานต้อนรับ | F4: วัน / เดือน / ปี ที่วิเคราะห์ | G4: =DATA!$L$5 -> 42360.481
C6: =Duty!B16 -> การเช็คอิน | F6: =Task!R13
B8: ที่ | C8: ขั้นตอนการปฏิบัติงาน | D8: เครื่องมือ / วัสดุ / อุปกรณ์ | E8: ความรู้ที่ต้องใช้ | F8: คุณลักษณะ/ทัศนคติ | G8: มาตรฐาน | H8: ความปลอดภัย
D9: ที่ใช้ในการปฏิบัติงาน | E9: ในการปฏิบัติงาน | F9: ที่ต้องใช้ในการปฏิบัติงาน | G9: ในการปฏิบัติงาน | H9: ข้อควรระวัง
B10: 1
B13: 2
B16: 3
B19: 4
B22: 5
B25: 6
B28: 7
A31: ผู้วิเคราะห์ | C31: =IF(DATA!$B$8="","",DATA!$B$8) -> กกกก | D31: =IF(DATA!$F$8="","",DATA!$F$8) -> กกกกกแฟฟฟ | G31: ผู้ทบทวน | H31: ผู้อนุมัติ
C32: =IF(DATA!$B$10="","",DATA!$B$10) | D32: =IF(DATA!$F$10="","",DATA!$F$10)
C33: =IF(DATA!$B$12="","",DATA!$B$12) | D33: =IF(DATA!$F$12="","",DATA!$F$12) | E33: =IF(DATA!D12="","",DATA!D12) -> ภาพถ่าย | G33: =DATA!$B$21 -> นาย1 | H33: =DATA!$B$23 -> นาย2
C34: =IF(DATA!$B$14="","",DATA!$B$14) | D34: =IF(DATA!$F$14="","",DATA!$F$14) | E34: =IF(DATA!D14="","",DATA!D14) -> ภาพถ่าย
C35: =IF(DATA!$B$16="","",DATA!$B$16) | D35: =IF(DATA!$F$16="","",DATA!$F$16) | E35: =IF(DATA!D16="","",DATA!D16) -> ภาพถ่าย | G35: =DATA!$F$21 -> ผู้จัดการฝ่ายผลิต | H35: =DATA!$F$23 -> ผู้จัดการโรงงาน
C36: =IF(DATA!$B$18="","",DATA!$B$18) | D36: =IF(DATA!$F$18="","",DATA!$F$18) | E36: =IF(DATA!D18="","",DATA!D18) -> ภาพถ่าย

Sheet C5
A1: การวิเคราะห์งาน (Job Analysis : Step)
B3: สถานประกอบการ | D3: =DATA!$C$4 -> โรงแรมวังใต้ | F3: แผนก | G3: =DATA!$J$4 -> ต้อนรับ
B4: ตำแหน่งงาน | D4: =DATA!$C$5 -> พนักงานต้อนรับ | F4: วัน / เดือน / ปี ที่วิเคราะห์ | G4: =DATA!$L$5 -> 42360.481
C6: =Duty!B16 -> การเช็คอิน | F6: =task!#REF! -> #VALUE!
B8: ที่ | C8: ขั้นตอนการปฏิบัติงาน | D8: เครื่องมือ / วัสดุ / อุปกรณ์ | E8: ความรู้ที่ต้องใช้ | F8: คุณลักษณะ/ทัศนคติ | G8: มาตรฐาน | H8: ความปลอดภัย
D9: ที่ใช้ในการปฏิบัติงาน | E9: ในการปฏิบัติงาน | F9: ที่ต้องใช้ในการปฏิบัติงาน | G9: ในการปฏิบัติงาน | H9: ข้อควรระวัง
B10: 1
B13: 2
B16: 3
B19: 4
B22: 5
B25: 6
B28: 7
A31: ผู้วิเคราะห์ | C31: =IF(DATA!$B$8="","",DATA!$B$8) -> กกกก | D31: =IF(DATA!$F$8="","",DATA!$F$8) -> กกกกกแฟฟฟ | G31: ผู้ทบทวน | H31: ผู้อนุมัติ
C32: =IF(DATA!$B$10="","",DATA!$B$10) | D32: =IF(DATA!$F$10="","",DATA!$F$10)
C33: =IF(DATA!$B$12="","",DATA!$B$12) | D33: =IF(DATA!$F$12="","",DATA!$F$12) | E33: =IF(DATA!D12="","",DATA!D12) -> ภาพถ่าย | G33: =DATA!$B$21 -> นาย1 | H33: =DATA!$B$23 -> นาย2
C34: =IF(DATA!$B$14="","",DATA!$B$14) | D34: =IF(DATA!$F$14="","",DATA!$F$14) | E34: =IF(DATA!D14="","",DATA!D14) -> ภาพถ่าย
C35: =IF(DATA!$B$16="","",DATA!$B$16) | D35: =IF(DATA!$F$16="","",DATA!$F$16) | E35: =IF(DATA!D16="","",DATA!D16) -> ภาพถ่าย | G35: =DATA!$F$21 -> ผู้จัดการฝ่ายผลิต | H35: =DATA!$F$23 -> ผู้จัดการโรงงาน
C36: =IF(DATA!$B$18="","",DATA!$B$18) | D36: =IF(DATA!$F$18="","",DATA!$F$18) | E36: =IF(DATA!D18="","",DATA!D18) -> ภาพถ่าย

Sheet C6
A1: การวิเคราะห์งาน (Job Analysis : Step)
B3: สถานประกอบการ | D3: =DATA!$C$4 -> โรงแรมวังใต้ | F3: แผนก | G3: =DATA!$J$4 -> ต้อนรับ
B4: ตำแหน่งงาน | D4: =DATA!$C$5 -> พนักงานต้อนรับ | F4: วัน / เดือน / ปี ที่วิเคราะห์ | G4: =DATA!$L$5 -> 42360.481
C6: =Duty!B16 -> การเช็คอิน | F6: =task!#REF! -> #VALUE!
B8: ที่ | C8: ขั้นตอนการปฏิบัติงาน | D8: เครื่องมือ / วัสดุ / อุปกรณ์ | E8: ความรู้ที่ต้องใช้ | F8: คุณลักษณะ/ทัศนคติ | G8: มาตรฐาน | H8: ความปลอดภัย
D9: ที่ใช้ในการปฏิบัติงาน | E9: ในการปฏิบัติงาน | F9: ที่ต้องใช้ในการปฏิบัติงาน | G9: ในการปฏิบัติงาน | H9: ข้อควรระวัง
B10: 1
B13: 2
B16: 3
B19: 4
B22: 5
B25: 6
B28: 7
A31: ผู้วิเคราะห์ | C31: =IF(DATA!$B$8="","",DATA!$B$8) -> กกกก | D31: =IF(DATA!$F$8="","",DATA!$F$8) -> กกกกกแฟฟฟ | G31: ผู้ทบทวน | H31: ผู้อนุมัติ
C32: =IF(DATA!$B$10="","",DATA!$B$10) | D32: =IF(DATA!$F$10="","",DATA!$F$10)
C33: =IF(DATA!$B$12="","",DATA!$B$12) | D33: =IF(DATA!$F$12="","",DATA!$F$12) | E33: =IF(DATA!D12="","",DATA!D12) -> ภาพถ่าย | G33: =DATA!$B$21 -> นาย1 | H33: =DATA!$B$23 -> นาย2
C34: =IF(DATA!$B$14="","",DATA!$B$14) | D34: =IF(DATA!$F$14="","",DATA!$F$14) | E34: =IF(DATA!D14="","",DATA!D14) -> ภาพถ่าย
C35: =IF(DATA!$B$16="","",DATA!$B$16) | D35: =IF(DATA!$F$16="","",DATA!$F$16) | E35: =IF(DATA!D16="","",DATA!D16) -> ภาพถ่าย | G35: =DATA!$F$21 -> ผู้จัดการฝ่ายผลิต | H35: =DATA!$F$23 -> ผู้จัดการโรงงาน
C36: =IF(DATA!$B$18="","",DATA!$B$18) | D36: =IF(DATA!$F$18="","",DATA!$F$18) | E36: =IF(DATA!D18="","",DATA!D18) -> ภาพถ่าย

Sheet D1
A1: การวิเคราะห์งาน (Job Analysis : Step)
B3: สถานประกอบการ | D3: =DATA!$C$4 -> โรงแรมวังใต้ | F3: แผนก | G3: =DATA!$J$4 -> ต้อนรับ
B4: ตำแหน่งงาน | D4: =DATA!$C$5 -> พนักงานต้อนรับ | F4: วัน / เดือน / ปี ที่วิเคราะห์ | G4: =DATA!$L$5 -> 42360.481
C6: =Duty!B19 -> การปฏิบัติเมื่อลูกค้าเข้าพัก | F6: =Task!F18 -> การสรุปรอบห้องพัก
B8: ที่ | C8: ขั้นตอนการปฏิบัติงาน | D8: เครื่องมือ / วัสดุ / อุปกรณ์ | E8: ความรู้ที่ต้องใช้ | F8: คุณลักษณะ/ทัศนคติ | G8: มาตรฐาน | H8: ความปลอดภัย
D9: ที่ใช้ในการปฏิบัติงาน | E9: ในการปฏิบัติงาน | F9: ที่ต้องใช้ในการปฏิบัติงาน | G9: ในการปฏิบัติงาน | H9: ข้อควรระวัง
B10: 1 | C10: เช็คข้อมูลการเข้าพักจากคอมพิวเตอร์ | D10: คอมพิวเตอร์ | E10: คอมพิวเตอร์ | F10: ความละเอียดรอบครอบ | G10: ตรวจสอบข้อมูลได้อย่าง | H10: ระวังความผิดพลาดของ
E11: ภาษา | G11: ถูกต้อง | H11: ข้อมูล
B13: 2 | C13: ตรวจสอบข้อมูลกับแคชเชียร์ | D13: คอมพิวเตอร์ | E13: คอมพิวเตอร์ | F13: ความละเอียดรอบครอบ | G13: ตรวจสอบข้อมูลได้อย่าง | H13: ระวังความผิดพลาดของ
E14: ภาษา | G14: ถูกต้อง | H14: ข้อมูล
B16: 3 | C16: ส่งข้อมูลที่ตรวจสอบแล้วให้ ผจก.ฝ่ายต้อนรับ | D16: ใบข้อมูล | E16: การประสานงาน | F16: มนุษย์สัมพันธ์ที่ดี | G16: ประสานงานได้อย่างถูกต้อง | H16: ประสานงานไม่ถูกต้อง
C17: และฝ่ายบัญชี | E17: ติดต่อสื่อสาร | G17: ครบถ้วน
B19: 4
B22: 5
B25: 6
B28: 7
A31: ผู้วิเคราะห์ | C31: =IF(DATA!$B$8="","",DATA!$B$8) -> กกกก | D31: =IF(DATA!$F$8="","",DATA!$F$8) -> กกกกกแฟฟฟ | G31: ผู้ทบทวน | H31: ผู้อนุมัติ
C32: =IF(DATA!$B$10="","",DATA!$B$10) | D32: =IF(DATA!$F$10="","",DATA!$F$10)
C33: =IF(DATA!$B$12="","",DATA!$B$12) | D33: =IF(DATA!$F$12="","",DATA!$F$12) | E33: =IF(DATA!D12="","",DATA!D12) -> ภาพถ่าย | G33: =DATA!$B$21 -> นาย1 | H33: =DATA!$B$23 -> นาย2
C34: =IF(DATA!$B$14="","",DATA!$B$14) | D34: =IF(DATA!$F$14="","",DATA!$F$14) | E34: =IF(DATA!D14="","",DATA!D14) -> ภาพถ่าย
C35: =IF(DATA!$B$16="","",DATA!$B$16) | D35: =IF(DATA!$F$16="","",DATA!$F$16) | E35: =IF(DATA!D16="","",DATA!D16) -> ภาพถ่าย | G35: =DATA!$F$21 -> ผู้จัดการฝ่ายผลิต | H35: =DATA!$F$23 -> ผู้จัดการโรงงาน
C36: =IF(DATA!$B$18="","",DATA!$B$18) | D36: =IF(DATA!$F$18="","",DATA!$F$18) | E36: =IF(DATA!D18="","",DATA!D18) -> ภาพถ่าย

Sheet D2
A1: การวิเคราะห์งาน (Job Analysis : Step)
B3: สถานประกอบการ | D3: =DATA!$C$4 -> โรงแรมวังใต้ | F3: แผนก | G3: =DATA!$J$4 -> ต้อนรับ
B4: ตำแหน่งงาน | D4: =DATA!$C$5 -> พนักงานต้อนรับ | F4: วัน / เดือน / ปี ที่วิเคราะห์ | G4: =DATA!$L$5 -> 42360.481
C6: =Duty!B19 -> การปฏิบัติเมื่อลูกค้าเข้าพัก | F6: =Task!J18 -> รับคืนห้อง
F7: =Duty!B19 -> การปฏิบัติเมื่อลูกค้าเข้าพัก
B8: ที่ | C8: ขั้นตอนการปฏิบัติงาน | D8: เครื่องมือ / วัสดุ / อุปกรณ์ | E8: ความรู้ที่ต้องใช้ | F8: คุณลักษณะ/ทัศนคติ | G8: มาตรฐาน | H8: ความปลอดภัย
D9: ที่ใช้ในการปฏิบัติงาน | E9: ในการปฏิบัติงาน | F9: ที่ต้องใช้ในการปฏิบัติงาน | G9: ในการปฏิบัติงาน | H9: ข้อควรระวัง
B10: 1 | C10: รับมอบกุญแจห้องพักจากลูกค้า | D10: กุญแจห้องพัก | E10: ประเภทของห้องพักแบบต่างๆ | F10: มนุษย์สัมพันธ์ที่ดี | G10: รับมอบกุญแจได้อย่างถูกต้อง | H10: ระวังกุญแจสูญหาย
F11: ใจรักงานบริการ | G11: ครบถ้วน
B13: 2 | C13: ส่งกุญแจให้แคชเชียร์เพื่อตรวจสอบค่าใช้จ่าย | D13: กุญแจห้องหัก | E13: การติดต่อประสานงาน | F13: มนุษย์สัมพันธ์ที่ดี | G13: ส่งมอบกุญแจได้อย่างถูกต้อง | H13: ระวังกุญแจสูญหาย
B16: 3
B19: 4
B22: 5
B25: 6
B28: 7
A31: ผู้วิเคราะห์ | C31: =IF(DATA!$B$8="","",DATA!$B$8) -> กกกก | D31: =IF(DATA!$F$8="","",DATA!$F$8) -> กกกกกแฟฟฟ | G31: ผู้ทบทวน | H31: ผู้อนุมัติ
C32: =IF(DATA!$B$10="","",DATA!$B$10) | D32: =IF(DATA!$F$10="","",DATA!$F$10)
C33: =IF(DATA!$B$12="","",DATA!$B$12) | D33: =IF(DATA!$F$12="","",DATA!$F$12) | E33: =IF(DATA!D12="","",DATA!D12) -> ภาพถ่าย | G33: =DATA!$B$21 -> นาย1 | H33: =DATA!$B$23 -> นาย2
C34: =IF(DATA!$B$14="","",DATA!$B$14) | D34: =IF(DATA!$F$14="","",DATA!$F$14) | E34: =IF(DATA!D14="","",DATA!D14) -> ภาพถ่าย
C35: =IF(DATA!$B$16="","",DATA!$B$16) | D35: =IF(DATA!$F$16="","",DATA!$F$16) | E35: =IF(DATA!D16="","",DATA!D16) -> ภาพถ่าย | G35: =DATA!$F$21 -> ผู้จัดการฝ่ายผลิต | H35: =DATA!$F$23 -> ผู้จัดการโรงงาน
C36: =IF(DATA!$B$18="","",DATA!$B$18) | D36: =IF(DATA!$F$18="","",DATA!$F$18) | E36: =IF(DATA!D18="","",DATA!D18) -> ภาพถ่าย

Sheet D3
A1: การวิเคราะห์งาน (Job Analysis : Step)
B3: สถานประกอบการ | F3: แผนก
B4: ตำแหน่งงาน | F4: วัน / เดือน / ปี ที่วิเคราะห์
C6: =Duty!B19 -> การปฏิบัติเมื่อลูกค้าเข้าพัก | F6: =Task!N18 -> ให้บริการข้อมูลที่ลูกค้าต้องการ
B8: ที่ | C8: ขั้นตอนการปฏิบัติงาน | D8: เครื่องมือ / วัสดุ / อุปกรณ์ | E8: ความรู้ที่ต้องใช้ | F8: คุณลักษณะ/ทัศนคติ | G8: มาตรฐาน | H8: ความปลอดภัย
D9: ที่ใช้ในการปฏิบัติงาน | E9: ในการปฏิบัติงาน | F9: ที่ต้องใช้ในการปฏิบัติงาน | G9: ในการปฏิบัติงาน | H9: ข้อควรระวัง
B10: 1
B13: 2
B16: 3
B19: 4
B22: 5
B25: 6
B28: 7
A31: ผู้วิเคราะห์ | C31: =IF(DATA!$B$8="","",DATA!$B$8) -> กกกก | D31: =IF(DATA!$F$8="","",DATA!$F$8) -> กกกกกแฟฟฟ | G31: ผู้ทบทวน | H31: ผู้อนุมัติ
C32: =IF(DATA!$B$10="","",DATA!$B$10) | D32: =IF(DATA!$F$10="","",DATA!$F$10)
C33: =IF(DATA!$B$12="","",DATA!$B$12) | D33: =IF(DATA!$F$12="","",DATA!$F$12) | E33: =IF(DATA!D12="","",DATA!D12) -> ภาพถ่าย | G33: =DATA!$B$21 -> นาย1 | H33: =DATA!$B$23 -> นาย2
C34: =IF(DATA!$B$14="","",DATA!$B$14) | D34: =IF(DATA!$F$14="","",DATA!$F$14) | E34: =IF(DATA!D14="","",DATA!D14) -> ภาพถ่าย
C35: =IF(DATA!$B$16="","",DATA!$B$16) | D35: =IF(DATA!$F$16="","",DATA!$F$16) | E35: =IF(DATA!D16="","",DATA!D16) -> ภาพถ่าย | G35: =DATA!$F$21 -> ผู้จัดการฝ่ายผลิต | H35: =DATA!$F$23 -> ผู้จัดการโรงงาน
C36: =IF(DATA!$B$18="","",DATA!$B$18) | D36: =IF(DATA!$F$18="","",DATA!$F$18) | E36: =IF(DATA!D18="","",DATA!D18) -> ภาพถ่าย

Sheet D4
A1: การวิเคราะห์งาน (Job Analysis : Step)
B3: สถานประกอบการ | F3: แผนก
B4: ตำแหน่งงาน | F4: วัน / เดือน / ปี ที่วิเคราะห์
C6: =Duty!B19 -> การปฏิบัติเมื่อลูกค้าเข้าพัก | F6: =Task!R18 -> การแก้ปัญหาเฉพาะหน้า
B8: ที่ | C8: ขั้นตอนการปฏิบัติงาน | D8: เครื่องมือ / วัสดุ / อุปกรณ์ | E8: ความรู้ที่ต้องใช้ | F8: คุณลักษณะ/ทัศนคติ | G8: มาตรฐาน | H8: ความปลอดภัย
D9: ที่ใช้ในการปฏิบัติงาน | E9: ในการปฏิบัติงาน | F9: ที่ต้องใช้ในการปฏิบัติงาน | G9: ในการปฏิบัติงาน | H9: ข้อควรระวัง
B10: 1
B13: 2
B16: 3
B19: 4
B22: 5
B25: 6
B28: 7
A31: ผู้วิเคราะห์ | C31: =IF(DATA!$B$8="","",DATA!$B$8) -> กกกก | D31: =IF(DATA!$F$8="","",DATA!$F$8) -> กกกกกแฟฟฟ | G31: ผู้ทบทวน | H31: ผู้อนุมัติ
C32: =IF(DATA!$B$10="","",DATA!$B$10) | D32: =IF(DATA!$F$10="","",DATA!$F$10)
C33: =IF(DATA!$B$12="","",DATA!$B$12) | D33: =IF(DATA!$F$12="","",DATA!$F$12) | E33: =IF(DATA!D12="","",DATA!D12) -> ภาพถ่าย | G33: =DATA!$B$21 -> นาย1 | H33: =DATA!$B$23 -> นาย2
C34: =IF(DATA!$B$14="","",DATA!$B$14) | D34: =IF(DATA!$F$14="","",DATA!$F$14) | E34: =IF(DATA!D14="","",DATA!D14) -> ภาพถ่าย
C35: =IF(DATA!$B$16="","",DATA!$B$16) | D35: =IF(DATA!$F$16="","",DATA!$F$16) | E35: =IF(DATA!D16="","",DATA!D16) -> ภาพถ่าย | G35: =DATA!$F$21 -> ผู้จัดการฝ่ายผลิต | H35: =DATA!$F$23 -> ผู้จัดการโรงงาน
C36: =IF(DATA!$B$18="","",DATA!$B$18) | D36: =IF(DATA!$F$18="","",DATA!$F$18) | E36: =IF(DATA!D18="","",DATA!D18) -> ภาพถ่าย

Sheet D5
A1: การวิเคราะห์งาน (Job Analysis : Step)
B3: สถานประกอบการ | F3: แผนก
B4: ตำแหน่งงาน | F4: วัน / เดือน / ปี ที่วิเคราะห์
C6: =Duty!B19 -> การปฏิบัติเมื่อลูกค้าเข้าพัก | F6: =task!#REF! -> #VALUE!
B8: ที่ | C8: ขั้นตอนการปฏิบัติงาน | D8: เครื่องมือ / วัสดุ / อุปกรณ์ | E8: ความรู้ที่ต้องใช้ | F8: คุณลักษณะ/ทัศนคติ | G8: มาตรฐาน | H8: ความปลอดภัย
D9: ที่ใช้ในการปฏิบัติงาน | E9: ในการปฏิบัติงาน | F9: ที่ต้องใช้ในการปฏิบัติงาน | G9: ในการปฏิบัติงาน | H9: ข้อควรระวัง
B10: 1
B13: 2
B16: 3
B19: 4
B22: 5
B25: 6
B28: 7
A31: ผู้วิเคราะห์ | C31: =IF(DATA!$B$8="","",DATA!$B$8) -> กกกก | D31: =IF(DATA!$F$8="","",DATA!$F$8) -> กกกกกแฟฟฟ | G31: ผู้ทบทวน | H31: ผู้อนุมัติ
C32: =IF(DATA!$B$10="","",DATA!$B$10) | D32: =IF(DATA!$F$10="","",DATA!$F$10)
C33: =IF(DATA!$B$12="","",DATA!$B$12) | D33: =IF(DATA!$F$12="","",DATA!$F$12) | E33: =IF(DATA!D12="","",DATA!D12) -> ภาพถ่าย | G33: =DATA!$B$21 -> นาย1 | H33: =DATA!$B$23 -> นาย2
C34: =IF(DATA!$B$14="","",DATA!$B$14) | D34: =IF(DATA!$F$14="","",DATA!$F$14) | E34: =IF(DATA!D14="","",DATA!D14) -> ภาพถ่าย
C35: =IF(DATA!$B$16="","",DATA!$B$16) | D35: =IF(DATA!$F$16="","",DATA!$F$16) | E35: =IF(DATA!D16="","",DATA!D16) -> ภาพถ่าย | G35: =DATA!$F$21 -> ผู้จัดการฝ่ายผลิต | H35: =DATA!$F$23 -> ผู้จัดการโรงงาน
C36: =IF(DATA!$B$18="","",DATA!$B$18) | D36: =IF(DATA!$F$18="","",DATA!$F$18) | E36: =IF(DATA!D18="","",DATA!D18) -> ภาพถ่าย

Sheet D6
A1: การวิเคราะห์งาน (Job Analysis : Step)
B3: สถานประกอบการ | F3: แผนก
B4: ตำแหน่งงาน | F4: วัน / เดือน / ปี ที่วิเคราะห์
C6: =Duty!B19 -> การปฏิบัติเมื่อลูกค้าเข้าพัก | F6: =task!#REF! -> #VALUE!
B8: ที่ | C8: ขั้นตอนการปฏิบัติงาน | D8: เครื่องมือ / วัสดุ / อุปกรณ์ | E8: ความรู้ที่ต้องใช้ | F8: คุณลักษณะ/ทัศนคติ | G8: มาตรฐาน | H8: ความปลอดภัย
D9: ที่ใช้ในการปฏิบัติงาน | E9: ในการปฏิบัติงาน | F9: ที่ต้องใช้ในการปฏิบัติงาน | G9: ในการปฏิบัติงาน | H9: ข้อควรระวัง
B10: 1
B13: 2
B16: 3
B19: 4
B22: 5
B25: 6
B28: 7
A31: ผู้วิเคราะห์ | C31: =IF(DATA!$B$8="","",DATA!$B$8) -> กกกก | D31: =IF(DATA!$F$8="","",DATA!$F$8) -> กกกกกแฟฟฟ | G31: ผู้ทบทวน | H31: ผู้อนุมัติ
C32: =IF(DATA!$B$10="","",DATA!$B$10) | D32: =IF(DATA!$F$10="","",DATA!$F$10)
C33: =IF(DATA!$B$12="","",DATA!$B$12) | D33: =IF(DATA!$F$12="","",DATA!$F$12) | E33: =IF(DATA!D12="","",DATA!D12) -> ภาพถ่าย | G33: =DATA!$B$21 -> นาย1 | H33: =DATA!$B$23 -> นาย2
C34: =IF(DATA!$B$14="","",DATA!$B$14) | D34: =IF(DATA!$F$14="","",DATA!$F$14) | E34: =IF(DATA!D14="","",DATA!D14) -> ภาพถ่าย
C35: =IF(DATA!$B$16="","",DATA!$B$16) | D35: =IF(DATA!$F$16="","",DATA!$F$16) | E35: =IF(DATA!D16="","",DATA!D16) -> ภาพถ่าย | G35: =DATA!$F$21 -> ผู้จัดการฝ่ายผลิต | H35: =DATA!$F$23 -> ผู้จัดการโรงงาน
C36: =IF(DATA!$B$18="","",DATA!$B$18) | D36: =IF(DATA!$F$18="","",DATA!$F$18) | E36: =IF(DATA!D18="","",DATA!D18) -> ภาพถ่าย

Sheet E1
A1: การวิเคราะห์งาน (Job Analysis : Step)
B3: สถานประกอบการ | F3: แผนก
B4: ตำแหน่งงาน | F4: วัน / เดือน / ปี ที่วิเคราะห์
C6: =Duty!I10 -> 0 | F6: =task!#REF! -> #VALUE!
B8: ที่ | C8: ขั้นตอนการปฏิบัติงาน | D8: เครื่องมือ / วัสดุ / อุปกรณ์ | E8: ความรู้ที่ต้องใช้ | F8: คุณลักษณะ/ทัศนคติ | G8: มาตรฐาน | H8: ความปลอดภัย
D9: ที่ใช้ในการปฏิบัติงาน | E9: ในการปฏิบัติงาน | F9: ที่ต้องใช้ในการปฏิบัติงาน | G9: ในการปฏิบัติงาน | H9: ข้อควรระวัง
B10: 1
B13: 2
B16: 3
B19: 4
B22: 5
B25: 6
B28: 7
A31: ผู้วิเคราะห์ | C31: =IF(DATA!$B$8="","",DATA!$B$8) -> กกกก | D31: =IF(DATA!$F$8="","",DATA!$F$8) -> กกกกกแฟฟฟ | G31: ผู้ทบทวน | H31: ผู้อนุมัติ
C32: =IF(DATA!$B$10="","",DATA!$B$10) | D32: =IF(DATA!$F$10="","",DATA!$F$10)
C33: =IF(DATA!$B$12="","",DATA!$B$12) | D33: =IF(DATA!$F$12="","",DATA!$F$12) | E33: =IF(DATA!D12="","",DATA!D12) -> ภาพถ่าย | G33: =DATA!$B$21 -> นาย1 | H33: =DATA!$B$23 -> นาย2
C34: =IF(DATA!$B$14="","",DATA!$B$14) | D34: =IF(DATA!$F$14="","",DATA!$F$14) | E34: =IF(DATA!D14="","",DATA!D14) -> ภาพถ่าย
C35: =IF(DATA!$B$16="","",DATA!$B$16) | D35: =IF(DATA!$F$16="","",DATA!$F$16) | E35: =IF(DATA!D16="","",DATA!D16) -> ภาพถ่าย | G35: =DATA!$F$21 -> ผู้จัดการฝ่ายผลิต | H35: =DATA!$F$23 -> ผู้จัดการโรงงาน
C36: =IF(DATA!$B$18="","",DATA!$B$18) | D36: =IF(DATA!$F$18="","",DATA!$F$18) | E36: =IF(DATA!D18="","",DATA!D18) -> ภาพถ่าย

Sheet E2
A1: การวิเคราะห์งาน (Job Analysis : Step)
B3: สถานประกอบการ | F3: แผนก
B4: ตำแหน่งงาน | F4: วัน / เดือน / ปี ที่วิเคราะห์
C6: =Duty!I10 -> 0 | F6: =task!#REF! -> #VALUE!
B8: ที่ | C8: ขั้นตอนการปฏิบัติงาน | D8: เครื่องมือ / วัสดุ / อุปกรณ์ | E8: ความรู้ที่ต้องใช้ | F8: คุณลักษณะ/ทัศนคติ | G8: มาตรฐาน | H8: ความปลอดภัย
D9: ที่ใช้ในการปฏิบัติงาน | E9: ในการปฏิบัติงาน | F9: ที่ต้องใช้ในการปฏิบัติงาน | G9: ในการปฏิบัติงาน | H9: ข้อควรระวัง
B10: 1
B13: 2
B16: 3
B19: 4
B22: 5
B25: 6
B28: 7
A31: ผู้วิเคราะห์ | C31: =IF(DATA!$B$8="","",DATA!$B$8) -> กกกก | D31: =IF(DATA!$F$8="","",DATA!$F$8) -> กกกกกแฟฟฟ | G31: ผู้ทบทวน | H31: ผู้อนุมัติ
C32: =IF(DATA!$B$10="","",DATA!$B$10) | D32: =IF(DATA!$F$10="","",DATA!$F$10)
C33: =IF(DATA!$B$12="","",DATA!$B$12) | D33: =IF(DATA!$F$12="","",DATA!$F$12) | E33: =IF(DATA!D12="","",DATA!D12) -> ภาพถ่าย | G33: =DATA!$B$21 -> นาย1 | H33: =DATA!$B$23 -> นาย2
C34: =IF(DATA!$B$14="","",DATA!$B$14) | D34: =IF(DATA!$F$14="","",DATA!$F$14) | E34: =IF(DATA!D14="","",DATA!D14) -> ภาพถ่าย
C35: =IF(DATA!$B$16="","",DATA!$B$16) | D35: =IF(DATA!$F$16="","",DATA!$F$16) | E35: =IF(DATA!D16="","",DATA!D16) -> ภาพถ่าย | G35: =DATA!$F$21 -> ผู้จัดการฝ่ายผลิต | H35: =DATA!$F$23 -> ผู้จัดการโรงงาน
C36: =IF(DATA!$B$18="","",DATA!$B$18) | D36: =IF(DATA!$F$18="","",DATA!$F$18) | E36: =IF(DATA!D18="","",DATA!D18) -> ภาพถ่าย

Sheet E3
A1: การวิเคราะห์งาน (Job Analysis : Step)
B3: สถานประกอบการ | F3: แผนก
B4: ตำแหน่งงาน | F4: วัน / เดือน / ปี ที่วิเคราะห์
C6: =Duty!I10 -> 0 | F6: =task!#REF! -> #VALUE!
B8: ที่ | C8: ขั้นตอนการปฏิบัติงาน | D8: เครื่องมือ / วัสดุ / อุปกรณ์ | E8: ความรู้ที่ต้องใช้ | F8: คุณลักษณะ/ทัศนคติ | G8: มาตรฐาน | H8: ความปลอดภัย
D9: ที่ใช้ในการปฏิบัติงาน | E9: ในการปฏิบัติงาน | F9: ที่ต้องใช้ในการปฏิบัติงาน | G9: ในการปฏิบัติงาน | H9: ข้อควรระวัง
B10: 1
B13: 2
B16: 3
B19: 4
B22: 5
B25: 6
B28: 7
A31: ผู้วิเคราะห์ | C31: =IF(DATA!$B$8="","",DATA!$B$8) -> กกกก | D31: =IF(DATA!$F$8="","",DATA!$F$8) -> กกกกกแฟฟฟ | G31: ผู้ทบทวน | H31: ผู้อนุมัติ
C32: =IF(DATA!$B$10="","",DATA!$B$10) | D32: =IF(DATA!$F$10="","",DATA!$F$10)
C33: =IF(DATA!$B$12="","",DATA!$B$12) | D33: =IF(DATA!$F$12="","",DATA!$F$12) | E33: =IF(DATA!D12="","",DATA!D12) -> ภาพถ่าย | G33: =DATA!$B$21 -> นาย1 | H33: =DATA!$B$23 -> นาย2
C34: =IF(DATA!$B$14="","",DATA!$B$14) | D34: =IF(DATA!$F$14="","",DATA!$F$14) | E34: =IF(DATA!D14="","",DATA!D14) -> ภาพถ่าย
C35: =IF(DATA!$B$16="","",DATA!$B$16) | D35: =IF(DATA!$F$16="","",DATA!$F$16) | E35: =IF(DATA!D16="","",DATA!D16) -> ภาพถ่าย | G35: =DATA!$F$21 -> ผู้จัดการฝ่ายผลิต | H35: =DATA!$F$23 -> ผู้จัดการโรงงาน
C36: =IF(DATA!$B$18="","",DATA!$B$18) | D36: =IF(DATA!$F$18="","",DATA!$F$18) | E36: =IF(DATA!D18="","",DATA!D18) -> ภาพถ่าย

Sheet E4
A1: การวิเคราะห์งาน (Job Analysis : Step)
B3: สถานประกอบการ | F3: แผนก
B4: ตำแหน่งงาน | F4: วัน / เดือน / ปี ที่วิเคราะห์
C6: =Duty!I10 -> 0 | F6: =task!#REF! -> #VALUE!
B8: ที่ | C8: ขั้นตอนการปฏิบัติงาน | D8: เครื่องมือ / วัสดุ / อุปกรณ์ | E8: ความรู้ที่ต้องใช้ | F8: คุณลักษณะ/ทัศนคติ | G8: มาตรฐาน | H8: ความปลอดภัย
D9: ที่ใช้ในการปฏิบัติงาน | E9: ในการปฏิบัติงาน | F9: ที่ต้องใช้ในการปฏิบัติงาน | G9: ในการปฏิบัติงาน | H9: ข้อควรระวัง
B10: 1
B13: 2
B16: 3
B19: 4
B22: 5
B25: 6
B28: 7
A31: ผู้วิเคราะห์ | C31: =IF(DATA!$B$8="","",DATA!$B$8) -> กกกก | D31: =IF(DATA!$F$8="","",DATA!$F$8) -> กกกกกแฟฟฟ | G31: ผู้ทบทวน | H31: ผู้อนุมัติ
C32: =IF(DATA!$B$10="","",DATA!$B$10) | D32: =IF(DATA!$F$10="","",DATA!$F$10)
C33: =IF(DATA!$B$12="","",DATA!$B$12) | D33: =IF(DATA!$F$12="","",DATA!$F$12) | E33: =IF(DATA!D12="","",DATA!D12) -> ภาพถ่าย | G33: =DATA!$B$21 -> นาย1 | H33: =DATA!$B$23 -> นาย2
C34: =IF(DATA!$B$14="","",DATA!$B$14) | D34: =IF(DATA!$F$14="","",DATA!$F$14) | E34: =IF(DATA!D14="","",DATA!D14) -> ภาพถ่าย
C35: =IF(DATA!$B$16="","",DATA!$B$16) | D35: =IF(DATA!$F$16="","",DATA!$F$16) | E35: =IF(DATA!D16="","",DATA!D16) -> ภาพถ่าย | G35: =DATA!$F$21 -> ผู้จัดการฝ่ายผลิต | H35: =DATA!$F$23 -> ผู้จัดการโรงงาน
C36: =IF(DATA!$B$18="","",DATA!$B$18) | D36: =IF(DATA!$F$18="","",DATA!$F$18) | E36: =IF(DATA!D18="","",DATA!D18) -> ภาพถ่าย

Sheet E5
A1: การวิเคราะห์งาน (Job Analysis : Step)
B3: สถานประกอบการ | F3: แผนก
B4: ตำแหน่งงาน | F4: วัน / เดือน / ปี ที่วิเคราะห์
C6: =Duty!I10 -> 0 | F6: =task!#REF! -> #VALUE!
B8: ที่ | C8: ขั้นตอนการปฏิบัติงาน | D8: เครื่องมือ / วัสดุ / อุปกรณ์ | E8: ความรู้ที่ต้องใช้ | F8: คุณลักษณะ/ทัศนคติ | G8: มาตรฐาน | H8: ความปลอดภัย
D9: ที่ใช้ในการปฏิบัติงาน | E9: ในการปฏิบัติงาน | F9: ที่ต้องใช้ในการปฏิบัติงาน | G9: ในการปฏิบัติงาน | H9: ข้อควรระวัง
B10: 1
B13: 2
B16: 3
B19: 4
B22: 5
B25: 6
B28: 7
A31: ผู้วิเคราะห์ | C31: =IF(DATA!$B$8="","",DATA!$B$8) -> กกกก | D31: =IF(DATA!$F$8="","",DATA!$F$8) -> กกกกกแฟฟฟ | G31: ผู้ทบทวน | H31: ผู้อนุมัติ
C32: =IF(DATA!$B$10="","",DATA!$B$10) | D32: =IF(DATA!$F$10="","",DATA!$F$10)
C33: =IF(DATA!$B$12="","",DATA!$B$12) | D33: =IF(DATA!$F$12="","",DATA!$F$12) | E33: =IF(DATA!D12="","",DATA!D12) -> ภาพถ่าย | G33: =DATA!$B$21 -> นาย1 | H33: =DATA!$B$23 -> นาย2
C34: =IF(DATA!$B$14="","",DATA!$B$14) | D34: =IF(DATA!$F$14="","",DATA!$F$14) | E34: =IF(DATA!D14="","",DATA!D14) -> ภาพถ่าย
C35: =IF(DATA!$B$16="","",DATA!$B$16) | D35: =IF(DATA!$F$16="","",DATA!$F$16) | E35: =IF(DATA!D16="","",DATA!D16) -> ภาพถ่าย | G35: =DATA!$F$21 -> ผู้จัดการฝ่ายผลิต | H35: =DATA!$F$23 -> ผู้จัดการโรงงาน
C36: =IF(DATA!$B$18="","",DATA!$B$18) | D36: =IF(DATA!$F$18="","",DATA!$F$18) | E36: =IF(DATA!D18="","",DATA!D18) -> ภาพถ่าย

Sheet E6
A1: การวิเคราะห์งาน (Job Analysis : Step)
B3: สถานประกอบการ | F3: แผนก
B4: ตำแหน่งงาน | F4: วัน / เดือน / ปี ที่วิเคราะห์
C6: =Duty!I10 -> 0 | F6: =task!#REF! -> #VALUE!
B8: ที่ | C8: ขั้นตอนการปฏิบัติงาน | D8: เครื่องมือ / วัสดุ / อุปกรณ์ | E8: ความรู้ที่ต้องใช้ | F8: คุณลักษณะ/ทัศนคติ | G8: มาตรฐาน | H8: ความปลอดภัย
D9: ที่ใช้ในการปฏิบัติงาน | E9: ในการปฏิบัติงาน | F9: ที่ต้องใช้ในการปฏิบัติงาน | G9: ในการปฏิบัติงาน | H9: ข้อควรระวัง
B10: 1
B13: 2
B16: 3
B19: 4
B22: 5
B25: 6
B28: 7
A31: ผู้วิเคราะห์ | C31: =IF(DATA!$B$8="","",DATA!$B$8) -> กกกก | D31: =IF(DATA!$F$8="","",DATA!$F$8) -> กกกกกแฟฟฟ | G31: ผู้ทบทวน | H31: ผู้อนุมัติ
C32: =IF(DATA!$B$10="","",DATA!$B$10) | D32: =IF(DATA!$F$10="","",DATA!$F$10)
C33: =IF(DATA!$B$12="","",DATA!$B$12) | D33: =IF(DATA!$F$12="","",DATA!$F$12) | E33: =IF(DATA!D12="","",DATA!D12) -> ภาพถ่าย | G33: =DATA!$B$21 -> นาย1 | H33: =DATA!$B$23 -> นาย2
C34: =IF(DATA!$B$14="","",DATA!$B$14) | D34: =IF(DATA!$F$14="","",DATA!$F$14) | E34: =IF(DATA!D14="","",DATA!D14) -> ภาพถ่าย
C35: =IF(DATA!$B$16="","",DATA!$B$16) | D35: =IF(DATA!$F$16="","",DATA!$F$16) | E35: =IF(DATA!D16="","",DATA!D16) -> ภาพถ่าย | G35: =DATA!$F$21 -> ผู้จัดการฝ่ายผลิต | H35: =DATA!$F$23 -> ผู้จัดการโรงงาน
C36: =IF(DATA!$B$18="","",DATA!$B$18) | D36: =IF(DATA!$F$18="","",DATA!$F$18) | E36: =IF(DATA!D18="","",DATA!D18) -> ภาพถ่าย

Sheet F1
A1: การวิเคราะห์งาน (Job Analysis : Step)
B3: สถานประกอบการ | F3: แผนก
B4: ตำแหน่งงาน | F4: วัน / เดือน / ปี ที่วิเคราะห์
C6: =Duty!I13 -> 0 | F6: =task!#REF! -> #VALUE!
B8: ที่ | C8: ขั้นตอนการปฏิบัติงาน | D8: เครื่องมือ / วัสดุ / อุปกรณ์ | E8: ความรู้ที่ต้องใช้ | F8: คุณลักษณะ/ทัศนคติ | G8: มาตรฐาน | H8: ความปลอดภัย
D9: ที่ใช้ในการปฏิบัติงาน | E9: ในการปฏิบัติงาน | F9: ที่ต้องใช้ในการปฏิบัติงาน | G9: ในการปฏิบัติงาน | H9: ข้อควรระวัง
B10: 1
B13: 2
B16: 3
B19: 4
B22: 5
B25: 6
B28: 7
A31: ผู้วิเคราะห์ | C31: =IF(DATA!$B$8="","",DATA!$B$8) -> กกกก | D31: =IF(DATA!$F$8="","",DATA!$F$8) -> กกกกกแฟฟฟ | G31: ผู้ทบทวน | H31: ผู้อนุมัติ
C32: =IF(DATA!$B$10="","",DATA!$B$10) | D32: =IF(DATA!$F$10="","",DATA!$F$10)
C33: =IF(DATA!$B$12="","",DATA!$B$12) | D33: =IF(DATA!$F$12="","",DATA!$F$12) | E33: =IF(DATA!D12="","",DATA!D12) -> ภาพถ่าย | G33: =DATA!$B$21 -> นาย1 | H33: =DATA!$B$23 -> นาย2
C34: =IF(DATA!$B$14="","",DATA!$B$14) | D34: =IF(DATA!$F$14="","",DATA!$F$14) | E34: =IF(DATA!D14="","",DATA!D14) -> ภาพถ่าย
C35: =IF(DATA!$B$16="","",DATA!$B$16) | D35: =IF(DATA!$F$16="","",DATA!$F$16) | E35: =IF(DATA!D16="","",DATA!D16) -> ภาพถ่าย | G35: =DATA!$F$21 -> ผู้จัดการฝ่ายผลิต | H35: =DATA!$F$23 -> ผู้จัดการโรงงาน
C36: =IF(DATA!$B$18="","",DATA!$B$18) | D36: =IF(DATA!$F$18="","",DATA!$F$18) | E36: =IF(DATA!D18="","",DATA!D18) -> ภาพถ่าย

Sheet F2
A1: การวิเคราะห์งาน (Job Analysis : Step)
B3: สถานประกอบการ | F3: แผนก
B4: ตำแหน่งงาน | F4: วัน / เดือน / ปี ที่วิเคราะห์
C6: =Duty!I13 -> 0 | F6: =task!#REF! -> #VALUE!
B8: ที่ | C8: ขั้นตอนการปฏิบัติงาน | D8: เครื่องมือ / วัสดุ / อุปกรณ์ | E8: ความรู้ที่ต้องใช้ | F8: คุณลักษณะ/ทัศนคติ | G8: มาตรฐาน | H8: ความปลอดภัย
D9: ที่ใช้ในการปฏิบัติงาน | E9: ในการปฏิบัติงาน | F9: ที่ต้องใช้ในการปฏิบัติงาน | G9: ในการปฏิบัติงาน | H9: ข้อควรระวัง
B10: 1
B13: 2
B16: 3
B19: 4
B22: 5
B25: 6
B28: 7
A31: ผู้วิเคราะห์ | C31: =IF(DATA!$B$8="","",DATA!$B$8) -> กกกก | D31: =IF(DATA!$F$8="","",DATA!$F$8) -> กกกกกแฟฟฟ | G31: ผู้ทบทวน | H31: ผู้อนุมัติ
C32: =IF(DATA!$B$10="","",DATA!$B$10) | D32: =IF(DATA!$F$10="","",DATA!$F$10)
C33: =IF(DATA!$B$12="","",DATA!$B$12) | D33: =IF(DATA!$F$12="","",DATA!$F$12) | E33: =IF(DATA!D12="","",DATA!D12) -> ภาพถ่าย | G33: =DATA!$B$21 -> นาย1 | H33: =DATA!$B$23 -> นาย2
C34: =IF(DATA!$B$14="","",DATA!$B$14) | D34: =IF(DATA!$F$14="","",DATA!$F$14) | E34: =IF(DATA!D14="","",DATA!D14) -> ภาพถ่าย
C35: =IF(DATA!$B$16="","",DATA!$B$16) | D35: =IF(DATA!$F$16="","",DATA!$F$16) | E35: =IF(DATA!D16="","",DATA!D16) -> ภาพถ่าย | G35: =DATA!$F$21 -> ผู้จัดการฝ่ายผลิต | H35: =DATA!$F$23 -> ผู้จัดการโรงงาน
C36: =IF(DATA!$B$18="","",DATA!$B$18) | D36: =IF(DATA!$F$18="","",DATA!$F$18) | E36: =IF(DATA!D18="","",DATA!D18) -> ภาพถ่าย

Sheet F3
A1: การวิเคราะห์งาน (Job Analysis : Step)
B3: สถานประกอบการ | F3: แผนก
B4: ตำแหน่งงาน | F4: วัน / เดือน / ปี ที่วิเคราะห์
C6: =Duty!I13 -> 0 | F6: =task!#REF! -> #VALUE!
B8: ที่ | C8: ขั้นตอนการปฏิบัติงาน | D8: เครื่องมือ / วัสดุ / อุปกรณ์ | E8: ความรู้ที่ต้องใช้ | F8: คุณลักษณะ/ทัศนคติ | G8: มาตรฐาน | H8: ความปลอดภัย
D9: ที่ใช้ในการปฏิบัติงาน | E9: ในการปฏิบัติงาน | F9: ที่ต้องใช้ในการปฏิบัติงาน | G9: ในการปฏิบัติงาน | H9: ข้อควรระวัง
B10: 1
B13: 2
B16: 3
B19: 4
B22: 5
B25: 6
B28: 7
A31: ผู้วิเคราะห์ | C31: =IF(DATA!$B$8="","",DATA!$B$8) -> กกกก | D31: =IF(DATA!$F$8="","",DATA!$F$8) -> กกกกกแฟฟฟ | G31: ผู้ทบทวน | H31: ผู้อนุมัติ
C32: =IF(DATA!$B$10="","",DATA!$B$10) | D32: =IF(DATA!$F$10="","",DATA!$F$10)
C33: =IF(DATA!$B$12="","",DATA!$B$12) | D33: =IF(DATA!$F$12="","",DATA!$F$12) | E33: =IF(DATA!D12="","",DATA!D12) -> ภาพถ่าย | G33: =DATA!$B$21 -> นาย1 | H33: =DATA!$B$23 -> นาย2
C34: =IF(DATA!$B$14="","",DATA!$B$14) | D34: =IF(DATA!$F$14="","",DATA!$F$14) | E34: =IF(DATA!D14="","",DATA!D14) -> ภาพถ่าย
C35: =IF(DATA!$B$16="","",DATA!$B$16) | D35: =IF(DATA!$F$16="","",DATA!$F$16) | E35: =IF(DATA!D16="","",DATA!D16) -> ภาพถ่าย | G35: =DATA!$F$21 -> ผู้จัดการฝ่ายผลิต | H35: =DATA!$F$23 -> ผู้จัดการโรงงาน
C36: =IF(DATA!$B$18="","",DATA!$B$18) | D36: =IF(DATA!$F$18="","",DATA!$F$18) | E36: =IF(DATA!D18="","",DATA!D18) -> ภาพถ่าย

Sheet F4
A1: การวิเคราะห์งาน (Job Analysis : Step)
B3: สถานประกอบการ | F3: แผนก
B4: ตำแหน่งงาน | F4: วัน / เดือน / ปี ที่วิเคราะห์
C6: =Duty!I13 -> 0 | F6: =task!#REF! -> #VALUE!
B8: ที่ | C8: ขั้นตอนการปฏิบัติงาน | D8: เครื่องมือ / วัสดุ / อุปกรณ์ | E8: ความรู้ที่ต้องใช้ | F8: คุณลักษณะ/ทัศนคติ | G8: มาตรฐาน | H8: ความปลอดภัย
D9: ที่ใช้ในการปฏิบัติงาน | E9: ในการปฏิบัติงาน | F9: ที่ต้องใช้ในการปฏิบัติงาน | G9: ในการปฏิบัติงาน | H9: ข้อควรระวัง
B10: 1
B13: 2
B16: 3
B19: 4
B22: 5
B25: 6
B28: 7
A31: ผู้วิเคราะห์ | C31: =IF(DATA!$B$8="","",DATA!$B$8) -> กกกก | D31: =IF(DATA!$F$8="","",DATA!$F$8) -> กกกกกแฟฟฟ | G31: ผู้ทบทวน | H31: ผู้อนุมัติ
C32: =IF(DATA!$B$10="","",DATA!$B$10) | D32: =IF(DATA!$F$10="","",DATA!$F$10)
C33: =IF(DATA!$B$12="","",DATA!$B$12) | D33: =IF(DATA!$F$12="","",DATA!$F$12) | E33: =IF(DATA!D12="","",DATA!D12) -> ภาพถ่าย | G33: =DATA!$B$21 -> นาย1 | H33: =DATA!$B$23 -> นาย2
C34: =IF(DATA!$B$14="","",DATA!$B$14) | D34: =IF(DATA!$F$14="","",DATA!$F$14) | E34: =IF(DATA!D14="","",DATA!D14) -> ภาพถ่าย
C35: =IF(DATA!$B$16="","",DATA!$B$16) | D35: =IF(DATA!$F$16="","",DATA!$F$16) | E35: =IF(DATA!D16="","",DATA!D16) -> ภาพถ่าย | G35: =DATA!$F$21 -> ผู้จัดการฝ่ายผลิต | H35: =DATA!$F$23 -> ผู้จัดการโรงงาน
C36: =IF(DATA!$B$18="","",DATA!$B$18) | D36: =IF(DATA!$F$18="","",DATA!$F$18) | E36: =IF(DATA!D18="","",DATA!D18) -> ภาพถ่าย

Sheet F5
A1: การวิเคราะห์งาน (Job Analysis : Step)
B3: สถานประกอบการ | F3: แผนก
B4: ตำแหน่งงาน | F4: วัน / เดือน / ปี ที่วิเคราะห์
C6: =Duty!I13 -> 0 | F6: =task!#REF! -> #VALUE!
B8: ที่ | C8: ขั้นตอนการปฏิบัติงาน | D8: เครื่องมือ / วัสดุ / อุปกรณ์ | E8: ความรู้ที่ต้องใช้ | F8: คุณลักษณะ/ทัศนคติ | G8: มาตรฐาน | H8: ความปลอดภัย
D9: ที่ใช้ในการปฏิบัติงาน | E9: ในการปฏิบัติงาน | F9: ที่ต้องใช้ในการปฏิบัติงาน | G9: ในการปฏิบัติงาน | H9: ข้อควรระวัง
B10: 1
B13: 2
B16: 3
B19: 4
B22: 5
B25: 6
B28: 7
A31: ผู้วิเคราะห์ | C31: =IF(DATA!$B$8="","",DATA!$B$8) -> กกกก | D31: =IF(DATA!$F$8="","",DATA!$F$8) -> กกกกกแฟฟฟ | G31: ผู้ทบทวน | H31: ผู้อนุมัติ
C32: =IF(DATA!$B$10="","",DATA!$B$10) | D32: =IF(DATA!$F$10="","",DATA!$F$10)
C33: =IF(DATA!$B$12="","",DATA!$B$12) | D33: =IF(DATA!$F$12="","",DATA!$F$12) | E33: =IF(DATA!D12="","",DATA!D12) -> ภาพถ่าย | G33: =DATA!$B$21 -> นาย1 | H33: =DATA!$B$23 -> นาย2
C34: =IF(DATA!$B$14="","",DATA!$B$14) | D34: =IF(DATA!$F$14="","",DATA!$F$14) | E34: =IF(DATA!D14="","",DATA!D14) -> ภาพถ่าย
C35: =IF(DATA!$B$16="","",DATA!$B$16) | D35: =IF(DATA!$F$16="","",DATA!$F$16) | E35: =IF(DATA!D16="","",DATA!D16) -> ภาพถ่าย | G35: =DATA!$F$21 -> ผู้จัดการฝ่ายผลิต | H35: =DATA!$F$23 -> ผู้จัดการโรงงาน
C36: =IF(DATA!$B$18="","",DATA!$B$18) | D36: =IF(DATA!$F$18="","",DATA!$F$18) | E36: =IF(DATA!D18="","",DATA!D18) -> ภาพถ่าย

Sheet F6
A1: การวิเคราะห์งาน (Job Analysis : Step)
B3: สถานประกอบการ | F3: แผนก
B4: ตำแหน่งงาน | F4: วัน / เดือน / ปี ที่วิเคราะห์
C6: =Duty!I13 -> 0 | F6: =task!#REF! -> #VALUE!
B8: ที่ | C8: ขั้นตอนการปฏิบัติงาน | D8: เครื่องมือ / วัสดุ / อุปกรณ์ | E8: ความรู้ที่ต้องใช้ | F8: คุณลักษณะ/ทัศนคติ | G8: มาตรฐาน | H8: ความปลอดภัย
D9: ที่ใช้ในการปฏิบัติงาน | E9: ในการปฏิบัติงาน | F9: ที่ต้องใช้ในการปฏิบัติงาน | G9: ในการปฏิบัติงาน | H9: ข้อควรระวัง
B10: 1
B13: 2
B16: 3
B19: 4
B22: 5
B25: 6
B28: 7
A31: ผู้วิเคราะห์ | C31: =IF(DATA!$B$8="","",DATA!$B$8) -> กกกก | D31: =IF(DATA!$F$8="","",DATA!$F$8) -> กกกกกแฟฟฟ | G31: ผู้ทบทวน | H31: ผู้อนุมัติ
C32: =IF(DATA!$B$10="","",DATA!$B$10) | D32: =IF(DATA!$F$10="","",DATA!$F$10)
C33: =IF(DATA!$B$12="","",DATA!$B$12) | D33: =IF(DATA!$F$12="","",DATA!$F$12) | E33: =IF(DATA!D12="","",DATA!D12) -> ภาพถ่าย | G33: =DATA!$B$21 -> นาย1 | H33: =DATA!$B$23 -> นาย2
C34: =IF(DATA!$B$14="","",DATA!$B$14) | D34: =IF(DATA!$F$14="","",DATA!$F$14) | E34: =IF(DATA!D14="","",DATA!D14) -> ภาพถ่าย
C35: =IF(DATA!$B$16="","",DATA!$B$16) | D35: =IF(DATA!$F$16="","",DATA!$F$16) | E35: =IF(DATA!D16="","",DATA!D16) -> ภาพถ่าย | G35: =DATA!$F$21 -> ผู้จัดการฝ่ายผลิต | H35: =DATA!$F$23 -> ผู้จัดการโรงงาน
C36: =IF(DATA!$B$18="","",DATA!$B$18) | D36: =IF(DATA!$F$18="","",DATA!$F$18) | E36: =IF(DATA!D18="","",DATA!D18) -> ภาพถ่าย
