Workbook

Sheet DATA
A2: DATA | C2: การออกแบบและพัฒนาหลักสูตรอิงสมรรถนะให้กับสถานประกอบการ
A4: สถานประกอบการ | C4: บจก. วนชัย พาแนล อินดัสทรี่ส์ | J4: ผลิตแผ่น MDF 2
A5: ชื่อตำแหน่งงาน | C5: ผู้ควบคุมเครื่องโรยฝอยไม้ | I5: วัน / เดือน /ปี ที่วิเคราะห์ | L5: 240680
A7: ผู้วิเคราะห์
A8: 1 | B8: นางสาวรัติยาภรณ์ อัศวะธรรมวุธ | D8: ภาพถ่าย | E8: ตำแหน่ง | F8: หัวหน้าแผนกฝึกอบรม
A10: 2 | B10: นายเอกพงศ์ ไทยเกิด | D10: ภาพถ่าย | E10: ตำแหน่ง | F10: พนักงานฝึกอบรม
A12: 3 | B12: นายพันธวงศ์ ศิริพันธ์ | D12: ภาพถ่าย | E12: ตำแหน่ง | F12: หัวหน้าส่วนผลิต MDF 2
A14: 4 | D14: ภาพถ่าย
A16: 5 | D16: ภาพถ่าย
A18: 6 | D18: ภาพถ่าย
A20: ผู้ทบทวน
A21: 1 | B21: นาย1 | E21: ตำแหน่ง | F21: ผู้จัดการฝ่ายผลิต
A22: ผู้อนุมัติ
A23: 1 | B23: นาย2 | E23: ตำแหน่ง | F23: ผู้จัดการโรงงาน

Sheet แบบStep
A1: การวิเคราะห์งาน (Job Analysis : Step)
B3: สถานประกอบการ | D3: =DATA!C2 -> การออกแบบและพัฒนาหลักสูตรอิงสมรรถนะให้กับสถานประกอบการ | F3: แผนก
B4: ตำแหน่งงาน | F4: วัน / เดือน / ปี ที่วิเคราะห์
B8: ที่ | C8: ขั้นตอนการปฏิบัติงาน | D8: เครื่องมือ / วัสดุ / อุปกรณ์ | E8: ความรู้ที่ต้องใช้ | F8: คุณลักษณะ/ทัศนคติ | G8: มาตรฐาน | H8: ความปลอดภัย
D9: ที่ใช้ในการปฏิบัติงาน | E9: ในการปฏิบัติงาน | F9: ที่ต้องใช้ในการปฏิบัติงาน | G9: ในการปฏิบัติงาน | H9: ข้อควรระวัง
B10: 1
B13: 2
B16: 3
B19: 4
B22: 5
B25: 6
B28: 7
A31: ผู้วิเคราะห์ | G31: ผู้ทบทวน | H31: ผู้อนุมัติ

Sheet Duty
A1: การวิเคราะห์งาน (Job Analysis : Duty)
A2: สถานประกอบการ | C2: =DATA!C4 -> บจก. วนชัย พาแนล อินดัสทรี่ส์ | I2: แผนก | J2: =DATA!J4 -> ผลิตแผ่น MDF 2
A3: ชื่อตำแหน่งงาน | C3: =DATA!C5 -> ผู้ควบคุมเครื่องโรยฝอยไม้ | I3: วัน / เดือน /ปี ที่วิเคราะห์ | L3: =DATA!L5 -> 240680
A5: คำบรรยายลักษณะงานโดยย่อ :
A6: รับผิดชอบการควบคุมดูแลกระบวนการผลิต ให้มีความต่อเนื่องของการผลิต การโรยฝอยไม้ให้มีความสม่ำเสมอ และกระบวนการอัดแผ่นได้ตามคุณภาพมาตรฐาน การตรวจเช็คเครื่องจักร
A7: และบำรุงรักษาเครื่องจักรเชิงป้องกันและซ่อมเครื่องจักรร่วมกับช่างบำรุงรักษา เพื่อให้เป็นไปตามแผนการผลิต
A9: หน้าที่ /งานหลัก : (DUTY)
B10: การควบคุมการผลิตเครื่องโรยฝอยไม้
B13: การบำรุงรักษาเครื่องโรยฝอยไม้
B16: การปฏิบัติตามคู่มือการทำงานของหน่วยงาน
A22: ผู้วิเคราะห์ | B22: =DATA!B8 -> นางสาวรัติยาภรณ์ อัศวะธรรมวุธ | E22: =DATA!F8 -> หัวหน้าแผนกฝึกอบรม | I22: ผู้ทบทวน | M22: ผู้อนุมัติ
B23: =DATA!B10 -> นายเอกพงศ์ ไทยเกิด | E23: =DATA!F10 -> พนักงานฝึกอบรม | I23: =DATA!B21 -> นาย1 | M23: =DATA!B23 -> นาย2
B24: =DATA!B12 -> นายพันธวงศ์ ศิริพันธ์ | E24: =DATA!F12 -> หัวหน้าส่วนผลิต MDF 2
H25: ตำแหน่ง | I25: =DATA!F21 -> ผู้จัดการฝ่ายผลิต | L25: ตำแหน่ง | M25: =DATA!F23 -> ผู้จัดการโรงงาน

Sheet Task 
B1: การวิเคราะห์งาน (Job Analysis : Task)
B2: สถานประกอบการ | D2: =Duty!C2 -> บจก. วนชัย พาแนล อินดัสทรี่ส์ | K2: แผนก | O2: =DATA!J4 -> ผลิตแผ่น MDF 2
B3: ชื่อตำแหน่งงาน | D3: =Duty!C3 -> ผู้ควบคุมเครื่องโรยฝอยไม้ | K3: วัน / เดือน /ปี ที่วิเคราะห์ | O3: =['file:///g:/ /กลุ่ม 6/แบบรายละเอียดงาน-011.xlsx']DATA!L5 -> #VALUE!
B5: งานหลัก (DUTY) | F5: งานย่อย (Task)
B7: =Duty!B10 -> การควบคุมการผลิตเครื่องโรยฝอยไม้ | F7: ตรวจสอบเครื่องโรยฝอยไม้ | J7: ปรับตั้งค่าเครื่องโรยฝอยไม้ตามค่าที่กำหนด | N7: จัดทำรายงานการผลิต
B11: =Duty!B13 -> การบำรุงรักษาเครื่องโรยฝอยไม้ | F11: ทำความสะอาดเครื่องโรยฝอยไม้ | J11: เปลี่ยนชิ้นส่วนที่ชำรุดเบื้องต้น | M11: บำรุงรักษารว | N11: บำรุงรักษาร่วมกับช่างซ่อมบำรุงตามแผนประจำปี
B16: =Duty!B16 -> การปฏิบัติตามคู่มือการทำงานของหน่วยงาน | F16: ปฏิบัติตามคู่มือความปลอดภัยของหน่วยงาน | J16: ปฏิบัติงานตามขั้นตอนการปฏิบัติงาน (WI)
B25: =['file:///g:/ /กลุ่ม 6/แบบรายละเอียดงาน-011.xlsx']duty!#REF! -> #VALUE!
B34: =['file:///g:/ /กลุ่ม 6/แบบรายละเอียดงาน-011.xlsx']duty!#REF! -> #VALUE!
B43: ผู้วิเคราห์ | H43: =['file:///g:/ /กลุ่ม 6/แบบรายละเอียดงาน-011.xlsx']data!#REF! -> #VALUE! | N43: ผู้ทบทวน | R43: ผู้อนุมัติ
C44: =['file:///g:/ /กลุ่ม 6/แบบรายละเอียดงาน-011.xlsx']data!#REF! -> #VALUE! | H44: =['file:///g:/ /กลุ่ม 6/แบบรายละเอียดงาน-011.xlsx']data!#REF! -> #VALUE! | N44: =Duty!B22 -> นางสาวรัติยาภรณ์ อัศวะธรรมวุธ | R44: =['file:///g:/ /กลุ่ม 6/แบบรายละเอียดงาน-011.xlsx']DATA!B2 -> #VALUE!
C45: =['file:///g:/ /กลุ่ม 6/แบบรายละเอียดงาน-011.xlsx']data!#REF! -> #VALUE! | H45: =['file:///g:/ /กลุ่ม 6/แบบรายละเอียดงาน-011.xlsx']data!#REF! -> #VALUE!
C46: =['file:///g:/ /กลุ่ม 6/แบบรายละเอียดงาน-011.xlsx']data!#REF! -> #VALUE! | H46: =['file:///g:/ /กลุ่ม 6/แบบรายละเอียดงาน-011.xlsx']data!#REF! -> #VALUE! | N46: ตำแหน่ง | O46: =Duty!E22 -> หัวหน้าแผนกฝึกอบรม | R46: ตำแหน่ง | S46: =['file:///g:/ /กลุ่ม 6/แบบรายละเอียดงาน-011.xlsx']DATA!F2 -> #VALUE!
C47: =['file:///g:/ /กลุ่ม 6/แบบรายละเอียดงาน-011.xlsx']data!#REF! -> #VALUE! | H47: =['file:///g:/ /กลุ่ม 6/แบบรายละเอียดงาน-011.xlsx']data!#REF! -> #VALUE!
C48: =['file:///g:/ /กลุ่ม 6/แบบรายละเอียดงาน-011.xlsx']data!#REF! -> #VALUE! | H48: =['file:///g:/ /กลุ่ม 6/แบบรายละเอียดงาน-011.xlsx']data!#REF! -> #VALUE!

Sheet A1
A1: การวิเคราะห์งาน (Job Analysis : Step)
B3: สถานประกอบการ | D3: =DATA!C4 -> บจก. วนชัย พาแนล อินดัสทรี่ส์ | F3: แผนก | G3: =DATA!J4 -> ผลิตแผ่น MDF 2
B4: ตำแหน่งงาน | D4: =DATA!C5 -> ผู้ควบคุมเครื่องโรยฝอยไม้ | F4: วัน / เดือน / ปี ที่วิเคราะห์ | G4: =DATA!L5 -> 240680
C6: =Duty!B10 -> การควบคุมการผลิตเครื่องโรยฝอยไม้ | F6: ตรวจสอบเครื่องโรยฝอยไม้
B8: ที่ | C8: ขั้นตอนการปฏิบัติงาน | D8: เครื่องมือ / วัสดุ / อุปกรณ์ | E8: ความรู้ที่ต้องใช้ | F8: คุณลักษณะ/ทัศนคติ | G8: มาตรฐาน | H8: ความปลอดภัย
D9: ที่ใช้ในการปฏิบัติงาน | E9: ในการปฏิบัติงาน | F9: ที่ต้องใช้ในการปฏิบัติงาน | G9: ในการปฏิบัติงาน | H9: ข้อควรระวัง
B10: 1 | C10: สวมอุปกรณ์คุ้มครองความปลอดภัย | D10: - หมวกนิรภัย | E10: - วิธีการใช้อุปกรณ์ป้องกัน | F10: - มีจิตสำนึกด้านความปลอดภัย | G10: สวมอุปกรณ์ป้องกันความ | H10: หากไม่สวมอุปกรณ์ป้องกัน
C11: ส่วนบุคคล (PPE) | D11: - แว่นตานิรภัย | E11: ส่วนบุคคล | F11: มีวินัยในการปฏิบัติงาน | G11: ปลอดภัยส่วนบุคคลครบทุกชิ้น | H11: หรือสวมไม่ถูกวิธีอาจก่อ
D12: - หน้ากากอนามัย | G12: ในขณะปฏิบัติงาน | H12: ให้เกิดอันตราย
D13: - ถุงมือผ้า
D14: - รองเท้านิรภัย
D15: - เครื่องป้องกันเสียง
B16: 2 | C16: รับส่งผลัดการปฏิบัติงาน | D16: - รายงานการผลิตจดบันทึก | E16: - วิธีการอ่านรายงาน "รายงาน | F16: - มีความละเอียดรอบคอบใน | G16: -อ่านรายงานได้ถูกต้องครบถ้วน | H16: - ต้องรายงานปัญหาข้อ
D17: - รายงานการตรวจเช็คเครื่องจักร | E17: การผลิตจดบันทึก" และ | F17: การอ่านรายงาน | G17: -มีการรับส่งผลัดโดยบุคคล | H17: บกพร่องด้วยวาจา ผลัดต่อ
D18: ประจำผลัด | E18: "รายงานการตรวจเช็คเครื่องจักร | G18: ต่อบุคคล | H18: ผลัด
D19: - ปากกาจดบันทึก | E19: ประจำผลัด"
B20: 3 | C20: ตรวจสอบรายละเอียด | D20: - รายงานการผลิตจดบันทึก | E20: - วิธีการอ่านรายงาน "รายงาน | F20: - มีความละเอียดรอบคอบใน | G20: -อ่านรายงานได้ถูกต้องครบถ้วน | H20: - หากพบข้อบกพร่องให้
C21: ผลการปฏิบัติงานของผลัดที่ผ่านมา | D21: - รายงานการตรวจเช็คเครื่องจักร | E21: การผลิตจดบันทึก" และ | F21: การอ่านรายงานและการตรวจ | G21: - อ่านรหัสอุปรกรณ์ได้ถูกต้อง | H21: รีบดำเนินการแก้ไขทันที
C22: (Re Check) | D22: ประจำผลัด | E22: "รายงานการตรวจเช็คเครื่องจักร | F22: สอบ | G22: ครบถ้วน
D23: - ปากกาจดบันทึก | E23: ประจำผลัด"
B24: 4 | C24: ตรวจสอบการทำงานของเครื่อง | D24: - เครื่องมือวัดค่าที่เกี่ยวข้อง | E24: - อุปกรณ์และส่วนประกอบของ | F24: - รู้จักสังเกตความผิดปกติของ | G24: - เครื่องจักมีความพร้อมและ | H24: - หากพบข้อบกพร่องให้
C25: โรยฝอยไม้ | D25: - เครืองโรยฝอยไม้ | E25: เครื่องโรยฝอยไม้ | F25: เครื่องโรย | G25: สามารถทำงานได้ปกติ | H25: รีบดำเนินการแก้ไขทันที
D26: - ผ้าเช็คมือ | E26: - วิธีการใช้งานเครื่องโรยฝอยไม้ | F26: - มีความละเอียดรอบคอบ
D27: - ปากกาจดบันทึก
D28: - คู่มือ/วิธีการปฏิบัติงาน
A32: ผู้วิเคราะห์ | C32: =DATA!B8 -> นางสาวรัติยาภรณ์ อัศวะธรรมวุธ | D32: =DATA!F8 -> หัวหน้าแผนกฝึกอบรม | G32: ผู้ทบทวน | H32: ผู้อนุมัติ
C33: =DATA!B10 -> นายเอกพงศ์ ไทยเกิด | D33: =DATA!F10 -> พนักงานฝึกอบรม
C34: =DATA!B12 -> นายพันธวงศ์ ศิริพันธ์ | D34: =DATA!F12 -> หัวหน้าส่วนผลิต MDF 2 | G34: =DATA!B21 -> นาย1 | H34: =DATA!B23 -> นาย2
C35: =DATA!B14 -> 0 | D35: =DATA!F14 -> 0
C36: =DATA!B16 -> 0 | D36: =DATA!F16 -> 0 | G36: =DATA!F21 -> ผู้จัดการฝ่ายผลิต | H36: =DATA!F23 -> ผู้จัดการโรงงาน
C37: =DATA!B18 -> 0 | D37: =DATA!F18 -> 0

Sheet A2
A1: การวิเคราะห์งาน (Job Analysis : Step)
B3: สถานประกอบการ | D3: =DATA!C4 -> บจก. วนชัย พาแนล อินดัสทรี่ส์ | F3: แผนก | G3: =DATA!J4 -> ผลิตแผ่น MDF 2
B4: ตำแหน่งงาน | D4: =DATA!C5 -> ผู้ควบคุมเครื่องโรยฝอยไม้ | F4: วัน / เดือน / ปี ที่วิเคราะห์ | G4: =DATA!L5 -> 240680
C6: =Duty!B10 -> การควบคุมการผลิตเครื่องโรยฝอยไม้ | F6: ปรับตั้งค่าเครื่องโรยฝอยไม้ตามค่าที่กำหนด
B8: ที่ | C8: ขั้นตอนการปฏิบัติงาน | D8: เครื่องมือ / วัสดุ / อุปกรณ์ | E8: ความรู้ที่ต้องใช้ | F8: คุณลักษณะ/ทัศนคติ | G8: มาตรฐาน | H8: ความปลอดภัย
D9: ที่ใช้ในการปฏิบัติงาน | E9: ในการปฏิบัติงาน | F9: ที่ต้องใช้ในการปฏิบัติงาน | G9: ในการปฏิบัติงาน | H9: ข้อควรระวัง
B10: 1 | C10: ตรวจและปรับตั้งความหนาแน่นของ | D10: - เครื่องโรยฝอยไม้ | E10: - ระบบการทำงานของ | F10: - มีความละเอียดรอบคอบ | G10: - ระดับ Fiber ใน Dosing | H10: - หากพบข้อบกพรอง
C11: ฝอยไม้ | D11: - แผงควบคุมและแสดงผล | E11: เครื่องโรยฝอยไม้ | F11: - รู้จักสังเกตความผิดปกติ | G11: Bin ต้องมากกว่า 50% | H11: ให้แก้ไขทันที
E12: - การควบคุมและการแสดงผล | F12: ของค่าที่แสดงผล | G12: ก่อนโรย | H12: - บันทึกข้อบกพร่อง
E13: - การปรับตั้งความหนาแน่น | F13: - มีจิตสำนึกด้านความ | H13: ลงในรายงาน
E14: ของฝอยไม้ | F14: ปลอดภัย
B15: 2 | C15: ตรวจและปรับตั้งความเรียบของ | D15: - เครื่องโรยฝอยไม้ | E15: - ระบบการทำงานของ | F15: - มีความละเอียดรอบคอบ | G15: - ความเรียบของหน้าตัด | H15: - หากพบข้อบกพรอง
C16: หน้าตัดชิ้นงาน | D16: - แผงควบคุมและแสดงผล | E16: เครื่องโรยฝอยไม้ | F16: - รู้จักสังเกตความผิดปกติ | G16: ชิ้นงานได้ค่าตามมาตรฐาน | H16: ให้แก้ไขทันที
E17: - การควบคุมและการแสดงผล | F17: ของค่าที่แสดงผล | G17: ที่กำหนด | H17: - บันทึกข้อบกพร่อง
E18: - การตรวจและปรับตั้งความ | F18: - มีจิตสำนึกด้านความ | H18: ลงในรายงาน
E19: เรียบของหน้าตัดชิ้นงาน | F19: ปลอดภัย
B20: 3 | C20: ตรวจสอบคุณภาพของผิวหน้าชิ้นงาน | D20: - เครื่องโรยฝอยไม้ | E20: - ระบบการทำงานของ | F20: - มีความละเอียดรอบคอบ | G20: - ผิวหน้าชิ้นงานได้คุณภาพ | H20: - หากพบข้อบกพรอง
D21: - แผงควบคุมและแสดงผล | E21: เครื่องโรยฝอยไม้ | F21: - รู้จักสังเกตความผิดปกติ | G21: ตามค่าที่กำหนด เช่น ไม่มี | H21: ให้แก้ไขทันที
E22: - การควบคุมและการแสดงผล | F22: ของค่าที่แสดงผล | G22: สิ่งปลอมปน, ไม่มีวัตถุที่ | H22: - บันทึกข้อบกพร่อง
E23: - การตรวจสอบคุณภาพของ | F23: - มีจิตสำนึกด้านความ | G23: เป็นโลหะปลอมปน | H23: ลงในรายงาน
E24: ผิวหน้าชิ้นงาน | F24: ปลอดภัย
B25: 4 | C25: ควบคุมน้ำหนักการโรยฝอยไม้ | D25: - เครื่องโรยฝอยไม้ | E25: - ระบบการทำงานของ | F25: - มีความละเอียดรอบคอบ | G25: - น้ำหนักไฟเบอร์ต่อหน่วย | H25: - หากพบข้อบกพรอง
D26: - แผงควบคุมและแสดงผล | E26: เครื่องโรยฝอยไม้ | F26: - รู้จักสังเกตความผิดปกติ | G26: พื้นที่โรยออกจาก Dosing | H26: ให้แก้ไขทันที
E27: - การควบคุมและการแสดงผล | F27: ของค่าที่แสดงผล | G27: bin ได้ตามค่าที่กำหนด | H27: - บันทึกข้อบกพร่อง
E28: - การควบคุมน้ำหนักการโรย | F28: - มีจิตสำนึกด้านความ | H28: ลงในรายงาน
E29: ฝอยไม้ | F29: ปลอดภัย
B30: 5 | C30: ควบคุมการทำงานให้ได้ค่าตาม Set Point | D30: - เครื่องโรยฝอยไม้ | E30: - ระบบการทำงานของ | F30: - มีความละเอียดรอบคอบ | G30: - ค่าอยู่ในช่วงควบคุมของ | H30: - หากพบข้อบกพรอง
D31: - แผงควบคุมและแสดงผล | E31: เครื่องโรยฝอยไม้ | F31: - รู้จักสังเกตความผิดปกติ | G31: มาตรฐานการผลิต | H31: ให้แก้ไขทันที
E32: - การควบคุมและการแสดงผล | F32: ของค่าที่แสดงผล | H32: - บันทึกข้อบกพร่อง
E33: - การควบคุมการทำงานให้ได้ | F33: - มีจิตสำนึกด้านความ | H33: ทันที
E34: ตามค่า Set Point (ปรับตั้งค่า | F34: ปลอดภัย
E35: พารามิเตอร์)
A39: ผู้วิเคราะห์ | C39: =DATA!B8 -> นางสาวรัติยาภรณ์ อัศวะธรรมวุธ | D39: =DATA!F8 -> หัวหน้าแผนกฝึกอบรม | G39: ผู้ทบทวน | H39: ผู้อนุมัติ
C40: =DATA!B10 -> นายเอกพงศ์ ไทยเกิด | D40: =DATA!F10 -> พนักงานฝึกอบรม
C41: =DATA!B12 -> นายพันธวงศ์ ศิริพันธ์ | D41: =DATA!F12 -> หัวหน้าส่วนผลิต MDF 2 | G41: =DATA!B21 -> นาย1 | H41: =DATA!B23 -> นาย2
C42: =DATA!B14 -> 0 | D42: =DATA!F14 -> 0
C43: =DATA!B16 -> 0 | D43: =DATA!F16 -> 0 | G43: =DATA!F21 -> ผู้จัดการฝ่ายผลิต | H43: =DATA!F23 -> ผู้จัดการโรงงาน
C44: =DATA!B18 -> 0 | D44: =DATA!F18 -> 0

Sheet A3
A1: การวิเคราะห์งาน (Job Analysis : Step)
B3: สถานประกอบการ | D3: =DATA!C4 -> บจก. วนชัย พาแนล อินดัสทรี่ส์ | F3: แผนก | G3: =DATA!J4 -> ผลิตแผ่น MDF 2
B4: ตำแหน่งงาน | D4: =DATA!C5 -> ผู้ควบคุมเครื่องโรยฝอยไม้ | F4: วัน / เดือน / ปี ที่วิเคราะห์ | G4: =DATA!L5 -> 240680
C6: =Duty!B10 -> การควบคุมการผลิตเครื่องโรยฝอยไม้ | F6: จัดทำรายงานการผลิต
B8: ที่ | C8: ขั้นตอนการปฏิบัติงาน | D8: เครื่องมือ / วัสดุ / อุปกรณ์ | E8: ความรู้ที่ต้องใช้ | F8: คุณลักษณะ/ทัศนคติ | G8: มาตรฐาน | H8: ความปลอดภัย
D9: ที่ใช้ในการปฏิบัติงาน | E9: ในการปฏิบัติงาน | F9: ที่ต้องใช้ในการปฏิบัติงาน | G9: ในการปฏิบัติงาน | H9: ข้อควรระวัง
B10: 1 | C10: ทำความเข้าใจแบบฟอร์มการบันทึก | D10: - แบบฟอร์มการตรวจเช็ค | E10: - วิธีการบันทึกค่าลงในแบบ | F10: - มีความละเอียดรอบคอบ | G10: - มีความเข้าใจ | H10: - หากไม่บันทึกรายงาน
C11: ค่าพารามิเตอร์การโรยฝอยไม้ | D11: - รายการตรวจเช็ค | E11: ฟอร์ม | F11: และใส่ใจในการทำงาน | G11: รายละเอียดการตรวจสอบ | H11: ตามรายการ และเวลา
E12: - รายการที่ตรวจสอบ | G12: ตามแบบฟอร์ม | H12: ที่กำหนด อาจส่งผล
H13: ต่อการผลิตได้
B14: 2 | C14: บันทึกผลการตรวจสอบตามเวลาที่ | D14: - แบบฟอร์มการตรวจเช็ค | E14: - วิธีการบันทึกค่าลงในแบบ | F14: - มีความละเอียดรอบคอบ | G14: - บันทึกค่าที่ทำการผลิต | H14: - หากไม่บันทึกรายงาน
C15: กำหนด | D15: - รายการตรวจเช็ค | E15: ฟอร์ม | F15: และใส่ใจในการทำงาน | G15: และปัญหาเครื่องจักร | H15: ตามรายการ และเวลา
D16: - นาฬิกา | E16: - รายการที่ตรวจสอบ | G16: ครบทุกรายการ | H16: ที่กำหนด อาจส่งผล
D17: - ปากกา | H17: ต่อการผลิตได้
B18: 3 | C18: บันทึกรายการตรวจสอบตามใบรายการ | D18: - แบบฟอร์มการตรวจเช็ค | E18: - วิธีการบันทึกค่าลงในแบบ | F18: - มีความละเอียดรอบคอบ | G18: - บันทึกค่าที่ทำการผลิต | H18: - หากไม่บันทึกรายงาน
C19: ตรวจสอบ | D19: - รายการตรวจเช็ค | E19: ฟอร์ม | F19: และใส่ใจในการทำงาน | G19: และปัญหาเครื่องจักร | H19: ตามรายการ และเวลา
E20: - รายการที่ตรวจสอบ | H20: ที่กำหนด อาจส่งผล
H21: ต่อการผลิตได้
B22: 4 | C22: เปรียบเทียบค่าที่ตรวจสอบกับเกณฑ์ | D22: - แบบฟอร์มและ | E22: - วิธีการบันทึกค่าลงในแบบ | F22: - มีความละเอียดรอบคอบ | G22: - ประเมินและวิเคราะห์ | H22: - หากไม่บันทึกรายงาน
C23: มาตรฐานที่กำหนด | D23: ค่ามาตรฐานที่กำหนด | E23: ฟอร์ม | F23: และใส่ใจในการทำงาน | G23: ผลรายงานได้ | H23: ตามรายการ และเวลา
E24: - รายการที่ตรวจสอบ | H24: ที่กำหนด อาจส่งผล
H25: ต่อการผลิตได้
B26: 5 | C26: ส่งรายงานผลการผลิตให้กับผลัดต่อไป | D26: - รายการตรวจเช็คและ | E26: - วิธีการบันทึกค่าลงในแบบ | F26: - มีความละเอียดรอบคอบ | G26: - มีรายงานที่ถูกต้อง | H26: - หากไม่บันทึกรายงาน
D27: สมุดบันทึกผู้ควบคุมเครื่องโรย | E27: ฟอร์ม | F27: และใส่ใจในการทำงาน | G27: ครบถ้วนพร้อมส่งผลัด | H27: ตามรายการ และเวลา
E28: - รายการที่ตรวจสอบ | G28: ต่อไป | H28: ที่กำหนด อาจส่งผล
H29: ต่อการผลิตได้
A33: ผู้วิเคราะห์ | C33: =DATA!B8 -> นางสาวรัติยาภรณ์ อัศวะธรรมวุธ | D33: =DATA!F8 -> หัวหน้าแผนกฝึกอบรม | G33: ผู้ทบทวน | H33: ผู้อนุมัติ
C34: =DATA!B10 -> นายเอกพงศ์ ไทยเกิด | D34: =DATA!F10 -> พนักงานฝึกอบรม
C35: =DATA!B12 -> นายพันธวงศ์ ศิริพันธ์ | D35: =DATA!F12 -> หัวหน้าส่วนผลิต MDF 2 | G35: =DATA!B21 -> นาย1 | H35: =DATA!B23 -> นาย2
C36: =DATA!B14 -> 0 | D36: =DATA!F14 -> 0
C37: =DATA!B16 -> 0 | D37: =DATA!F16 -> 0 | G37: =DATA!F21 -> ผู้จัดการฝ่ายผลิต | H37: =DATA!F23 -> ผู้จัดการโรงงาน
C38: =DATA!B18 -> 0 | D38: =DATA!F18 -> 0

Sheet B1
A1: การวิเคราะห์งาน (Job Analysis : Step)
B3: สถานประกอบการ | D3: #N/A | F3: แผนก | G3: =DATA!J4 -> ผลิตแผ่น MDF 2
B4: ตำแหน่งงาน | D4: #N/A | F4: วัน / เดือน / ปี ที่วิเคราะห์ | G4: =DATA!L5 -> 240680
C6: =Duty!B13 -> การบำรุงรักษาเครื่องโรยฝอยไม้ | F6: ทำความสะอาดเครื่องโรยฝอยไม้
B8: ที่ | C8: ขั้นตอนการปฏิบัติงาน | D8: เครื่องมือ / วัสดุ / อุปกรณ์ | E8: ความรู้ที่ต้องใช้ | F8: คุณลักษณะ/ทัศนคติ | G8: มาตรฐาน | H8: ความปลอดภัย
D9: ที่ใช้ในการปฏิบัติงาน | E9: ในการปฏิบัติงาน | F9: ที่ต้องใช้ในการปฏิบัติงาน | G9: ในการปฏิบัติงาน | H9: ข้อควรระวัง
B10: 1 | C10: ศึกษาแผนการบำรุงรักษาประจำปี | D10: - ตารางแผนการบำรุง | E10: - การจัดทำแผนการบำรุงรักษา
D11: รักษาเครื่องจักรประจำปี | E11: ประจำปี
D12: - อุปกรณ์ป้องกันส่วน
D13: บุคคล (PPE)
B14: 2 | C14: ปิดสวิตซ์แผงควบคุมระบบการทำงาน
C15: เครื่องโรยฝอยไม้
B17: 3 | C17: จัดเก็บวัสดุอุปกรณ์ที่ไม่เกี่ยวข้อง
C18: ออกจากเครื่องโรยฝอยไม้
B20: 4 | C20: ติดตั้งป้ายเครื่องโรยฝอยไม้ที่ทำการ
C21: บำรุงรักษา
B23: 5
B26: 6
B29: 7
A32: ผู้วิเคราะห์ | C32: =DATA!B8 -> นางสาวรัติยาภรณ์ อัศวะธรรมวุธ | D32: =DATA!F8 -> หัวหน้าแผนกฝึกอบรม | G32: ผู้ทบทวน | H32: ผู้อนุมัติ
C33: =DATA!B10 -> นายเอกพงศ์ ไทยเกิด | D33: =DATA!F10 -> พนักงานฝึกอบรม
C34: =DATA!B12 -> นายพันธวงศ์ ศิริพันธ์ | D34: =DATA!F12 -> หัวหน้าส่วนผลิต MDF 2 | G34: =DATA!B21 -> นาย1 | H34: =DATA!B23 -> นาย2
C35: =DATA!B14 -> 0 | D35: =DATA!F14 -> 0
C36: =DATA!B16 -> 0 | D36: =DATA!F16 -> 0 | G36: =DATA!F21 -> ผู้จัดการฝ่ายผลิต | H36: =DATA!F23 -> ผู้จัดการโรงงาน
C37: =DATA!B18 -> 0 | D37: =DATA!F18 -> 0

Sheet B2
A1: การวิเคราะห์งาน (Job Analysis : Step)
B3: สถานประกอบการ | D3: =DATA!C4 -> บจก. วนชัย พาแนล อินดัสทรี่ส์ | F3: แผนก | G3: =DATA!J4 -> ผลิตแผ่น MDF 2
B4: ตำแหน่งงาน | D4: =DATA!C5 -> ผู้ควบคุมเครื่องโรยฝอยไม้ | F4: วัน / เดือน / ปี ที่วิเคราะห์ | G4: =DATA!L5 -> 240680
C6: =Duty!B13 -> การบำรุงรักษาเครื่องโรยฝอยไม้ | F6: ='Task '!J11 -> เปลี่ยนชิ้นส่วนที่ชำรุดเบื้องต้น
B8: ที่ | C8: ขั้นตอนการปฏิบัติงาน | D8: เครื่องมือ / วัสดุ / อุปกรณ์ | E8: ความรู้ที่ต้องใช้ | F8: คุณลักษณะ/ทัศนคติ | G8: มาตรฐาน | H8: ความปลอดภัย
D9: ที่ใช้ในการปฏิบัติงาน | E9: ในการปฏิบัติงาน | F9: ที่ต้องใช้ในการปฏิบัติงาน | G9: ในการปฏิบัติงาน | H9: ข้อควรระวัง
B10: 1
B13: 2
B16: 3
B19: 4
B22: 5
B25: 6
B28: 7
A31: ผู้วิเคราะห์ | C31: =DATA!B8 -> นางสาวรัติยาภรณ์ อัศวะธรรมวุธ | D31: =DATA!F8 -> หัวหน้าแผนกฝึกอบรม | G31: ผู้ทบทวน | H31: ผู้อนุมัติ
C32: =DATA!B10 -> นายเอกพงศ์ ไทยเกิด | D32: =DATA!F10 -> พนักงานฝึกอบรม
C33: =DATA!B12 -> นายพันธวงศ์ ศิริพันธ์ | D33: =DATA!F12 -> หัวหน้าส่วนผลิต MDF 2 | G33: =DATA!B21 -> นาย1 | H33: =DATA!B23 -> นาย2
C34: =DATA!B14 -> 0 | D34: =DATA!F14 -> 0
C35: =DATA!B16 -> 0 | D35: =DATA!F16 -> 0 | G35: =DATA!F21 -> ผู้จัดการฝ่ายผลิต | H35: =DATA!F23 -> ผู้จัดการโรงงาน
C36: =DATA!B18 -> 0 | D36: =DATA!F18 -> 0

Sheet B3
A1: การวิเคราะห์งาน (Job Analysis : Step)
B3: สถานประกอบการ | D3: #N/A | F3: แผนก | G3: =DATA!J4 -> ผลิตแผ่น MDF 2
B4: ตำแหน่งงาน | D4: #N/A | F4: วัน / เดือน / ปี ที่วิเคราะห์ | G4: =DATA!L5 -> 240680
C6: =#REF! -> #REF! | F6: =#REF! -> #REF!
B8: ที่ | C8: ขั้นตอนการปฏิบัติงาน | D8: เครื่องมือ / วัสดุ / อุปกรณ์ | E8: ความรู้ที่ต้องใช้ | F8: คุณลักษณะ/ทัศนคติ | G8: มาตรฐาน | H8: ความปลอดภัย
D9: ที่ใช้ในการปฏิบัติงาน | E9: ในการปฏิบัติงาน | F9: ที่ต้องใช้ในการปฏิบัติงาน | G9: ในการปฏิบัติงาน | H9: ข้อควรระวัง
B10: 1
B13: 2
B16: 3
B19: 4
B22: 5
B25: 6
B28: 7
A31: ผู้วิเคราะห์ | C31: =DATA!B8 -> นางสาวรัติยาภรณ์ อัศวะธรรมวุธ | D31: =DATA!F8 -> หัวหน้าแผนกฝึกอบรม | G31: ผู้ทบทวน | H31: ผู้อนุมัติ
C32: =DATA!B10 -> นายเอกพงศ์ ไทยเกิด | D32: =DATA!F10 -> พนักงานฝึกอบรม
C33: =DATA!B12 -> นายพันธวงศ์ ศิริพันธ์ | D33: =DATA!F12 -> หัวหน้าส่วนผลิต MDF 2 | G33: =DATA!B21 -> นาย1 | H33: =DATA!B23 -> นาย2
C34: =DATA!B14 -> 0 | D34: =DATA!F14 -> 0
C35: =DATA!B16 -> 0 | D35: =DATA!F16 -> 0 | G35: =DATA!F21 -> ผู้จัดการฝ่ายผลิต | H35: =DATA!F23 -> ผู้จัดการโรงงาน
C36: =DATA!B18 -> 0 | D36: =DATA!F18 -> 0

Sheet B4
A1: การวิเคราะห์งาน (Job Analysis : Step)
B3: สถานประกอบการ | D3: #N/A | F3: แผนก | G3: =DATA!J4 -> ผลิตแผ่น MDF 2
B4: ตำแหน่งงาน | D4: #N/A | F4: วัน / เดือน / ปี ที่วิเคราะห์ | G4: =DATA!L5 -> 240680
C6: =#REF! -> #REF! | F6: =#REF! -> #REF!
B8: ที่ | C8: ขั้นตอนการปฏิบัติงาน | D8: เครื่องมือ / วัสดุ / อุปกรณ์ | E8: ความรู้ที่ต้องใช้ | F8: คุณลักษณะ/ทัศนคติ | G8: มาตรฐาน | H8: ความปลอดภัย
D9: ที่ใช้ในการปฏิบัติงาน | E9: ในการปฏิบัติงาน | F9: ที่ต้องใช้ในการปฏิบัติงาน | G9: ในการปฏิบัติงาน | H9: ข้อควรระวัง
B10: 1
B13: 2
B16: 3
B19: 4
B22: 5
B25: 6
B28: 7
A31: ผู้วิเคราะห์ | C31: =DATA!B8 -> นางสาวรัติยาภรณ์ อัศวะธรรมวุธ | D31: =DATA!F8 -> หัวหน้าแผนกฝึกอบรม | G31: ผู้ทบทวน | H31: ผู้อนุมัติ
C32: =DATA!B10 -> นายเอกพงศ์ ไทยเกิด | D32: =DATA!F10 -> พนักงานฝึกอบรม
C33: =DATA!B12 -> นายพันธวงศ์ ศิริพันธ์ | D33: =DATA!F12 -> หัวหน้าส่วนผลิต MDF 2 | G33: =DATA!B21 -> นาย1 | H33: =DATA!B23 -> นาย2
C34: =DATA!B14 -> 0 | D34: =DATA!F14 -> 0
C35: =DATA!B16 -> 0 | D35: =DATA!F16 -> 0 | G35: =DATA!F21 -> ผู้จัดการฝ่ายผลิต | H35: =DATA!F23 -> ผู้จัดการโรงงาน
C36: =DATA!B18 -> 0 | D36: =DATA!F18 -> 0

Sheet B5
A1: การวิเคราะห์งาน (Job Analysis : Step)
B3: สถานประกอบการ | D3: #N/A | F3: แผนก | G3: =DATA!J4 -> ผลิตแผ่น MDF 2
B4: ตำแหน่งงาน | D4: #N/A | F4: วัน / เดือน / ปี ที่วิเคราะห์ | G4: =DATA!L5 -> 240680
C6: =#REF! -> #REF! | F6: =#REF! -> #REF!
B8: ที่ | C8: ขั้นตอนการปฏิบัติงาน | D8: เครื่องมือ / วัสดุ / อุปกรณ์ | E8: ความรู้ที่ต้องใช้ | F8: คุณลักษณะ/ทัศนคติ | G8: มาตรฐาน | H8: ความปลอดภัย
D9: ที่ใช้ในการปฏิบัติงาน | E9: ในการปฏิบัติงาน | F9: ที่ต้องใช้ในการปฏิบัติงาน | G9: ในการปฏิบัติงาน | H9: ข้อควรระวัง
B10: 1
B13: 2
B16: 3
B19: 4
B22: 5
B25: 6
B28: 7
A31: ผู้วิเคราะห์ | C31: =DATA!B8 -> นางสาวรัติยาภรณ์ อัศวะธรรมวุธ | D31: =DATA!F8 -> หัวหน้าแผนกฝึกอบรม | G31: ผู้ทบทวน | H31: ผู้อนุมัติ
C32: =DATA!B10 -> นายเอกพงศ์ ไทยเกิด | D32: =DATA!F10 -> พนักงานฝึกอบรม
C33: =DATA!B12 -> นายพันธวงศ์ ศิริพันธ์ | D33: =DATA!F12 -> หัวหน้าส่วนผลิต MDF 2 | G33: =DATA!B21 -> นาย1 | H33: =DATA!B23 -> นาย2
C34: =DATA!B14 -> 0 | D34: =DATA!F14 -> 0
C35: =DATA!B16 -> 0 | D35: =DATA!F16 -> 0 | G35: =DATA!F21 -> ผู้จัดการฝ่ายผลิต | H35: =DATA!F23 -> ผู้จัดการโรงงาน
C36: =DATA!B18 -> 0 | D36: =DATA!F18 -> 0

Sheet B6
A1: การวิเคราะห์งาน (Job Analysis : Step)
B3: สถานประกอบการ | D3: =['file:///c:/users/administrator.3zerxtmea9pkoqq/desktop/competency dsd/ร่างหลักสูตร.xls']DATA!$C$4 -> #VALUE! | F3: แผนก | G3: =DATA!J4 -> ผลิตแผ่น MDF 2
B4: ตำแหน่งงาน | D4: #N/A | F4: วัน / เดือน / ปี ที่วิเคราะห์ | G4: =DATA!L5 -> 240680
C6: =#REF! -> #REF! | F6: =#REF! -> #REF!
B8: ที่ | C8: ขั้นตอนการปฏิบัติงาน | D8: เครื่องมือ / วัสดุ / อุปกรณ์ | E8: ความรู้ที่ต้องใช้ | F8: คุณลักษณะ/ทัศนคติ | G8: มาตรฐาน | H8: ความปลอดภัย
D9: ที่ใช้ในการปฏิบัติงาน | E9: ในการปฏิบัติงาน | F9: ที่ต้องใช้ในการปฏิบัติงาน | G9: ในการปฏิบัติงาน | H9: ข้อควรระวัง
B10: 1
B13: 2
B16: 3
B19: 4
B22: 5
B25: 6
B28: 7
A31: ผู้วิเคราะห์ | C31: =DATA!B8 -> นางสาวรัติยาภรณ์ อัศวะธรรมวุธ | D31: =DATA!F8 -> หัวหน้าแผนกฝึกอบรม | G31: ผู้ทบทวน | H31: ผู้อนุมัติ
C32: =DATA!B10 -> นายเอกพงศ์ ไทยเกิด | D32: =DATA!F10 -> พนักงานฝึกอบรม
C33: =DATA!B12 -> นายพันธวงศ์ ศิริพันธ์ | D33: =DATA!F12 -> หัวหน้าส่วนผลิต MDF 2 | G33: =DATA!B21 -> นาย1 | H33: =DATA!B23 -> นาย2
C34: =DATA!B14 -> 0 | D34: =DATA!F14 -> 0
C35: =DATA!B16 -> 0 | D35: =DATA!F16 -> 0 | G35: =DATA!F21 -> ผู้จัดการฝ่ายผลิต | H35: =DATA!F23 -> ผู้จัดการโรงงาน
C36: =DATA!B18 -> 0 | D36: =DATA!F18 -> 0

Sheet C1
A1: การวิเคราะห์งาน (Job Analysis : Step)
B3: สถานประกอบการ | D3: #N/A | F3: แผนก | G3: =DATA!J4 -> ผลิตแผ่น MDF 2
B4: ตำแหน่งงาน | D4: #N/A | F4: วัน / เดือน / ปี ที่วิเคราะห์ | G4: =DATA!L5 -> 240680
C6: =Duty!B16 -> การปฏิบัติตามคู่มือการทำงานของหน่วยงาน | F6: =#REF! -> #REF!
B8: ที่ | C8: ขั้นตอนการปฏิบัติงาน | D8: เครื่องมือ / วัสดุ / อุปกรณ์ | E8: ความรู้ที่ต้องใช้ | F8: คุณลักษณะ/ทัศนคติ | G8: มาตรฐาน | H8: ความปลอดภัย
D9: ที่ใช้ในการปฏิบัติงาน | E9: ในการปฏิบัติงาน | F9: ที่ต้องใช้ในการปฏิบัติงาน | G9: ในการปฏิบัติงาน | H9: ข้อควรระวัง
B10: 1
B13: 2
B16: 3
B19: 4
B22: 5
B25: 6
B28: 7
A31: ผู้วิเคราะห์ | C31: =DATA!B8 -> นางสาวรัติยาภรณ์ อัศวะธรรมวุธ | D31: =DATA!F8 -> หัวหน้าแผนกฝึกอบรม | G31: ผู้ทบทวน | H31: ผู้อนุมัติ
C32: =DATA!B10 -> นายเอกพงศ์ ไทยเกิด | D32: =DATA!F10 -> พนักงานฝึกอบรม
C33: =DATA!B12 -> นายพันธวงศ์ ศิริพันธ์ | D33: =DATA!F12 -> หัวหน้าส่วนผลิต MDF 2 | G33: =DATA!B21 -> นาย1 | H33: =DATA!B23 -> นาย2
C34: =DATA!B14 -> 0 | D34: =DATA!F14 -> 0
C35: =DATA!B16 -> 0 | D35: =DATA!F16 -> 0 | G35: =DATA!F21 -> ผู้จัดการฝ่ายผลิต | H35: =DATA!F23 -> ผู้จัดการโรงงาน
C36: =DATA!B18 -> 0 | D36: =DATA!F18 -> 0

Sheet C2
A1: การวิเคราะห์งาน (Job Analysis : Step)
B3: สถานประกอบการ | F3: แผนก
B4: ตำแหน่งงาน | F4: วัน / เดือน / ปี ที่วิเคราะห์
C6: =Duty!B16 -> การปฏิบัติตามคู่มือการทำงานของหน่วยงาน | F6: =#REF! -> #REF!
B8: ที่ | C8: ขั้นตอนการปฏิบัติงาน | D8: เครื่องมือ / วัสดุ / อุปกรณ์ | E8: ความรู้ที่ต้องใช้ | F8: คุณลักษณะ/ทัศนคติ | G8: มาตรฐาน | H8: ความปลอดภัย
D9: ที่ใช้ในการปฏิบัติงาน | E9: ในการปฏิบัติงาน | F9: ที่ต้องใช้ในการปฏิบัติงาน | G9: ในการปฏิบัติงาน | H9: ข้อควรระวัง
B10: 1
B13: 2
B16: 3
B19: 4
B22: 5
B25: 6
B28: 7
A31: ผู้วิเคราะห์ | C31: =DATA!B8 -> นางสาวรัติยาภรณ์ อัศวะธรรมวุธ | D31: =DATA!F8 -> หัวหน้าแผนกฝึกอบรม | G31: ผู้ทบทวน | H31: ผู้อนุมัติ
C32: =DATA!B10 -> นายเอกพงศ์ ไทยเกิด | D32: =DATA!F10 -> พนักงานฝึกอบรม
C33: =DATA!B12 -> นายพันธวงศ์ ศิริพันธ์ | D33: =DATA!F12 -> หัวหน้าส่วนผลิต MDF 2 | G33: =DATA!B21 -> นาย1 | H33: =DATA!B23 -> นาย2
C34: =DATA!B14 -> 0 | D34: =DATA!F14 -> 0
C35: =DATA!B16 -> 0 | D35: =DATA!F16 -> 0 | G35: =DATA!F21 -> ผู้จัดการฝ่ายผลิต | H35: =DATA!F23 -> ผู้จัดการโรงงาน
C36: =DATA!B18 -> 0 | D36: =DATA!F18 -> 0

Sheet C3
A1: การวิเคราะห์งาน (Job Analysis : Step)
B3: สถานประกอบการ | F3: แผนก
B4: ตำแหน่งงาน | F4: วัน / เดือน / ปี ที่วิเคราะห์
C6: =Duty!B16 -> การปฏิบัติตามคู่มือการทำงานของหน่วยงาน | F6: =#REF! -> #REF!
B8: ที่ | C8: ขั้นตอนการปฏิบัติงาน | D8: เครื่องมือ / วัสดุ / อุปกรณ์ | E8: ความรู้ที่ต้องใช้ | F8: คุณลักษณะ/ทัศนคติ | G8: มาตรฐาน | H8: ความปลอดภัย
D9: ที่ใช้ในการปฏิบัติงาน | E9: ในการปฏิบัติงาน | F9: ที่ต้องใช้ในการปฏิบัติงาน | G9: ในการปฏิบัติงาน | H9: ข้อควรระวัง
B10: 1
B13: 2
B16: 3
B19: 4
B22: 5
B25: 6
B28: 7
A31: ผู้วิเคราะห์ | C31: =DATA!B8 -> นางสาวรัติยาภรณ์ อัศวะธรรมวุธ | D31: =DATA!F8 -> หัวหน้าแผนกฝึกอบรม | G31: ผู้ทบทวน | H31: ผู้อนุมัติ
C32: =DATA!B10 -> นายเอกพงศ์ ไทยเกิด | D32: =DATA!F10 -> พนักงานฝึกอบรม
C33: =DATA!B12 -> นายพันธวงศ์ ศิริพันธ์ | D33: =DATA!F12 -> หัวหน้าส่วนผลิต MDF 2 | G33: =DATA!B21 -> นาย1 | H33: =DATA!B23 -> นาย2
C34: =DATA!B14 -> 0 | D34: =DATA!F14 -> 0
C35: =DATA!B16 -> 0 | D35: =DATA!F16 -> 0 | G35: =DATA!F21 -> ผู้จัดการฝ่ายผลิต | H35: =DATA!F23 -> ผู้จัดการโรงงาน
C36: =DATA!B18 -> 0 | D36: =DATA!F18 -> 0

Sheet C4
A1: การวิเคราะห์งาน (Job Analysis : Step)
B3: สถานประกอบการ | F3: แผนก
B4: ตำแหน่งงาน | F4: วัน / เดือน / ปี ที่วิเคราะห์
C6: =Duty!B16 -> การปฏิบัติตามคู่มือการทำงานของหน่วยงาน | F6: =#REF! -> #REF!
B8: ที่ | C8: ขั้นตอนการปฏิบัติงาน | D8: เครื่องมือ / วัสดุ / อุปกรณ์ | E8: ความรู้ที่ต้องใช้ | F8: คุณลักษณะ/ทัศนคติ | G8: มาตรฐาน | H8: ความปลอดภัย
D9: ที่ใช้ในการปฏิบัติงาน | E9: ในการปฏิบัติงาน | F9: ที่ต้องใช้ในการปฏิบัติงาน | G9: ในการปฏิบัติงาน | H9: ข้อควรระวัง
B10: 1
B13: 2
B16: 3
B19: 4
B22: 5
B25: 6
B28: 7
A31: ผู้วิเคราะห์ | C31: =DATA!B8 -> นางสาวรัติยาภรณ์ อัศวะธรรมวุธ | D31: =DATA!F8 -> หัวหน้าแผนกฝึกอบรม | G31: ผู้ทบทวน | H31: ผู้อนุมัติ
C32: =DATA!B10 -> นายเอกพงศ์ ไทยเกิด | D32: =DATA!F10 -> พนักงานฝึกอบรม
C33: =DATA!B12 -> นายพันธวงศ์ ศิริพันธ์ | D33: =DATA!F12 -> หัวหน้าส่วนผลิต MDF 2 | G33: =DATA!B21 -> นาย1 | H33: =DATA!B23 -> นาย2
C34: =DATA!B14 -> 0 | D34: =DATA!F14 -> 0
C35: =DATA!B16 -> 0 | D35: =DATA!F16 -> 0 | G35: =DATA!F21 -> ผู้จัดการฝ่ายผลิต | H35: =DATA!F23 -> ผู้จัดการโรงงาน
C36: =DATA!B18 -> 0 | D36: =DATA!F18 -> 0

Sheet C5
A1: การวิเคราะห์งาน (Job Analysis : Step)
B3: สถานประกอบการ | F3: แผนก
B4: ตำแหน่งงาน | F4: วัน / เดือน / ปี ที่วิเคราะห์
C6: =Duty!B16 -> การปฏิบัติตามคู่มือการทำงานของหน่วยงาน | F6: =#REF! -> #REF!
B8: ที่ | C8: ขั้นตอนการปฏิบัติงาน | D8: เครื่องมือ / วัสดุ / อุปกรณ์ | E8: ความรู้ที่ต้องใช้ | F8: คุณลักษณะ/ทัศนคติ | G8: มาตรฐาน | H8: ความปลอดภัย
D9: ที่ใช้ในการปฏิบัติงาน | E9: ในการปฏิบัติงาน | F9: ที่ต้องใช้ในการปฏิบัติงาน | G9: ในการปฏิบัติงาน | H9: ข้อควรระวัง
B10: 1
B13: 2
B16: 3
B19: 4
B22: 5
B25: 6
B28: 7
A31: ผู้วิเคราะห์ | C31: =DATA!B8 -> นางสาวรัติยาภรณ์ อัศวะธรรมวุธ | D31: =DATA!F8 -> หัวหน้าแผนกฝึกอบรม | G31: ผู้ทบทวน | H31: ผู้อนุมัติ
C32: =DATA!B10 -> นายเอกพงศ์ ไทยเกิด | D32: =DATA!F10 -> พนักงานฝึกอบรม
C33: =DATA!B12 -> นายพันธวงศ์ ศิริพันธ์ | D33: =DATA!F12 -> หัวหน้าส่วนผลิต MDF 2 | G33: =DATA!B21 -> นาย1 | H33: =DATA!B23 -> นาย2
C34: =DATA!B14 -> 0 | D34: =DATA!F14 -> 0
C35: =DATA!B16 -> 0 | D35: =DATA!F16 -> 0 | G35: =DATA!F21 -> ผู้จัดการฝ่ายผลิต | H35: =DATA!F23 -> ผู้จัดการโรงงาน
C36: =DATA!B18 -> 0 | D36: =DATA!F18 -> 0

Sheet C6
A1: การวิเคราะห์งาน (Job Analysis : Step)
B3: สถานประกอบการ | F3: แผนก
B4: ตำแหน่งงาน | F4: วัน / เดือน / ปี ที่วิเคราะห์
C6: =Duty!B16 -> การปฏิบัติตามคู่มือการทำงานของหน่วยงาน | F6: =#REF! -> #REF!
B8: ที่ | C8: ขั้นตอนการปฏิบัติงาน | D8: เครื่องมือ / วัสดุ / อุปกรณ์ | E8: ความรู้ที่ต้องใช้ | F8: คุณลักษณะ/ทัศนคติ | G8: มาตรฐาน | H8: ความปลอดภัย
D9: ที่ใช้ในการปฏิบัติงาน | E9: ในการปฏิบัติงาน | F9: ที่ต้องใช้ในการปฏิบัติงาน | G9: ในการปฏิบัติงาน | H9: ข้อควรระวัง
B10: 1
B13: 2
B16: 3
B19: 4
B22: 5
B25: 6
B28: 7
A31: ผู้วิเคราะห์ | C31: =DATA!B8 -> นางสาวรัติยาภรณ์ อัศวะธรรมวุธ | D31: =DATA!F8 -> หัวหน้าแผนกฝึกอบรม | G31: ผู้ทบทวน | H31: ผู้อนุมัติ
C32: =DATA!B10 -> นายเอกพงศ์ ไทยเกิด | D32: =DATA!F10 -> พนักงานฝึกอบรม
C33: =DATA!B12 -> นายพันธวงศ์ ศิริพันธ์ | D33: =DATA!F12 -> หัวหน้าส่วนผลิต MDF 2 | G33: =DATA!B21 -> นาย1 | H33: =DATA!B23 -> นาย2
C34: =DATA!B14 -> 0 | D34: =DATA!F14 -> 0
C35: =DATA!B16 -> 0 | D35: =DATA!F16 -> 0 | G35: =DATA!F21 -> ผู้จัดการฝ่ายผลิต | H35: =DATA!F23 -> ผู้จัดการโรงงาน
C36: =DATA!B18 -> 0 | D36: =DATA!F18 -> 0

Sheet D1
A1: การวิเคราะห์งาน (Job Analysis : Step)
B3: สถานประกอบการ | F3: แผนก
B4: ตำแหน่งงาน | F4: วัน / เดือน / ปี ที่วิเคราะห์
C6: =Duty!B19 -> 0 | F6: =#REF! -> #REF!
B8: ที่ | C8: ขั้นตอนการปฏิบัติงาน | D8: เครื่องมือ / วัสดุ / อุปกรณ์ | E8: ความรู้ที่ต้องใช้ | F8: คุณลักษณะ/ทัศนคติ | G8: มาตรฐาน | H8: ความปลอดภัย
D9: ที่ใช้ในการปฏิบัติงาน | E9: ในการปฏิบัติงาน | F9: ที่ต้องใช้ในการปฏิบัติงาน | G9: ในการปฏิบัติงาน | H9: ข้อควรระวัง
B10: 1
B13: 2
B16: 3
B19: 4
B22: 5
B25: 6
B28: 7
A31: ผู้วิเคราะห์ | C31: =DATA!B8 -> นางสาวรัติยาภรณ์ อัศวะธรรมวุธ | D31: =DATA!F8 -> หัวหน้าแผนกฝึกอบรม | G31: ผู้ทบทวน | H31: ผู้อนุมัติ
C32: =DATA!B10 -> นายเอกพงศ์ ไทยเกิด | D32: =DATA!F10 -> พนักงานฝึกอบรม
C33: =DATA!B12 -> นายพันธวงศ์ ศิริพันธ์ | D33: =DATA!F12 -> หัวหน้าส่วนผลิต MDF 2 | G33: =DATA!B21 -> นาย1 | H33: =DATA!B23 -> นาย2
C34: =DATA!B14 -> 0 | D34: =DATA!F14 -> 0
C35: =DATA!B16 -> 0 | D35: =DATA!F16 -> 0 | G35: =DATA!F21 -> ผู้จัดการฝ่ายผลิต | H35: =DATA!F23 -> ผู้จัดการโรงงาน
C36: =DATA!B18 -> 0 | D36: =DATA!F18 -> 0

Sheet D2
A1: การวิเคราะห์งาน (Job Analysis : Step)
B3: สถานประกอบการ | F3: แผนก
B4: ตำแหน่งงาน | F4: วัน / เดือน / ปี ที่วิเคราะห์
C6: =Duty!B19 -> 0 | F6: =#REF! -> #REF!
F7: =Duty!B19 -> 0
B8: ที่ | C8: ขั้นตอนการปฏิบัติงาน | D8: เครื่องมือ / วัสดุ / อุปกรณ์ | E8: ความรู้ที่ต้องใช้ | F8: คุณลักษณะ/ทัศนคติ | G8: มาตรฐาน | H8: ความปลอดภัย
D9: ที่ใช้ในการปฏิบัติงาน | E9: ในการปฏิบัติงาน | F9: ที่ต้องใช้ในการปฏิบัติงาน | G9: ในการปฏิบัติงาน | H9: ข้อควรระวัง
B10: 1
B13: 2
B16: 3
B19: 4
B22: 5
B25: 6
B28: 7
A31: ผู้วิเคราะห์ | C31: =DATA!B8 -> นางสาวรัติยาภรณ์ อัศวะธรรมวุธ | D31: =DATA!F8 -> หัวหน้าแผนกฝึกอบรม | G31: ผู้ทบทวน | H31: ผู้อนุมัติ
C32: =DATA!B10 -> นายเอกพงศ์ ไทยเกิด | D32: =DATA!F10 -> พนักงานฝึกอบรม
C33: =DATA!B12 -> นายพันธวงศ์ ศิริพันธ์ | D33: =DATA!F12 -> หัวหน้าส่วนผลิต MDF 2 | G33: =DATA!B21 -> นาย1 | H33: =DATA!B23 -> นาย2
C34: =DATA!B14 -> 0 | D34: =DATA!F14 -> 0
C35: =DATA!B16 -> 0 | D35: =DATA!F16 -> 0 | G35: =DATA!F21 -> ผู้จัดการฝ่ายผลิต | H35: =DATA!F23 -> ผู้จัดการโรงงาน
C36: =DATA!B18 -> 0 | D36: =DATA!F18 -> 0

Sheet D3
A1: การวิเคราะห์งาน (Job Analysis : Step)
B3: สถานประกอบการ | F3: แผนก
B4: ตำแหน่งงาน | F4: วัน / เดือน / ปี ที่วิเคราะห์
C6: =Duty!B19 -> 0 | F6: =#REF! -> #REF!
B8: ที่ | C8: ขั้นตอนการปฏิบัติงาน | D8: เครื่องมือ / วัสดุ / อุปกรณ์ | E8: ความรู้ที่ต้องใช้ | F8: คุณลักษณะ/ทัศนคติ | G8: มาตรฐาน | H8: ความปลอดภัย
D9: ที่ใช้ในการปฏิบัติงาน | E9: ในการปฏิบัติงาน | F9: ที่ต้องใช้ในการปฏิบัติงาน | G9: ในการปฏิบัติงาน | H9: ข้อควรระวัง
B10: 1
B13: 2
B16: 3
B19: 4
B22: 5
B25: 6
B28: 7
A31: ผู้วิเคราะห์ | C31: =DATA!B8 -> นางสาวรัติยาภรณ์ อัศวะธรรมวุธ | D31: =DATA!F8 -> หัวหน้าแผนกฝึกอบรม | G31: ผู้ทบทวน | H31: ผู้อนุมัติ
C32: =DATA!B10 -> นายเอกพงศ์ ไทยเกิด | D32: =DATA!F10 -> พนักงานฝึกอบรม
C33: =DATA!B12 -> นายพันธวงศ์ ศิริพันธ์ | D33: =DATA!F12 -> หัวหน้าส่วนผลิต MDF 2 | G33: =DATA!B21 -> นาย1 | H33: =DATA!B23 -> นาย2
C34: =DATA!B14 -> 0 | D34: =DATA!F14 -> 0
C35: =DATA!B16 -> 0 | D35: =DATA!F16 -> 0 | G35: =DATA!F21 -> ผู้จัดการฝ่ายผลิต | H35: =DATA!F23 -> ผู้จัดการโรงงาน
C36: =DATA!B18 -> 0 | D36: =DATA!F18 -> 0

Sheet D4
A1: การวิเคราะห์งาน (Job Analysis : Step)
B3: สถานประกอบการ | F3: แผนก
B4: ตำแหน่งงาน | F4: วัน / เดือน / ปี ที่วิเคราะห์
C6: =Duty!B19 -> 0 | F6: =#REF! -> #REF!
B8: ที่ | C8: ขั้นตอนการปฏิบัติงาน | D8: เครื่องมือ / วัสดุ / อุปกรณ์ | E8: ความรู้ที่ต้องใช้ | F8: คุณลักษณะ/ทัศนคติ | G8: มาตรฐาน | H8: ความปลอดภัย
D9: ที่ใช้ในการปฏิบัติงาน | E9: ในการปฏิบัติงาน | F9: ที่ต้องใช้ในการปฏิบัติงาน | G9: ในการปฏิบัติงาน | H9: ข้อควรระวัง
B10: 1
B13: 2
B16: 3
B19: 4
B22: 5
B25: 6
B28: 7
A31: ผู้วิเคราะห์ | C31: =DATA!B8 -> นางสาวรัติยาภรณ์ อัศวะธรรมวุธ | D31: =DATA!F8 -> หัวหน้าแผนกฝึกอบรม | G31: ผู้ทบทวน | H31: ผู้อนุมัติ
C32: =DATA!B10 -> นายเอกพงศ์ ไทยเกิด | D32: =DATA!F10 -> พนักงานฝึกอบรม
C33: =DATA!B12 -> นายพันธวงศ์ ศิริพันธ์ | D33: =DATA!F12 -> หัวหน้าส่วนผลิต MDF 2 | G33: =DATA!B21 -> นาย1 | H33: =DATA!B23 -> นาย2
C34: =DATA!B14 -> 0 | D34: =DATA!F14 -> 0
C35: =DATA!B16 -> 0 | D35: =DATA!F16 -> 0 | G35: =DATA!F21 -> ผู้จัดการฝ่ายผลิต | H35: =DATA!F23 -> ผู้จัดการโรงงาน
C36: =DATA!B18 -> 0 | D36: =DATA!F18 -> 0

Sheet D5
A1: การวิเคราะห์งาน (Job Analysis : Step)
B3: สถานประกอบการ | F3: แผนก
B4: ตำแหน่งงาน | F4: วัน / เดือน / ปี ที่วิเคราะห์
C6: =Duty!B19 -> 0 | F6: =#REF! -> #REF!
B8: ที่ | C8: ขั้นตอนการปฏิบัติงาน | D8: เครื่องมือ / วัสดุ / อุปกรณ์ | E8: ความรู้ที่ต้องใช้ | F8: คุณลักษณะ/ทัศนคติ | G8: มาตรฐาน | H8: ความปลอดภัย
D9: ที่ใช้ในการปฏิบัติงาน | E9: ในการปฏิบัติงาน | F9: ที่ต้องใช้ในการปฏิบัติงาน | G9: ในการปฏิบัติงาน | H9: ข้อควรระวัง
B10: 1
B13: 2
B16: 3
B19: 4
B22: 5
B25: 6
B28: 7
A31: ผู้วิเคราะห์ | C31: =DATA!B8 -> นางสาวรัติยาภรณ์ อัศวะธรรมวุธ | D31: =DATA!F8 -> หัวหน้าแผนกฝึกอบรม | G31: ผู้ทบทวน | H31: ผู้อนุมัติ
C32: =DATA!B10 -> นายเอกพงศ์ ไทยเกิด | D32: =DATA!F10 -> พนักงานฝึกอบรม
C33: =DATA!B12 -> นายพันธวงศ์ ศิริพันธ์ | D33: =DATA!F12 -> หัวหน้าส่วนผลิต MDF 2 | G33: =DATA!B21 -> นาย1 | H33: =DATA!B23 -> นาย2
C34: =DATA!B14 -> 0 | D34: =DATA!F14 -> 0
C35: =DATA!B16 -> 0 | D35: =DATA!F16 -> 0 | G35: =DATA!F21 -> ผู้จัดการฝ่ายผลิต | H35: =DATA!F23 -> ผู้จัดการโรงงาน
C36: =DATA!B18 -> 0 | D36: =DATA!F18 -> 0

Sheet D6
A1: การวิเคราะห์งาน (Job Analysis : Step)
B3: สถานประกอบการ | F3: แผนก
B4: ตำแหน่งงาน | F4: วัน / เดือน / ปี ที่วิเคราะห์
C6: =Duty!B19 -> 0 | F6: =#REF! -> #REF!
B8: ที่ | C8: ขั้นตอนการปฏิบัติงาน | D8: เครื่องมือ / วัสดุ / อุปกรณ์ | E8: ความรู้ที่ต้องใช้ | F8: คุณลักษณะ/ทัศนคติ | G8: มาตรฐาน | H8: ความปลอดภัย
D9: ที่ใช้ในการปฏิบัติงาน | E9: ในการปฏิบัติงาน | F9: ที่ต้องใช้ในการปฏิบัติงาน | G9: ในการปฏิบัติงาน | H9: ข้อควรระวัง
B10: 1
B13: 2
B16: 3
B19: 4
B22: 5
B25: 6
B28: 7
A31: ผู้วิเคราะห์ | C31: =DATA!B8 -> นางสาวรัติยาภรณ์ อัศวะธรรมวุธ | D31: =DATA!F8 -> หัวหน้าแผนกฝึกอบรม | G31: ผู้ทบทวน | H31: ผู้อนุมัติ
C32: =DATA!B10 -> นายเอกพงศ์ ไทยเกิด | D32: =DATA!F10 -> พนักงานฝึกอบรม
C33: =DATA!B12 -> นายพันธวงศ์ ศิริพันธ์ | D33: =DATA!F12 -> หัวหน้าส่วนผลิต MDF 2 | G33: =DATA!B21 -> นาย1 | H33: =DATA!B23 -> นาย2
C34: =DATA!B14 -> 0 | D34: =DATA!F14 -> 0
C35: =DATA!B16 -> 0 | D35: =DATA!F16 -> 0 | G35: =DATA!F21 -> ผู้จัดการฝ่ายผลิต | H35: =DATA!F23 -> ผู้จัดการโรงงาน
C36: =DATA!B18 -> 0 | D36: =DATA!F18 -> 0

Sheet E1
A1: การวิเคราะห์งาน (Job Analysis : Step)
B3: สถานประกอบการ | F3: แผนก
B4: ตำแหน่งงาน | F4: วัน / เดือน / ปี ที่วิเคราะห์
C6: =Duty!I10 -> 0 | F6: =#REF! -> #REF!
B8: ที่ | C8: ขั้นตอนการปฏิบัติงาน | D8: เครื่องมือ / วัสดุ / อุปกรณ์ | E8: ความรู้ที่ต้องใช้ | F8: คุณลักษณะ/ทัศนคติ | G8: มาตรฐาน | H8: ความปลอดภัย
D9: ที่ใช้ในการปฏิบัติงาน | E9: ในการปฏิบัติงาน | F9: ที่ต้องใช้ในการปฏิบัติงาน | G9: ในการปฏิบัติงาน | H9: ข้อควรระวัง
B10: 1
B13: 2
B16: 3
B19: 4
B22: 5
B25: 6
B28: 7
A31: ผู้วิเคราะห์ | C31: =DATA!B8 -> นางสาวรัติยาภรณ์ อัศวะธรรมวุธ | D31: =DATA!F8 -> หัวหน้าแผนกฝึกอบรม | G31: ผู้ทบทวน | H31: ผู้อนุมัติ
C32: =DATA!B10 -> นายเอกพงศ์ ไทยเกิด | D32: =DATA!F10 -> พนักงานฝึกอบรม
C33: =DATA!B12 -> นายพันธวงศ์ ศิริพันธ์ | D33: =DATA!F12 -> หัวหน้าส่วนผลิต MDF 2 | G33: =DATA!B21 -> นาย1 | H33: =DATA!B23 -> นาย2
C34: =DATA!B14 -> 0 | D34: =DATA!F14 -> 0
C35: =DATA!B16 -> 0 | D35: =DATA!F16 -> 0 | G35: =DATA!F21 -> ผู้จัดการฝ่ายผลิต | H35: =DATA!F23 -> ผู้จัดการโรงงาน
C36: =DATA!B18 -> 0 | D36: =DATA!F18 -> 0

Sheet E2
A1: การวิเคราะห์งาน (Job Analysis : Step)
B3: สถานประกอบการ | F3: แผนก
B4: ตำแหน่งงาน | F4: วัน / เดือน / ปี ที่วิเคราะห์
C6: =Duty!I10 -> 0 | F6: =#REF! -> #REF!
B8: ที่ | C8: ขั้นตอนการปฏิบัติงาน | D8: เครื่องมือ / วัสดุ / อุปกรณ์ | E8: ความรู้ที่ต้องใช้ | F8: คุณลักษณะ/ทัศนคติ | G8: มาตรฐาน | H8: ความปลอดภัย
D9: ที่ใช้ในการปฏิบัติงาน | E9: ในการปฏิบัติงาน | F9: ที่ต้องใช้ในการปฏิบัติงาน | G9: ในการปฏิบัติงาน | H9: ข้อควรระวัง
B10: 1
B13: 2
B16: 3
B19: 4
B22: 5
B25: 6
B28: 7
A31: ผู้วิเคราะห์ | C31: =DATA!B8 -> นางสาวรัติยาภรณ์ อัศวะธรรมวุธ | D31: =DATA!F8 -> หัวหน้าแผนกฝึกอบรม | G31: ผู้ทบทวน | H31: ผู้อนุมัติ
C32: =DATA!B10 -> นายเอกพงศ์ ไทยเกิด | D32: =DATA!F10 -> พนักงานฝึกอบรม
C33: =DATA!B12 -> นายพันธวงศ์ ศิริพันธ์ | D33: =DATA!F12 -> หัวหน้าส่วนผลิต MDF 2 | G33: =DATA!B21 -> นาย1 | H33: =DATA!B23 -> นาย2
C34: =DATA!B14 -> 0 | D34: =DATA!F14 -> 0
C35: =DATA!B16 -> 0 | D35: =DATA!F16 -> 0 | G35: =DATA!F21 -> ผู้จัดการฝ่ายผลิต | H35: =DATA!F23 -> ผู้จัดการโรงงาน
C36: =DATA!B18 -> 0 | D36: =DATA!F18 -> 0

Sheet E3
A1: การวิเคราะห์งาน (Job Analysis : Step)
B3: สถานประกอบการ | F3: แผนก
B4: ตำแหน่งงาน | F4: วัน / เดือน / ปี ที่วิเคราะห์
C6: =Duty!I10 -> 0 | F6: =#REF! -> #REF!
B8: ที่ | C8: ขั้นตอนการปฏิบัติงาน | D8: เครื่องมือ / วัสดุ / อุปกรณ์ | E8: ความรู้ที่ต้องใช้ | F8: คุณลักษณะ/ทัศนคติ | G8: มาตรฐาน | H8: ความปลอดภัย
D9: ที่ใช้ในการปฏิบัติงาน | E9: ในการปฏิบัติงาน | F9: ที่ต้องใช้ในการปฏิบัติงาน | G9: ในการปฏิบัติงาน | H9: ข้อควรระวัง
B10: 1
B13: 2
B16: 3
B19: 4
B22: 5
B25: 6
B28: 7
A31: ผู้วิเคราะห์ | C31: =DATA!B8 -> นางสาวรัติยาภรณ์ อัศวะธรรมวุธ | D31: =DATA!F8 -> หัวหน้าแผนกฝึกอบรม | G31: ผู้ทบทวน | H31: ผู้อนุมัติ
C32: =DATA!B10 -> นายเอกพงศ์ ไทยเกิด | D32: =DATA!F10 -> พนักงานฝึกอบรม
C33: =DATA!B12 -> นายพันธวงศ์ ศิริพันธ์ | D33: =DATA!F12 -> หัวหน้าส่วนผลิต MDF 2 | G33: =DATA!B21 -> นาย1 | H33: =DATA!B23 -> นาย2
C34: =DATA!B14 -> 0 | D34: =DATA!F14 -> 0
C35: =DATA!B16 -> 0 | D35: =DATA!F16 -> 0 | G35: =DATA!F21 -> ผู้จัดการฝ่ายผลิต | H35: =DATA!F23 -> ผู้จัดการโรงงาน
C36: =DATA!B18 -> 0 | D36: =DATA!F18 -> 0

Sheet E4
A1: การวิเคราะห์งาน (Job Analysis : Step)
B3: สถานประกอบการ | F3: แผนก
B4: ตำแหน่งงาน | F4: วัน / เดือน / ปี ที่วิเคราะห์
C6: =Duty!I10 -> 0 | F6: =#REF! -> #REF!
B8: ที่ | C8: ขั้นตอนการปฏิบัติงาน | D8: เครื่องมือ / วัสดุ / อุปกรณ์ | E8: ความรู้ที่ต้องใช้ | F8: คุณลักษณะ/ทัศนคติ | G8: มาตรฐาน | H8: ความปลอดภัย
D9: ที่ใช้ในการปฏิบัติงาน | E9: ในการปฏิบัติงาน | F9: ที่ต้องใช้ในการปฏิบัติงาน | G9: ในการปฏิบัติงาน | H9: ข้อควรระวัง
B10: 1
B13: 2
B16: 3
B19: 4
B22: 5
B25: 6
B28: 7
A31: ผู้วิเคราะห์ | C31: =DATA!B8 -> นางสาวรัติยาภรณ์ อัศวะธรรมวุธ | D31: =DATA!F8 -> หัวหน้าแผนกฝึกอบรม | G31: ผู้ทบทวน | H31: ผู้อนุมัติ
C32: =DATA!B10 -> นายเอกพงศ์ ไทยเกิด | D32: =DATA!F10 -> พนักงานฝึกอบรม
C33: =DATA!B12 -> นายพันธวงศ์ ศิริพันธ์ | D33: =DATA!F12 -> หัวหน้าส่วนผลิต MDF 2 | G33: =DATA!B21 -> นาย1 | H33: =DATA!B23 -> นาย2
C34: =DATA!B14 -> 0 | D34: =DATA!F14 -> 0
C35: =DATA!B16 -> 0 | D35: =DATA!F16 -> 0 | G35: =DATA!F21 -> ผู้จัดการฝ่ายผลิต | H35: =DATA!F23 -> ผู้จัดการโรงงาน
C36: =DATA!B18 -> 0 | D36: =DATA!F18 -> 0

Sheet E5
A1: การวิเคราะห์งาน (Job Analysis : Step)
B3: สถานประกอบการ | F3: แผนก
B4: ตำแหน่งงาน | F4: วัน / เดือน / ปี ที่วิเคราะห์
C6: =Duty!I10 -> 0 | F6: =#REF! -> #REF!
B8: ที่ | C8: ขั้นตอนการปฏิบัติงาน | D8: เครื่องมือ / วัสดุ / อุปกรณ์ | E8: ความรู้ที่ต้องใช้ | F8: คุณลักษณะ/ทัศนคติ | G8: มาตรฐาน | H8: ความปลอดภัย
D9: ที่ใช้ในการปฏิบัติงาน | E9: ในการปฏิบัติงาน | F9: ที่ต้องใช้ในการปฏิบัติงาน | G9: ในการปฏิบัติงาน | H9: ข้อควรระวัง
B10: 1
B13: 2
B16: 3
B19: 4
B22: 5
B25: 6
B28: 7
A31: ผู้วิเคราะห์ | C31: =DATA!B8 -> นางสาวรัติยาภรณ์ อัศวะธรรมวุธ | D31: =DATA!F8 -> หัวหน้าแผนกฝึกอบรม | G31: ผู้ทบทวน | H31: ผู้อนุมัติ
C32: =DATA!B10 -> นายเอกพงศ์ ไทยเกิด | D32: =DATA!F10 -> พนักงานฝึกอบรม
C33: =DATA!B12 -> นายพันธวงศ์ ศิริพันธ์ | D33: =DATA!F12 -> หัวหน้าส่วนผลิต MDF 2 | G33: =DATA!B21 -> นาย1 | H33: =DATA!B23 -> นาย2
C34: =DATA!B14 -> 0 | D34: =DATA!F14 -> 0
C35: =DATA!B16 -> 0 | D35: =DATA!F16 -> 0 | G35: =DATA!F21 -> ผู้จัดการฝ่ายผลิต | H35: =DATA!F23 -> ผู้จัดการโรงงาน
C36: =DATA!B18 -> 0 | D36: =DATA!F18 -> 0

Sheet E6
A1: การวิเคราะห์งาน (Job Analysis : Step)
B3: สถานประกอบการ | F3: แผนก
B4: ตำแหน่งงาน | F4: วัน / เดือน / ปี ที่วิเคราะห์
C6: =Duty!I10 -> 0 | F6: =#REF! -> #REF!
B8: ที่ | C8: ขั้นตอนการปฏิบัติงาน | D8: เครื่องมือ / วัสดุ / อุปกรณ์ | E8: ความรู้ที่ต้องใช้ | F8: คุณลักษณะ/ทัศนคติ | G8: มาตรฐาน | H8: ความปลอดภัย
D9: ที่ใช้ในการปฏิบัติงาน | E9: ในการปฏิบัติงาน | F9: ที่ต้องใช้ในการปฏิบัติงาน | G9: ในการปฏิบัติงาน | H9: ข้อควรระวัง
B10: 1
B13: 2
B16: 3
B19: 4
B22: 5
B25: 6
B28: 7
A31: ผู้วิเคราะห์ | C31: =DATA!B8 -> นางสาวรัติยาภรณ์ อัศวะธรรมวุธ | D31: =DATA!F8 -> หัวหน้าแผนกฝึกอบรม | G31: ผู้ทบทวน | H31: ผู้อนุมัติ
C32: =DATA!B10 -> นายเอกพงศ์ ไทยเกิด | D32: =DATA!F10 -> พนักงานฝึกอบรม
C33: =DATA!B12 -> นายพันธวงศ์ ศิริพันธ์ | D33: =DATA!F12 -> หัวหน้าส่วนผลิต MDF 2 | G33: =DATA!B21 -> นาย1 | H33: =DATA!B23 -> นาย2
C34: =DATA!B14 -> 0 | D34: =DATA!F14 -> 0
C35: =DATA!B16 -> 0 | D35: =DATA!F16 -> 0 | G35: =DATA!F21 -> ผู้จัดการฝ่ายผลิต | H35: =DATA!F23 -> ผู้จัดการโรงงาน
C36: =DATA!B18 -> 0 | D36: =DATA!F18 -> 0

Sheet F1
A1: การวิเคราะห์งาน (Job Analysis : Step)
B3: สถานประกอบการ | F3: แผนก
B4: ตำแหน่งงาน | F4: วัน / เดือน / ปี ที่วิเคราะห์
C6: =Duty!I13 -> 0 | F6: =#REF! -> #REF!
B8: ที่ | C8: ขั้นตอนการปฏิบัติงาน | D8: เครื่องมือ / วัสดุ / อุปกรณ์ | E8: ความรู้ที่ต้องใช้ | F8: คุณลักษณะ/ทัศนคติ | G8: มาตรฐาน | H8: ความปลอดภัย
D9: ที่ใช้ในการปฏิบัติงาน | E9: ในการปฏิบัติงาน | F9: ที่ต้องใช้ในการปฏิบัติงาน | G9: ในการปฏิบัติงาน | H9: ข้อควรระวัง
B10: 1
B13: 2
B16: 3
B19: 4
B22: 5
B25: 6
B28: 7
A31: ผู้วิเคราะห์ | C31: =DATA!B8 -> นางสาวรัติยาภรณ์ อัศวะธรรมวุธ | D31: =DATA!F8 -> หัวหน้าแผนกฝึกอบรม | G31: ผู้ทบทวน | H31: ผู้อนุมัติ
C32: =DATA!B10 -> นายเอกพงศ์ ไทยเกิด | D32: =DATA!F10 -> พนักงานฝึกอบรม
C33: =DATA!B12 -> นายพันธวงศ์ ศิริพันธ์ | D33: =DATA!F12 -> หัวหน้าส่วนผลิต MDF 2 | G33: =DATA!B21 -> นาย1 | H33: =DATA!B23 -> นาย2
C34: =DATA!B14 -> 0 | D34: =DATA!F14 -> 0
C35: =DATA!B16 -> 0 | D35: =DATA!F16 -> 0 | G35: =DATA!F21 -> ผู้จัดการฝ่ายผลิต | H35: =DATA!F23 -> ผู้จัดการโรงงาน
C36: =DATA!B18 -> 0 | D36: =DATA!F18 -> 0

Sheet F2
A1: การวิเคราะห์งาน (Job Analysis : Step)
B3: สถานประกอบการ | F3: แผนก
B4: ตำแหน่งงาน | F4: วัน / เดือน / ปี ที่วิเคราะห์
C6: =Duty!I13 -> 0 | F6: =#REF! -> #REF!
B8: ที่ | C8: ขั้นตอนการปฏิบัติงาน | D8: เครื่องมือ / วัสดุ / อุปกรณ์ | E8: ความรู้ที่ต้องใช้ | F8: คุณลักษณะ/ทัศนคติ | G8: มาตรฐาน | H8: ความปลอดภัย
D9: ที่ใช้ในการปฏิบัติงาน | E9: ในการปฏิบัติงาน | F9: ที่ต้องใช้ในการปฏิบัติงาน | G9: ในการปฏิบัติงาน | H9: ข้อควรระวัง
B10: 1
B13: 2
B16: 3
B19: 4
B22: 5
B25: 6
B28: 7
A31: ผู้วิเคราะห์ | C31: =DATA!B8 -> นางสาวรัติยาภรณ์ อัศวะธรรมวุธ | D31: =DATA!F8 -> หัวหน้าแผนกฝึกอบรม | G31: ผู้ทบทวน | H31: ผู้อนุมัติ
C32: =DATA!B10 -> นายเอกพงศ์ ไทยเกิด | D32: =DATA!F10 -> พนักงานฝึกอบรม
C33: =DATA!B12 -> นายพันธวงศ์ ศิริพันธ์ | D33: =DATA!F12 -> หัวหน้าส่วนผลิต MDF 2 | G33: =DATA!B21 -> นาย1 | H33: =DATA!B23 -> นาย2
C34: =DATA!B14 -> 0 | D34: =DATA!F14 -> 0
C35: =DATA!B16 -> 0 | D35: =DATA!F16 -> 0 | G35: =DATA!F21 -> ผู้จัดการฝ่ายผลิต | H35: =DATA!F23 -> ผู้จัดการโรงงาน
C36: =DATA!B18 -> 0 | D36: =DATA!F18 -> 0

Sheet F3
A1: การวิเคราะห์งาน (Job Analysis : Step)
B3: สถานประกอบการ | F3: แผนก
B4: ตำแหน่งงาน | F4: วัน / เดือน / ปี ที่วิเคราะห์
C6: =Duty!I13 -> 0 | F6: =#REF! -> #REF!
B8: ที่ | C8: ขั้นตอนการปฏิบัติงาน | D8: เครื่องมือ / วัสดุ / อุปกรณ์ | E8: ความรู้ที่ต้องใช้ | F8: คุณลักษณะ/ทัศนคติ | G8: มาตรฐาน | H8: ความปลอดภัย
D9: ที่ใช้ในการปฏิบัติงาน | E9: ในการปฏิบัติงาน | F9: ที่ต้องใช้ในการปฏิบัติงาน | G9: ในการปฏิบัติงาน | H9: ข้อควรระวัง
B10: 1
B13: 2
B16: 3
B19: 4
B22: 5
B25: 6
B28: 7
A31: ผู้วิเคราะห์ | C31: =DATA!B8 -> นางสาวรัติยาภรณ์ อัศวะธรรมวุธ | D31: =DATA!F8 -> หัวหน้าแผนกฝึกอบรม | G31: ผู้ทบทวน | H31: ผู้อนุมัติ
C32: =DATA!B10 -> นายเอกพงศ์ ไทยเกิด | D32: =DATA!F10 -> พนักงานฝึกอบรม
C33: =DATA!B12 -> นายพันธวงศ์ ศิริพันธ์ | D33: =DATA!F12 -> หัวหน้าส่วนผลิต MDF 2 | G33: =DATA!B21 -> นาย1 | H33: =DATA!B23 -> นาย2
C34: =DATA!B14 -> 0 | D34: =DATA!F14 -> 0
C35: =DATA!B16 -> 0 | D35: =DATA!F16 -> 0 | G35: =DATA!F21 -> ผู้จัดการฝ่ายผลิต | H35: =DATA!F23 -> ผู้จัดการโรงงาน
C36: =DATA!B18 -> 0 | D36: =DATA!F18 -> 0

Sheet F4
A1: การวิเคราะห์งาน (Job Analysis : Step)
B3: สถานประกอบการ | F3: แผนก
B4: ตำแหน่งงาน | F4: วัน / เดือน / ปี ที่วิเคราะห์
C6: =Duty!I13 -> 0 | F6: =#REF! -> #REF!
B8: ที่ | C8: ขั้นตอนการปฏิบัติงาน | D8: เครื่องมือ / วัสดุ / อุปกรณ์ | E8: ความรู้ที่ต้องใช้ | F8: คุณลักษณะ/ทัศนคติ | G8: มาตรฐาน | H8: ความปลอดภัย
D9: ที่ใช้ในการปฏิบัติงาน | E9: ในการปฏิบัติงาน | F9: ที่ต้องใช้ในการปฏิบัติงาน | G9: ในการปฏิบัติงาน | H9: ข้อควรระวัง
B10: 1
B13: 2
B16: 3
B19: 4
B22: 5
B25: 6
B28: 7
A31: ผู้วิเคราะห์ | C31: =DATA!B8 -> นางสาวรัติยาภรณ์ อัศวะธรรมวุธ | D31: =DATA!F8 -> หัวหน้าแผนกฝึกอบรม | G31: ผู้ทบทวน | H31: ผู้อนุมัติ
C32: =DATA!B10 -> นายเอกพงศ์ ไทยเกิด | D32: =DATA!F10 -> พนักงานฝึกอบรม
C33: =DATA!B12 -> นายพันธวงศ์ ศิริพันธ์ | D33: =DATA!F12 -> หัวหน้าส่วนผลิต MDF 2 | G33: =DATA!B21 -> นาย1 | H33: =DATA!B23 -> นาย2
C34: =DATA!B14 -> 0 | D34: =DATA!F14 -> 0
C35: =DATA!B16 -> 0 | D35: =DATA!F16 -> 0 | G35: =DATA!F21 -> ผู้จัดการฝ่ายผลิต | H35: =DATA!F23 -> ผู้จัดการโรงงาน
C36: =DATA!B18 -> 0 | D36: =DATA!F18 -> 0

Sheet F5
A1: การวิเคราะห์งาน (Job Analysis : Step)
B3: สถานประกอบการ | F3: แผนก
B4: ตำแหน่งงาน | F4: วัน / เดือน / ปี ที่วิเคราะห์
C6: =Duty!I13 -> 0 | F6: =#REF! -> #REF!
B8: ที่ | C8: ขั้นตอนการปฏิบัติงาน | D8: เครื่องมือ / วัสดุ / อุปกรณ์ | E8: ความรู้ที่ต้องใช้ | F8: คุณลักษณะ/ทัศนคติ | G8: มาตรฐาน | H8: ความปลอดภัย
D9: ที่ใช้ในการปฏิบัติงาน | E9: ในการปฏิบัติงาน | F9: ที่ต้องใช้ในการปฏิบัติงาน | G9: ในการปฏิบัติงาน | H9: ข้อควรระวัง
B10: 1
B13: 2
B16: 3
B19: 4
B22: 5
B25: 6
B28: 7
A31: ผู้วิเคราะห์ | C31: =DATA!B8 -> นางสาวรัติยาภรณ์ อัศวะธรรมวุธ | D31: =DATA!F8 -> หัวหน้าแผนกฝึกอบรม | G31: ผู้ทบทวน | H31: ผู้อนุมัติ
C32: =DATA!B10 -> นายเอกพงศ์ ไทยเกิด | D32: =DATA!F10 -> พนักงานฝึกอบรม
C33: =DATA!B12 -> นายพันธวงศ์ ศิริพันธ์ | D33: =DATA!F12 -> หัวหน้าส่วนผลิต MDF 2 | G33: =DATA!B21 -> นาย1 | H33: =DATA!B23 -> นาย2
C34: =DATA!B14 -> 0 | D34: =DATA!F14 -> 0
C35: =DATA!B16 -> 0 | D35: =DATA!F16 -> 0 | G35: =DATA!F21 -> ผู้จัดการฝ่ายผลิต | H35: =DATA!F23 -> ผู้จัดการโรงงาน
C36: =DATA!B18 -> 0 | D36: =DATA!F18 -> 0

Sheet F6
A1: การวิเคราะห์งาน (Job Analysis : Step)
B3: สถานประกอบการ | F3: แผนก
B4: ตำแหน่งงาน | F4: วัน / เดือน / ปี ที่วิเคราะห์
C6: =Duty!I13 -> 0 | F6: =#REF! -> #REF!
B8: ที่ | C8: ขั้นตอนการปฏิบัติงาน | D8: เครื่องมือ / วัสดุ / อุปกรณ์ | E8: ความรู้ที่ต้องใช้ | F8: คุณลักษณะ/ทัศนคติ | G8: มาตรฐาน | H8: ความปลอดภัย
D9: ที่ใช้ในการปฏิบัติงาน | E9: ในการปฏิบัติงาน | F9: ที่ต้องใช้ในการปฏิบัติงาน | G9: ในการปฏิบัติงาน | H9: ข้อควรระวัง
B10: 1
B13: 2
B16: 3
B19: 4
B22: 5
B25: 6
B28: 7
A31: ผู้วิเคราะห์ | C31: =DATA!B8 -> นางสาวรัติยาภรณ์ อัศวะธรรมวุธ | D31: =DATA!F8 -> หัวหน้าแผนกฝึกอบรม | G31: ผู้ทบทวน | H31: ผู้อนุมัติ
C32: =DATA!B10 -> นายเอกพงศ์ ไทยเกิด | D32: =DATA!F10 -> พนักงานฝึกอบรม
C33: =DATA!B12 -> นายพันธวงศ์ ศิริพันธ์ | D33: =DATA!F12 -> หัวหน้าส่วนผลิต MDF 2 | G33: =DATA!B21 -> นาย1 | H33: =DATA!B23 -> นาย2
C34: =DATA!B14 -> 0 | D34: =DATA!F14 -> 0
C35: =DATA!B16 -> 0 | D35: =DATA!F16 -> 0 | G35: =DATA!F21 -> ผู้จัดการฝ่ายผลิต | H35: =DATA!F23 -> ผู้จัดการโรงงาน
C36: =DATA!B18 -> 0 | D36: =DATA!F18 -> 0
