Workbook

Sheet Sheet1 (2)
A1: แบบสำรวจเกี่ยวกับการปฏิบัติงาน
A2: ตำแหน่งเจ้าหน้าที่สรรหาบุคลากร
A3: (กรุณาทำเครื่องหมาย O ลงบนหมายเลขที่ท่านพิจารณาแล้วเห็นว่าถูกต้อง)
A4: รายละเอียดของงานย่อย | B4: ความสำคัญของงานย่อย (Importance) | G4: ความถี่ของการปฎิบัติงาน (Freqency) | L4: ความยากง่ายในการปฏิบัติงาน (Difficulty) | Q4: รวมคะแนน | R4: เปอร์ เซ็นต์
B5: งานนี้มีความสำคัญอย่างไรต่อการทำงาน | G5: งานย่อยนี้มีการปฏิบัติบ่อยครั้งเพียงไร | L5: ผลงานย่อยนี้ปฏิบัติได้ยากหรือไม่
B6: สำคัญมาก | E6: ไม่สำคัญ | G6: บ่อยมาก | J6: ไม่เคยมีการปฏิบัติ | L6: มีการตำหนิ | O6: ไม่มีการตำหนิ
A7: =+Task!F7 -> ตรวจสอบอัตรากำลังของบริษัท | B7: 5 | C7: 4 | D7: 3 | E7: 2 | F7: 1 | G7: 5 | H7: 4 | I7: 3 | J7: 2 | K7: 1 | L7: 5 | M7: 4 | N7: 3 | O7: 2 | P7: 1 | Q7: =SUM(B7:P7) -> 45 | R7: =Q7/33*100 -> 136.36364
A8: =+Task!J7 -> ประกาศรับสมัครตำแหน่งงานว่าง | B8: 5 | C8: 4 | D8: 3 | E8: 2 | F8: 1 | G8: 5 | H8: 4 | I8: 3 | J8: 2 | K8: 1 | L8: 5 | M8: 4 | N8: 3 | O8: 2 | P8: 1 | Q8: =SUM(B8:P8) -> 45 | R8: =Q8/33*100 -> 136.36364
A9: =+Task!F16 -> ตรวจสอบข้อมูลบุคคลก่อนการสมัคร | B9: 5 | C9: 4 | D9: 3 | E9: 2 | F9: 1 | G9: 5 | H9: 4 | I9: 3 | J9: 2 | K9: 1 | L9: 5 | M9: 4 | N9: 3 | O9: 2 | P9: 1 | Q9: =SUM(B9:P9) -> 45 | R9: =Q9/33*100 -> 136.36364
A10: =+Task!J16 -> ให้กรอกใบสมัครพนักงานใหม่ | B10: 5 | C10: 4 | D10: 3 | E10: 2 | F10: 1 | G10: 5 | H10: 4 | I10: 3 | J10: 2 | K10: 1 | L10: 5 | M10: 4 | N10: 3 | O10: 2 | P10: 1 | Q10: =SUM(B10:P10) -> 45 | R10: =Q10/33*100 -> 136.36364
A11: =+Task!N16 -> ตรวจสอบความถูกต้องใบสมัครพนักงานใหม่ | B11: 5 | C11: 4 | D11: 3 | E11: 2 | F11: 1 | G11: 5 | H11: 4 | I11: 3 | J11: 2 | K11: 1 | L11: 5 | M11: 4 | N11: 3 | O11: 2 | P11: 1 | Q11: =SUM(B11:P11) -> 45 | R11: =Q11/33*100 -> 136.36364
A12: =+Task!F26 -> ส่งมอบใบสมัครให้ ผจก.สาขา/ฝ่าย พิจารณา | B12: 5 | C12: 4 | D12: 3 | E12: 2 | F12: 1 | G12: 5 | H12: 4 | I12: 3 | J12: 2 | K12: 1 | L12: 5 | M12: 4 | N12: 3 | O12: 2 | P12: 1 | Q12: =SUM(B12:P12) -> 45 | R12: =Q12/33*100 -> 136.36364
A13: =+Task!J26 -> รับแจ้งผลการพิจารณาจาก ผจก.สาขา/ฝ่าย | B13: 5 | C13: 4 | D13: 3 | E13: 2 | F13: 1 | G13: 5 | H13: 4 | I13: 3 | J13: 2 | K13: 1 | L13: 5 | M13: 4 | N13: 3 | O13: 2 | P13: 1 | Q13: =SUM(B13:P13) -> 45 | R13: =Q13/33*100 -> 136.36364
A14: =+Task!F35 -> ทดสอบความรู้ความสามารถของผู้สมัคร | B14: 5 | C14: 4 | D14: 3 | E14: 2 | F14: 1 | G14: 5 | H14: 4 | I14: 3 | J14: 2 | K14: 1 | L14: 5 | M14: 4 | N14: 3 | O14: 2 | P14: 1 | Q14: =SUM(B14:P14) -> 45 | R14: =Q14/33*100 -> 136.36364
A15: =+Task!J35 -> ส่งมอบเอกสารประกอบการสัมภาษณ์ | B15: 5 | C15: 4 | D15: 3 | E15: 2 | F15: 1 | G15: 5 | H15: 4 | I15: 3 | J15: 2 | K15: 1 | L15: 5 | M15: 4 | N15: 3 | O15: 2 | P15: 1 | Q15: =SUM(B15:P15) -> 45 | R15: =Q15/33*100 -> 136.36364
A16: =+Task!N35 -> รับเอกสารพร้อมผลการสัมภาษณ์ | B16: 5 | C16: 4 | D16: 3 | E16: 2 | F16: 1 | G16: 5 | H16: 4 | I16: 3 | J16: 2 | K16: 1 | L16: 5 | M16: 4 | N16: 3 | O16: 2 | P16: 1 | Q16: =SUM(B16:P16) -> 45 | R16: =Q16/33*100 -> 136.36364
A17: =+Task!F44 -> รวบรวมเอกสารใบสมัครและเสนอผู้บริหารอนุมัติ | B17: 5 | C17: 4 | D17: 3 | E17: 2 | F17: 1 | G17: 5 | H17: 4 | I17: 3 | J17: 2 | K17: 1 | L17: 5 | M17: 4 | N17: 3 | O17: 2 | P17: 1 | Q17: =SUM(B17:P17) -> 45 | R17: =Q17/33*100 -> 136.36364
A18: =+Task!J44 -> รับผลการอนุมัติจากผู้บริหาร | B18: 5 | C18: 4 | D18: 3 | E18: 2 | F18: 1 | G18: 5 | H18: 4 | I18: 3 | J18: 2 | K18: 1 | L18: 5 | M18: 4 | N18: 3 | O18: 2 | P18: 1 | Q18: =SUM(B18:P18) -> 45 | R18: =Q18/33*100 -> 136.36364
A19: =+Task!N44 -> แจ้งผลการสัมภาษณ์แก่ผู้สมัคร | B19: 5 | C19: 4 | D19: 3 | E19: 2 | F19: 1 | G19: 5 | H19: 4 | I19: 3 | J19: 2 | K19: 1 | L19: 5 | M19: 4 | N19: 3 | O19: 2 | P19: 1 | Q19: =SUM(B19:P19) -> 45 | R19: =Q19/33*100 -> 136.36364
A20: =+Task!R44 -> 0 | B20: 5 | C20: 4 | D20: 3 | E20: 2 | F20: 1 | G20: 5 | H20: 4 | I20: 3 | J20: 2 | K20: 1 | L20: 5 | M20: 4 | N20: 3 | O20: 2 | P20: 1 | Q20: =SUM(B20:P20) -> 45 | R20: =Q20/33*100 -> 136.36364
A21: =+Task!F53 -> กรอกรายละเอียดในสัญญาจ้าง | B21: 5 | C21: 4 | D21: 3 | E21: 2 | F21: 1 | G21: 5 | H21: 4 | I21: 3 | J21: 2 | K21: 1 | L21: 5 | M21: 4 | N21: 3 | O21: 2 | P21: 1 | Q21: =SUM(B21:P21) -> 45 | R21: =Q21/33*100 -> 136.36364
A22: =+Task!J53 -> ลงนามในสัญญา | B22: 5 | C22: 4 | D22: 3 | E22: 2 | F22: 1 | G22: 5 | H22: 4 | I22: 3 | J22: 2 | K22: 1 | L22: 5 | M22: 4 | N22: 3 | O22: 2 | P22: 1 | Q22: =SUM(B22:P22) -> 45 | R22: =Q22/33*100 -> 136.36364
A23: =+Task!N53 -> เก็บรวบรวมเอกสารเพิ่มเติม | B23: 5 | C23: 4 | D23: 3 | E23: 2 | F23: 1 | G23: 5 | H23: 4 | I23: 3 | J23: 2 | K23: 1 | L23: 5 | M23: 4 | N23: 3 | O23: 2 | P23: 1 | Q23: =SUM(B23:P23) -> 45 | R23: =Q23/33*100 -> 136.36364
A24: =+Task!R53 -> มอบหนังสือค้ำประนกัน | B24: 5 | C24: 4 | D24: 3 | E24: 2 | F24: 1 | G24: 5 | H24: 4 | I24: 3 | J24: 2 | K24: 1 | L24: 5 | M24: 4 | N24: 3 | O24: 2 | P24: 1 | Q24: =SUM(B24:P24) -> 45 | R24: =Q24/33*100 -> 136.36364
A25: =+Task!F56 -> เสนอผู้บริหารลงนามอนุมัติ | B25: 5 | C25: 4 | D25: 3 | E25: 2 | F25: 1 | G25: 5 | H25: 4 | I25: 3 | J25: 2 | K25: 1 | L25: 5 | M25: 4 | N25: 3 | O25: 2 | P25: 1 | Q25: =SUM(B25:P25) -> 45 | R25: =Q25/33*100 -> 136.36364
A26: =+Task!J56 -> รับเอกสารอนุมัติเก็บเข้าแฟ้มประวัติ | B26: 5 | C26: 4 | D26: 3 | E26: 2 | F26: 1 | G26: 5 | H26: 4 | I26: 3 | J26: 2 | K26: 1 | L26: 5 | M26: 4 | N26: 3 | O26: 2 | P26: 1 | Q26: =SUM(B26:P26) -> 45 | R26: =Q26/33*100 -> 136.36364
A27: =+Task!F62 -> แนะนำพนักงานใหม่กับสาขา/ฝ่าย | B27: 5 | C27: 4 | D27: 3 | E27: 2 | F27: 1 | G27: 5 | H27: 4 | I27: 3 | J27: 2 | K27: 1 | L27: 5 | M27: 4 | N27: 3 | O27: 2 | P27: 1 | Q27: =SUM(B27:P27) -> 45 | R27: =Q27/33*100 -> 136.36364
A28: =+Task!J62 -> ส่งมอบพนักงานใหม่กับสาขา/ฝ่าย | B28: 5 | C28: 4 | D28: 3 | E28: 2 | F28: 1 | G28: 5 | H28: 4 | I28: 3 | J28: 2 | K28: 1 | L28: 5 | M28: 4 | N28: 3 | O28: 2 | P28: 1 | Q28: =SUM(B28:P28) -> 45 | R28: =Q28/33*100 -> 136.36364

Sheet Sheet1
A1: แบบสำรวจเกี่ยวกับการปฏิบัติงาน
A2: ตำแหน่งเจ้าหน้าที่สรรหาบุคลากร
A3: (กรุณาทำเครื่องหมาย O ลงบนหมายเลขที่ท่านพิจารณาแล้วเห็นว่าถูกต้อง)
A4: รายละเอียดของงานย่อย | B4: ความสำคัญของงานย่อย | G4: ความถี่ของการปฎิบัติงาน | L4: การตำหนิของผู้บริโภค | Q4: ความต้องการด้านการฝึกอบรม | V4: ความยากง่ายในการปฏิบัติงาน | X4: รวมคะแนน | Y4: เปอร์ เซ็นต์
B5: งานนี้มีความสำคัญอย่างไรต่อ | G5: งานย่อยนี้มีการปฏิบัติบ่อย | L5: ผลงานย่อยนี้ได้รับการตำหนิ | Q5: ท่านคิดว่างานย่อยควรจัดให้มี | V5: งานย่อยนี้ปฏิบัติได้ยากหรือไม่
B6: การทำงาน | G6: ครั้งเพียงไร | L6: จากผู้บริโภคหรือไม่ | Q6: การฝึกอบรมให้กับพนักงานหรือไม่
B7: สำคัญมาก | E7: ไม่สำคัญ | G7: บ่อยมาก | J7: ไม่เคยมีการปฏิบัติ | L7: มีการตำหนิ | O7: ไม่มีการตำหนิ | Q7: ควรอย่างยิ่ง | T7: ไม่ควรอย่างยิ่ง | V7: ยาก | W7: ง่าย
A8: =+Task!F7 -> ตรวจสอบอัตรากำลังของบริษัท | B8: 5 | C8: 4 | D8: 3 | E8: 2 | F8: 1 | G8: 5 | H8: 4 | I8: 3 | J8: 2 | K8: 1 | L8: 5 | M8: 4 | N8: 3 | O8: 2 | P8: 1 | Q8: 5 | R8: 4 | S8: 3 | T8: 2 | U8: 1 | V8: 2 | W8: 1 | X8: =SUM(B8:W8) -> 63 | Y8: =X8/33*100 -> 190.90909
A9: =+Task!J7 -> ประกาศรับสมัครตำแหน่งงานว่าง | B9: 5 | C9: 4 | D9: 3 | E9: 2 | F9: 1 | G9: 5 | H9: 4 | I9: 3 | J9: 2 | K9: 1 | L9: 5 | M9: 4 | N9: 3 | O9: 2 | P9: 1 | Q9: 5 | R9: 4 | S9: 3 | T9: 2 | U9: 1 | V9: 2 | W9: 1 | X9: =SUM(B9:W9) -> 63 | Y9: =X9/33*100 -> 190.90909
A10: =+Task!F16 -> ตรวจสอบข้อมูลบุคคลก่อนการสมัคร | B10: 5 | C10: 4 | D10: 3 | E10: 2 | F10: 1 | G10: 5 | H10: 4 | I10: 3 | J10: 2 | K10: 1 | L10: 5 | M10: 4 | N10: 3 | O10: 2 | P10: 1 | Q10: 5 | R10: 4 | S10: 3 | T10: 2 | U10: 1 | V10: 2 | W10: 1 | X10: =SUM(B10:W10) -> 63 | Y10: =X10/33*100 -> 190.90909
A11: =+Task!J16 -> ให้กรอกใบสมัครพนักงานใหม่ | B11: 5 | C11: 4 | D11: 3 | E11: 2 | F11: 1 | G11: 5 | H11: 4 | I11: 3 | J11: 2 | K11: 1 | L11: 5 | M11: 4 | N11: 3 | O11: 2 | P11: 1 | Q11: 5 | R11: 4 | S11: 3 | T11: 2 | U11: 1 | V11: 2 | W11: 1 | X11: =SUM(B11:W11) -> 63 | Y11: =X11/33*100 -> 190.90909
A12: =+Task!N16 -> ตรวจสอบความถูกต้องใบสมัครพนักงานใหม่ | B12: 5 | C12: 4 | D12: 3 | E12: 2 | F12: 1 | G12: 5 | H12: 4 | I12: 3 | J12: 2 | K12: 1 | L12: 5 | M12: 4 | N12: 3 | O12: 2 | P12: 1 | Q12: 5 | R12: 4 | S12: 3 | T12: 2 | U12: 1 | V12: 2 | W12: 1 | X12: =SUM(B12:W12) -> 63 | Y12: =X12/33*100 -> 190.90909
A13: =+Task!F26 -> ส่งมอบใบสมัครให้ ผจก.สาขา/ฝ่าย พิจารณา | B13: 5 | C13: 4 | D13: 3 | E13: 2 | F13: 1 | G13: 5 | H13: 4 | I13: 3 | J13: 2 | K13: 1 | L13: 5 | M13: 4 | N13: 3 | O13: 2 | P13: 1 | Q13: 5 | R13: 4 | S13: 3 | T13: 2 | U13: 1 | V13: 2 | W13: 1 | X13: =SUM(B13:W13) -> 63 | Y13: =X13/33*100 -> 190.90909
A14: =+Task!J26 -> รับแจ้งผลการพิจารณาจาก ผจก.สาขา/ฝ่าย | B14: 5 | C14: 4 | D14: 3 | E14: 2 | F14: 1 | G14: 5 | H14: 4 | I14: 3 | J14: 2 | K14: 1 | L14: 5 | M14: 4 | N14: 3 | O14: 2 | P14: 1 | Q14: 5 | R14: 4 | S14: 3 | T14: 2 | U14: 1 | V14: 2 | W14: 1 | X14: =SUM(B14:W14) -> 63 | Y14: =X14/33*100 -> 190.90909
A15: =+Task!F35 -> ทดสอบความรู้ความสามารถของผู้สมัคร | B15: 5 | C15: 4 | D15: 3 | E15: 2 | F15: 1 | G15: 5 | H15: 4 | I15: 3 | J15: 2 | K15: 1 | L15: 5 | M15: 4 | N15: 3 | O15: 2 | P15: 1 | Q15: 5 | R15: 4 | S15: 3 | T15: 2 | U15: 1 | V15: 2 | W15: 1 | X15: =SUM(B15:W15) -> 63 | Y15: =X15/33*100 -> 190.90909
A16: =+Task!J35 -> ส่งมอบเอกสารประกอบการสัมภาษณ์ | B16: 5 | C16: 4 | D16: 3 | E16: 2 | F16: 1 | G16: 5 | H16: 4 | I16: 3 | J16: 2 | K16: 1 | L16: 5 | M16: 4 | N16: 3 | O16: 2 | P16: 1 | Q16: 5 | R16: 4 | S16: 3 | T16: 2 | U16: 1 | V16: 2 | W16: 1 | X16: =SUM(B16:W16) -> 63 | Y16: =X16/33*100 -> 190.90909
A17: =+Task!N35 -> รับเอกสารพร้อมผลการสัมภาษณ์ | B17: 5 | C17: 4 | D17: 3 | E17: 2 | F17: 1 | G17: 5 | H17: 4 | I17: 3 | J17: 2 | K17: 1 | L17: 5 | M17: 4 | N17: 3 | O17: 2 | P17: 1 | Q17: 5 | R17: 4 | S17: 3 | T17: 2 | U17: 1 | V17: 2 | W17: 1 | X17: =SUM(B17:W17) -> 63 | Y17: =X17/33*100 -> 190.90909
A18: =+Task!F44 -> รวบรวมเอกสารใบสมัครและเสนอผู้บริหารอนุมัติ | B18: 5 | C18: 4 | D18: 3 | E18: 2 | F18: 1 | G18: 5 | H18: 4 | I18: 3 | J18: 2 | K18: 1 | L18: 5 | M18: 4 | N18: 3 | O18: 2 | P18: 1 | Q18: 5 | R18: 4 | S18: 3 | T18: 2 | U18: 1 | V18: 2 | W18: 1 | X18: =SUM(B18:W18) -> 63 | Y18: =X18/33*100 -> 190.90909
A19: =+Task!J44 -> รับผลการอนุมัติจากผู้บริหาร | B19: 5 | C19: 4 | D19: 3 | E19: 2 | F19: 1 | G19: 5 | H19: 4 | I19: 3 | J19: 2 | K19: 1 | L19: 5 | M19: 4 | N19: 3 | O19: 2 | P19: 1 | Q19: 5 | R19: 4 | S19: 3 | T19: 2 | U19: 1 | V19: 2 | W19: 1 | X19: =SUM(B19:W19) -> 63 | Y19: =X19/33*100 -> 190.90909
A20: =+Task!N44 -> แจ้งผลการสัมภาษณ์แก่ผู้สมัคร | B20: 5 | C20: 4 | D20: 3 | E20: 2 | F20: 1 | G20: 5 | H20: 4 | I20: 3 | J20: 2 | K20: 1 | L20: 5 | M20: 4 | N20: 3 | O20: 2 | P20: 1 | Q20: 5 | R20: 4 | S20: 3 | T20: 2 | U20: 1 | V20: 2 | W20: 1 | X20: =SUM(B20:W20) -> 63 | Y20: =X20/33*100 -> 190.90909
A21: =+Task!R44 -> 0 | B21: 5 | C21: 4 | D21: 3 | E21: 2 | F21: 1 | G21: 5 | H21: 4 | I21: 3 | J21: 2 | K21: 1 | L21: 5 | M21: 4 | N21: 3 | O21: 2 | P21: 1 | Q21: 5 | R21: 4 | S21: 3 | T21: 2 | U21: 1 | V21: 2 | W21: 1 | X21: =SUM(B21:W21) -> 63 | Y21: =X21/33*100 -> 190.90909
A22: =+Task!F53 -> กรอกรายละเอียดในสัญญาจ้าง | B22: 5 | C22: 4 | D22: 3 | E22: 2 | F22: 1 | G22: 5 | H22: 4 | I22: 3 | J22: 2 | K22: 1 | L22: 5 | M22: 4 | N22: 3 | O22: 2 | P22: 1 | Q22: 5 | R22: 4 | S22: 3 | T22: 2 | U22: 1 | V22: 2 | W22: 1 | X22: =SUM(B22:W22) -> 63 | Y22: =X22/33*100 -> 190.90909
A23: =+Task!J53 -> ลงนามในสัญญา | B23: 5 | C23: 4 | D23: 3 | E23: 2 | F23: 1 | G23: 5 | H23: 4 | I23: 3 | J23: 2 | K23: 1 | L23: 5 | M23: 4 | N23: 3 | O23: 2 | P23: 1 | Q23: 5 | R23: 4 | S23: 3 | T23: 2 | U23: 1 | V23: 2 | W23: 1 | X23: =SUM(B23:W23) -> 63 | Y23: =X23/33*100 -> 190.90909
A24: =+Task!N53 -> เก็บรวบรวมเอกสารเพิ่มเติม | B24: 5 | C24: 4 | D24: 3 | E24: 2 | F24: 1 | G24: 5 | H24: 4 | I24: 3 | J24: 2 | K24: 1 | L24: 5 | M24: 4 | N24: 3 | O24: 2 | P24: 1 | Q24: 5 | R24: 4 | S24: 3 | T24: 2 | U24: 1 | V24: 2 | W24: 1 | X24: =SUM(B24:W24) -> 63 | Y24: =X24/33*100 -> 190.90909
A25: =+Task!R53 -> มอบหนังสือค้ำประนกัน | B25: 5 | C25: 4 | D25: 3 | E25: 2 | F25: 1 | G25: 5 | H25: 4 | I25: 3 | J25: 2 | K25: 1 | L25: 5 | M25: 4 | N25: 3 | O25: 2 | P25: 1 | Q25: 5 | R25: 4 | S25: 3 | T25: 2 | U25: 1 | V25: 2 | W25: 1 | X25: =SUM(B25:W25) -> 63 | Y25: =X25/33*100 -> 190.90909
A26: =+Task!F56 -> เสนอผู้บริหารลงนามอนุมัติ | B26: 5 | C26: 4 | D26: 3 | E26: 2 | F26: 1 | G26: 5 | H26: 4 | I26: 3 | J26: 2 | K26: 1 | L26: 5 | M26: 4 | N26: 3 | O26: 2 | P26: 1 | Q26: 5 | R26: 4 | S26: 3 | T26: 2 | U26: 1 | V26: 2 | W26: 1 | X26: =SUM(B26:W26) -> 63 | Y26: =X26/33*100 -> 190.90909
A27: =+Task!J56 -> รับเอกสารอนุมัติเก็บเข้าแฟ้มประวัติ | B27: 5 | C27: 4 | D27: 3 | E27: 2 | F27: 1 | G27: 5 | H27: 4 | I27: 3 | J27: 2 | K27: 1 | L27: 5 | M27: 4 | N27: 3 | O27: 2 | P27: 1 | Q27: 5 | R27: 4 | S27: 3 | T27: 2 | U27: 1 | V27: 2 | W27: 1 | X27: =SUM(B27:W27) -> 63 | Y27: =X27/33*100 -> 190.90909
A28: =+Task!F62 -> แนะนำพนักงานใหม่กับสาขา/ฝ่าย | B28: 5 | C28: 4 | D28: 3 | E28: 2 | F28: 1 | G28: 5 | H28: 4 | I28: 3 | J28: 2 | K28: 1 | L28: 5 | M28: 4 | N28: 3 | O28: 2 | P28: 1 | Q28: 5 | R28: 4 | S28: 3 | T28: 2 | U28: 1 | V28: 2 | W28: 1 | X28: =SUM(B28:W28) -> 63 | Y28: =X28/33*100 -> 190.90909
A29: =+Task!J62 -> ส่งมอบพนักงานใหม่กับสาขา/ฝ่าย | B29: 5 | C29: 4 | D29: 3 | E29: 2 | F29: 1 | G29: 5 | H29: 4 | I29: 3 | J29: 2 | K29: 1 | L29: 5 | M29: 4 | N29: 3 | O29: 2 | P29: 1 | Q29: 5 | R29: 4 | S29: 3 | T29: 2 | U29: 1 | V29: 2 | W29: 1 | X29: =SUM(B29:W29) -> 63 | Y29: =X29/33*100 -> 190.90909
B30: 5 | C30: 4 | D30: 3 | E30: 2 | F30: 1 | G30: 5 | H30: 4 | I30: 3 | J30: 2 | K30: 1 | L30: 5 | M30: 4 | N30: 3 | O30: 2 | P30: 1 | Q30: 5 | R30: 4 | S30: 3 | T30: 2 | U30: 1 | V30: 2 | W30: 1 | X30: =SUM(B30:W30) -> 63 | Y30: =X30/33*100 -> 190.90909

Sheet DATA
A2: DATA | C2: การออกแบบและพัฒนาหลักสูตรอิงสมรรถนะให้กับสถานประกอบการ
A4: สถานประกอบการ | C4: บริษัท เรือเร็วลมพระยา จำกัด | I4: แผนก | J4: ทรัพยากรณ์มนุษย์
A5: ชื่อตำแหน่งงาน | C5: เจ้าหน้าที่สรรหาบุคลากร | I5: วัน / เดือน /ปี ที่วิเคราะห์ | L5: 15/12/2558
A7: ผู้วิเคราะห์ | I7: ผู้วิเคราะห์
A8: 1 | B8: นางสาวพานุมาส นิลอุปถัม | D8: ภาพถ่าย | E8: ตำแหน่ง | F8: พนักงานทรัพยากรณ์มนุษย์/ผู้เชี่ยวชาญ | I8: 7 | J8: นายธีระศักดิ์ แสงสุวรรณ | L8: ภาพถ่าย | M8: ตำแหน่ง | N8: Recorder 2
A10: 2 | B10: นางสาวพิชชาณี พงศ์สุวรรณ | D10: ภาพถ่าย | E10: ตำแหน่ง | F10: พนักงานทรัพยากรณ์มนุษย์/ผู้เชี่ยวชาญ | I10: 8 | J10: นายสุกฤษ มณีรัตน์ | L10: ภาพถ่าย | M10: ตำแหน่ง | N10: คณะทำงาน
A12: 3 | B12: นายอนันต์ การามหิโต | D12: ภาพถ่าย | E12: ตำแหน่ง | F12: Facilitater 1
A14: 4 | B14: นายสืบสาย ตาเดอิน | D14: ภาพถ่าย | E14: ตำแหน่ง | F14: Facilitater 2
A16: 5 | B16: นายสมชาย อินทรมงคล | D16: ภาพถ่าย | E16: ตำแหน่ง | F16: Recorder 1
A18: 6 | B18: นายธีรศักดิ์ วิริชัย | D18: ภาพถ่าย | E18: ตำแหน่ง | F18: คณะทำงาน
A20: ผู้ทบทวน
B21: นางสาวพานุมาส นิลอุปถัม | E21: ตำแหน่ง | F21: พนักงานทรัพยากรณ์มนุษย์/ผู้เชี่ยวชาญ
A22: ผู้อนุมัติ
B23: นางสาวพิชชาณี พงศ์สุวรรณ | E23: ตำแหน่ง | F23: พนักงานทรัพยากรณ์มนุษย์/ผู้เชี่ยวชาญ

Sheet แบบStep
A1: การวิเคราะห์งาน (Job Analysis : Step)
B3: สถานประกอบการ | D3: =DATA!C2 -> การออกแบบและพัฒนาหลักสูตรอิงสมรรถนะให้กับสถานประกอบการ | F3: แผนก
B4: ตำแหน่งงาน | F4: วัน / เดือน / ปี ที่วิเคราะห์
B8: ที่ | C8: ขั้นตอนการปฏิบัติงาน | D8: เครื่องมือ / วัสดุ / อุปกรณ์ | E8: ความรู้ที่ต้องใช้ | F8: คุณลักษณะ/ทัศนคติ | G8: มาตรฐาน | H8: ความปลอดภัย
D9: ที่ใช้ในการปฏิบัติงาน | E9: ในการปฏิบัติงาน | F9: ที่ต้องใช้ในการปฏิบัติงาน | G9: ในการปฏิบัติงาน | H9: ข้อควรระวัง
B10: 1
B13: 2
B16: 3
B19: 4
B22: 5
B25: 6
B28: 7
A31: ผู้วิเคราะห์ | G31: ผู้ทบทวน | H31: ผู้อนุมัติ

Sheet Duty
A1: การวิเคราะห์งาน (Job Analysis : Duty)
A2: สถานประกอบการ | C2: บริษัท เรือเร็วลมพระยา จำกัด | I2: แผนก | J2: ทรัพยากร์บุคคล
A3: ชื่อตำแหน่งงาน | C3: เจ้าหน้าที่สรรหาบุคลากร | I3: วัน / เดือน /ปี ที่วิเคราะห์ | L3: =['file:///Users/Administrator.3ZERXTMEA9PKOQQ/Desktop/Competency DSD/แบบวิเคราะห์ตำแหน่งงาน-อาชีพ(ชัย).xls']DATA!L5 -> 240419
A5: คำบรรยายลักษณะงานโดยย่อ : เจ้าหน้าที่สรรหาบุคลากร หมายถึง ผู้ที่มีความรู้ ความสามารถในงานประกาศรับสมัครบุคลากร ตรวจสอบโครงสร้างอัตรากำลัง งานประกาศรับ รับ
A6: สมัครบุคลากร การสอบถามข้อมูลเบื้องต้น การกรอกใบสมัคร ตรวจสอบความถูกต้องในใบสมัครและเอกสารการสมัคร งานเอกสารประกอบการสมัคร ส่งมอบใบสมัครให้แผนก/ฝ่าย
A7: แจ้งผลการพิจารณาจากผู้จัดการสาขา/ฝ่าย พร้อมแจ้งผลการสัมภาษณ์ เตรียมเอกสารการทำสัญญาจ้าง และส่งมอบพนักงานใหม่ให้กับฝ่ายที่เกี่ยวข้อง
A8: หน้าที่ /งานหลัก : (DUTY)
B9: การประการรับสมัครบุคลากร | I9: การเสนอผู้บริหารอนุมัติ
B12: การรับสมัคร | I12: การทำสัญญาจ้าง
B15: การพิจารณาเอกสารใบสมัคร | I15: การส่งมอบพนักงานใหม่
B18: การสัมภาษณ์
A21: ผู้วิเคราะห์ | B21: =DATA!B8 -> นางสาวพานุมาส นิลอุปถัม | E21: =DATA!F8 -> พนักงานทรัพยากรณ์มนุษย์/ผู้เชี่ยวชาญ | I21: ผู้ทบทวน | M21: ผู้อนุมัติ
B22: =DATA!B10 -> นางสาวพิชชาณี พงศ์สุวรรณ | E22: =DATA!F10 -> พนักงานทรัพยากรณ์มนุษย์/ผู้เชี่ยวชาญ | I22: =+DATA!B21 -> นางสาวพานุมาส นิลอุปถัม | M22: =+DATA!B23 -> นางสาวพิชชาณี พงศ์สุวรรณ
B23: =DATA!B12 -> นายอนันต์ การามหิโต | E23: =DATA!F12 -> Facilitater 1
B24: =DATA!B14 -> นายสืบสาย ตาเดอิน | E24: =DATA!F14 -> Facilitater 2 | H24: ตำแหน่ง | I24: =DATA!F21 -> พนักงานทรัพยากรณ์มนุษย์/ผู้เชี่ยวชาญ | L24: ตำแหน่ง | M24: =DATA!F23 -> พนักงานทรัพยากรณ์มนุษย์/ผู้เชี่ยวชาญ
B25: =DATA!B16 -> นายสมชาย อินทรมงคล | E25: =DATA!F16 -> Recorder 1

Sheet Task
B1: การวิเคราะห์งาน (Job Analysis : Task)
B2: สถานประกอบการ | D2: =DATA!C4 -> บริษัท เรือเร็วลมพระยา จำกัด | K2: แผนก | O2: =DATA!J4 -> ทรัพยากรณ์มนุษย์
B3: ชื่อตำแหน่งงาน | D3: =DATA!C5 -> เจ้าหน้าที่สรรหาบุคลากร | K3: วัน / เดือน /ปี ที่วิเคราะห์ | O3: =DATA!L5 -> 15/12/2558
B5: งานหลัก (DUTY) | F5: งานย่อย (Task)
B7: =Duty!B9 -> การประการรับสมัครบุคลากร | F7: ตรวจสอบอัตรากำลังของบริษัท | J7: ประกาศรับสมัครตำแหน่งงานว่าง
B16: =Duty!B12 -> การรับสมัคร | F16: ตรวจสอบข้อมูลบุคคลก่อนการสมัคร | J16: ให้กรอกใบสมัครพนักงานใหม่ | N16: ตรวจสอบความถูกต้องใบสมัครพนักงานใหม่
B26: =Duty!B15 -> การพิจารณาเอกสารใบสมัคร | F26: ส่งมอบใบสมัครให้ ผจก.สาขา/ฝ่าย พิจารณา | J26: รับแจ้งผลการพิจารณาจาก ผจก.สาขา/ฝ่าย
B35: =Duty!B18 -> การสัมภาษณ์ | F35: ทดสอบความรู้ความสามารถของผู้สมัคร | J35: ส่งมอบเอกสารประกอบการสัมภาษณ์ | N35: รับเอกสารพร้อมผลการสัมภาษณ์
B44: =Duty!I9 -> การเสนอผู้บริหารอนุมัติ | F44: รวบรวมเอกสารใบสมัครและเสนอผู้บริหารอนุมัติ | J44: รับผลการอนุมัติจากผู้บริหาร | N44: แจ้งผลการสัมภาษณ์แก่ผู้สมัคร
B53: =Duty!I12 -> การทำสัญญาจ้าง | F53: กรอกรายละเอียดในสัญญาจ้าง | J53: ลงนามในสัญญา | N53: เก็บรวบรวมเอกสารเพิ่มเติม | R53: มอบหนังสือค้ำประนกัน
F56: เสนอผู้บริหารลงนามอนุมัติ | J56: รับเอกสารอนุมัติเก็บเข้าแฟ้มประวัติ
B62: =Duty!I15 -> การส่งมอบพนักงานใหม่ | F62: แนะนำพนักงานใหม่กับสาขา/ฝ่าย | J62: ส่งมอบพนักงานใหม่กับสาขา/ฝ่าย
B71: =Duty!I18 -> 0
B80: ผู้วิเคราห์ | C80: =DATA!B8 -> นางสาวพานุมาส นิลอุปถัม | H80: =DATA!F8 -> พนักงานทรัพยากรณ์มนุษย์/ผู้เชี่ยวชาญ | N80: ผู้ทบทวน | R80: ผู้อนุมัติ
C81: =DATA!B10 -> นางสาวพิชชาณี พงศ์สุวรรณ | H81: =DATA!F10 -> พนักงานทรัพยากรณ์มนุษย์/ผู้เชี่ยวชาญ | N81: =+DATA!B21 -> นางสาวพานุมาส นิลอุปถัม | R81: =data!#REF! -> #VALUE!
C82: =DATA!B12 -> นายอนันต์ การามหิโต | H82: =DATA!F12 -> Facilitater 1
C83: =DATA!B14 -> นายสืบสาย ตาเดอิน | H83: =DATA!F14 -> Facilitater 2 | N83: ตำแหน่ง | O83: =DATA!F21 -> พนักงานทรัพยากรณ์มนุษย์/ผู้เชี่ยวชาญ | R83: ตำแหน่ง | S83: =DATA!F23 -> พนักงานทรัพยากรณ์มนุษย์/ผู้เชี่ยวชาญ
C84: =DATA!B16 -> นายสมชาย อินทรมงคล | H84: =DATA!F16 -> Recorder 1
C85: =DATA!B18 -> นายธีรศักดิ์ วิริชัย | H85: =DATA!F18 -> คณะทำงาน

Sheet A1
A1: การวิเคราะห์งาน (Job Analysis : Step)
B3: สถานประกอบการ | D3: =DATA!C4 -> บริษัท เรือเร็วลมพระยา จำกัด | F3: แผนก | G3: =DATA!J4 -> ทรัพยากรณ์มนุษย์
B4: ตำแหน่งงาน | D4: =DATA!C5 -> เจ้าหน้าที่สรรหาบุคลากร | F4: วัน / เดือน / ปี ที่วิเคราะห์ | G4: =DATA!L5 -> 15/12/2558
C6: =Duty!B9 -> การประการรับสมัครบุคลากร | F6: =Task!F7 -> ตรวจสอบอัตรากำลังของบริษัท
B8: ที่ | C8: ขั้นตอนการปฏิบัติงาน | D8: เครื่องมือ / วัสดุ / อุปกรณ์ | E8: ความรู้ที่ต้องใช้ | F8: คุณลักษณะ/ทัศนคติ | G8: มาตรฐาน | H8: ความปลอดภัย
D9: ที่ใช้ในการปฏิบัติงาน | E9: ในการปฏิบัติงาน | F9: ที่ต้องใช้ในการปฏิบัติงาน | G9: ในการปฏิบัติงาน | H9: ข้อควรระวัง
B10: 1 | C10: เตรียมแฟ้มโครงสร้างอัตรากำลัง | D10: แฟ้มโครงสร้างอัตรากำลัง | E10: การจัดเก็บเอกสารสำนักงาน | F10: ละเอียดรอบคอบ | G10: เตรียมแฟ้มโครงสร้างอัตรา | H10: ระวังผิดแฟ้ม
G11: กำลังได้ถูกต้อง
B13: 2 | C13: ค้นหาโครงสร้างตามอัตรากำลัง | D13: แฟ้มโครงสร้างอัตรากำลัง | E13: การค้นหาเอกสารสำนักงาน | F13: ละเอียดรอบคอบ | G13: ค้นหาได้ถูกต้อง | H13: ระวังข้อมูลผิดพลาด
F14: ช่างสังเกตุ
B16: 3 | C16: บันทึกข้อมูลที่ต้องการ | D16: แฟ้มโครงสร้างอัตรากำลัง | E16: ทักษะการอ่าน เขียน | F16: ละเอียดรอบคอบ | G16: บันทึกได้ถูกต้องครบถ้วน | H16: ระวังข้อมูลผิดพลาด
D17: ดินสอดำ 2B
D18: กระดาษ A4
B19: 4 | C19: ตรวจสอบข้อมูลที่ต้องการ | E19: ทักษะการอ่าน เขียน | F19: ละเอียดรอบคอบ | G19: ตรวจสอบข้อมูลได้ครบถ้วน | H19: ระวังข้อมูลผิดพลาด
B22: 5 | C22: เก็บแฟ้มโครงสร้างอัตรากำลังไว้ในตู้เอกสาร | D22: แฟ้มโครงสร้างอัตรากำลัง | E22: การจัดเก็บเอกสารสำนักงาน | F22: เรียบร้อยสวยงาม | G22: เก็บแฟ้มโครงสร้างอัตรากำลัง | H22: ระวังผิดแฟ้ม
G23: ได้ถูกต้อง
B25: 6
A28: ผู้วิเคราะห์ | C28: =DATA!B8 -> นางสาวพานุมาส นิลอุปถัม | D28: =DATA!F8 -> พนักงานทรัพยากรณ์มนุษย์/ผู้เชี่ยวชาญ | G28: ผู้ทบทวน | H28: ผู้อนุมัติ
C29: =DATA!B10 -> นางสาวพิชชาณี พงศ์สุวรรณ | D29: =DATA!F10 -> พนักงานทรัพยากรณ์มนุษย์/ผู้เชี่ยวชาญ
C30: =DATA!B12 -> นายอนันต์ การามหิโต | D30: =DATA!F12 -> Facilitater 1 | G30: =+DATA!B21 -> นางสาวพานุมาส นิลอุปถัม | H30: =+DATA!B23 -> นางสาวพิชชาณี พงศ์สุวรรณ
C31: =DATA!B14 -> นายสืบสาย ตาเดอิน | D31: =DATA!F14 -> Facilitater 2
C32: =DATA!B16 -> นายสมชาย อินทรมงคล | D32: =DATA!F16 -> Recorder 1 | G32: =DATA!F21 -> พนักงานทรัพยากรณ์มนุษย์/ผู้เชี่ยวชาญ | H32: =DATA!F23 -> พนักงานทรัพยากรณ์มนุษย์/ผู้เชี่ยวชาญ
C33: =DATA!B18 -> นายธีรศักดิ์ วิริชัย | D33: =DATA!F18 -> คณะทำงาน

Sheet A2
A1: การวิเคราะห์งาน (Job Analysis : Step)
B3: สถานประกอบการ | D3: =DATA!C4 -> บริษัท เรือเร็วลมพระยา จำกัด | F3: แผนก | G3: =DATA!J4 -> ทรัพยากรณ์มนุษย์
B4: ตำแหน่งงาน | D4: =DATA!C5 -> เจ้าหน้าที่สรรหาบุคลากร | F4: วัน / เดือน / ปี ที่วิเคราะห์ | G4: =DATA!L5 -> 15/12/2558
C6: =Duty!B9 -> การประการรับสมัครบุคลากร | F6: =Task!J7 -> ประกาศรับสมัครตำแหน่งงานว่าง
B8: ที่ | C8: ขั้นตอนการปฏิบัติงาน | D8: เครื่องมือ / วัสดุ / อุปกรณ์ | E8: ความรู้ที่ต้องใช้ | F8: คุณลักษณะ/ทัศนคติ | G8: มาตรฐาน | H8: ความปลอดภัย
D9: ที่ใช้ในการปฏิบัติงาน | E9: ในการปฏิบัติงาน | F9: ที่ต้องใช้ในการปฏิบัติงาน | G9: ในการปฏิบัติงาน | H9: ข้อควรระวัง
B10: 1 | C10: พิมพ์ประกาศรับสมัครงานตำแหน่งงานว่าง | D10: เครื่องคอมพิวเตอร์ | E10: ทักษะการใช้โปรแกรม Ms office | F10: ละเอียดรอบคอบ | G10: พิมพ์ได้ครบถ้วน ดังนี้ | H10: ระวังข้อความผิดพลาด
C11: ประจำเดือน ลงใน Ms office | D11: กระดาษ A4 | E11: ทักษะในการจำแนกตำแหน่งงาน | G11: - ชื่อตำแหน่ง
D12: เครื่องพิมพ์เอกสาร | G12: - จำนวน
D13: แฟ้มโครงสร้างบุคลากร | G13: - สาขา/ฝ่าย
G14: - คุณวุฒิ
G15: - ระยะเวลารับสมัคร
G16: - สถานที่รับสมัคร
G17: - เบอร์โทรศัพท์, อีเมล์
B18: 2 | C18: เสนออนุมัติประกาศรับสมัครงาน | D18: ประกาศรับสมัครงาน | E18: ทักษะการจัดเรียงเอกสาร | F18: บุคลิกภาพดี อ่อนน้อมถ่อมตน | G18: เสนอพิจารณาอนุมัติอย่าง | H18: ระวังความผิดพลาดของ
D19: แฟ้มเสนอเซ็นต์ | E19: ทักษะการสื่อสาร | F19: พูดจาไพเราะ ยิ้มแย้มแจ่มใส | G19: น้อยเดือนละ 1 ครั้ง | H19: เอกสาร
B21: 3 | C21: ส่งเอกสารประกาศรับสมัครงาน | D21: ประกาศรับสมัครงาน | E21: ทักษะการใช้อีเมล์ | F21: ละเอียดรอบคอบ | G21: จัดส่งเอกสารไปยังหน่วยงาน | H21: ระวังการจัดส่งเอกสาร
D22: โทรสาร | E22: ทักษะการใช้โทรสาร | G22: ได้ครบถ้วน ดังนี้ | H22: ผิดพลาด ไม่ถึงผู้รับ
D23: เครื่องคอมพิวเตอร์ | G23: - Samui Cable | H23: ระวังการส่งอีเมล์ผิดพลาด
D24: บอร์ดประชาสัมพันธ์ | G24: - จัดหางานจังหวัดที่เกี่ยวข้อง
G25: - บอร์ประชาสัมพันธ์ในแต่
G26: ละสาขา
G27: จัดส่งอีเมล์ ไปยังสาขา/ฝ่าย
G28: ได้ครบถ้วน
B29: 4 | C29: ติดตามผลประกาศรับสมัครงาน และจัดเก็บ | D29: ประกาศรับสมัครงาน | E29: ทักษะการสื่อสาร | F29: ละเอียดรอบคอบ | G29: ติดตามผลประกาศได้ครบถ้วน | H29: ระวังข้อมูลผิดพลาด
C30: เอกสาร | D30: โทรศัพท์ | E30: การจัดเก็บเอกสารสำนักงาน
D31: โทรสาร
B33: 5
A36: ผู้วิเคราะห์ | C36: =DATA!B8 -> นางสาวพานุมาส นิลอุปถัม | D36: =DATA!F8 -> พนักงานทรัพยากรณ์มนุษย์/ผู้เชี่ยวชาญ | G36: ผู้ทบทวน | H36: ผู้อนุมัติ
C37: =DATA!B10 -> นางสาวพิชชาณี พงศ์สุวรรณ | D37: =DATA!F10 -> พนักงานทรัพยากรณ์มนุษย์/ผู้เชี่ยวชาญ
C38: =DATA!B12 -> นายอนันต์ การามหิโต | D38: =DATA!F12 -> Facilitater 1 | G38: =+DATA!B21 -> นางสาวพานุมาส นิลอุปถัม | H38: =+DATA!B23 -> นางสาวพิชชาณี พงศ์สุวรรณ
C39: =DATA!B14 -> นายสืบสาย ตาเดอิน | D39: =DATA!F14 -> Facilitater 2
C40: =DATA!B16 -> นายสมชาย อินทรมงคล | D40: =DATA!F16 -> Recorder 1 | G40: =DATA!F21 -> พนักงานทรัพยากรณ์มนุษย์/ผู้เชี่ยวชาญ | H40: =DATA!F23 -> พนักงานทรัพยากรณ์มนุษย์/ผู้เชี่ยวชาญ
C41: =DATA!B18 -> นายธีรศักดิ์ วิริชัย | D41: =DATA!F18 -> คณะทำงาน

Sheet A3
A1: การวิเคราะห์งาน (Job Analysis : Step)
B3: สถานประกอบการ | D3: =DATA!C4 -> บริษัท เรือเร็วลมพระยา จำกัด | F3: แผนก | G3: =DATA!J4 -> ทรัพยากรณ์มนุษย์
B4: ตำแหน่งงาน | D4: =DATA!C5 -> เจ้าหน้าที่สรรหาบุคลากร | F4: วัน / เดือน / ปี ที่วิเคราะห์ | G4: =DATA!L5 -> 15/12/2558
C6: =Duty!B9 -> การประการรับสมัครบุคลากร | F6: =Task!N7 -> 0
B8: ที่ | C8: ขั้นตอนการปฏิบัติงาน | D8: เครื่องมือ / วัสดุ / อุปกรณ์ | E8: ความรู้ที่ต้องใช้ | F8: คุณลักษณะ/ทัศนคติ | G8: มาตรฐาน | H8: ความปลอดภัย
D9: ที่ใช้ในการปฏิบัติงาน | E9: ในการปฏิบัติงาน | F9: ที่ต้องใช้ในการปฏิบัติงาน | G9: ในการปฏิบัติงาน | H9: ข้อควรระวัง
B10: 1
B13: 2
B16: 3
B19: 4
B22: 5
B25: 6
B28: 7
A31: ผู้วิเคราะห์ | C31: =DATA!B8 -> นางสาวพานุมาส นิลอุปถัม | D31: =DATA!F8 -> พนักงานทรัพยากรณ์มนุษย์/ผู้เชี่ยวชาญ | G31: ผู้ทบทวน | H31: ผู้อนุมัติ
C32: =DATA!B10 -> นางสาวพิชชาณี พงศ์สุวรรณ | D32: =DATA!F10 -> พนักงานทรัพยากรณ์มนุษย์/ผู้เชี่ยวชาญ
C33: =DATA!B12 -> นายอนันต์ การามหิโต | D33: =DATA!F12 -> Facilitater 1 | G33: =data!#REF! -> #VALUE! | H33: =data!#REF! -> #VALUE!
C34: =DATA!B14 -> นายสืบสาย ตาเดอิน | D34: =DATA!F14 -> Facilitater 2
C35: =DATA!B16 -> นายสมชาย อินทรมงคล | D35: =DATA!F16 -> Recorder 1 | G35: =DATA!F21 -> พนักงานทรัพยากรณ์มนุษย์/ผู้เชี่ยวชาญ | H35: =DATA!F23 -> พนักงานทรัพยากรณ์มนุษย์/ผู้เชี่ยวชาญ
C36: =DATA!B18 -> นายธีรศักดิ์ วิริชัย | D36: =DATA!F18 -> คณะทำงาน

Sheet A4
A1: การวิเคราะห์งาน (Job Analysis : Step)
B3: สถานประกอบการ | D3: =DATA!C4 -> บริษัท เรือเร็วลมพระยา จำกัด | F3: แผนก | G3: =DATA!J4 -> ทรัพยากรณ์มนุษย์
B4: ตำแหน่งงาน | D4: =DATA!C5 -> เจ้าหน้าที่สรรหาบุคลากร | F4: วัน / เดือน / ปี ที่วิเคราะห์ | G4: =DATA!L5 -> 15/12/2558
C6: =Duty!B9 -> การประการรับสมัครบุคลากร | F6: =Task!R7 -> 0
B8: ที่ | C8: ขั้นตอนการปฏิบัติงาน | D8: เครื่องมือ / วัสดุ / อุปกรณ์ | E8: ความรู้ที่ต้องใช้ | F8: คุณลักษณะ/ทัศนคติ | G8: มาตรฐาน | H8: ความปลอดภัย
D9: ที่ใช้ในการปฏิบัติงาน | E9: ในการปฏิบัติงาน | F9: ที่ต้องใช้ในการปฏิบัติงาน | G9: ในการปฏิบัติงาน | H9: ข้อควรระวัง
B10: 1
B13: 2
B16: 3
B19: 4
B22: 5
B25: 6
B28: 7
A31: ผู้วิเคราะห์ | C31: =DATA!B8 -> นางสาวพานุมาส นิลอุปถัม | D31: =DATA!F8 -> พนักงานทรัพยากรณ์มนุษย์/ผู้เชี่ยวชาญ | G31: ผู้ทบทวน | H31: ผู้อนุมัติ
C32: =DATA!B10 -> นางสาวพิชชาณี พงศ์สุวรรณ | D32: =DATA!F10 -> พนักงานทรัพยากรณ์มนุษย์/ผู้เชี่ยวชาญ
C33: =DATA!B12 -> นายอนันต์ การามหิโต | D33: =DATA!F12 -> Facilitater 1 | G33: =data!#REF! -> #VALUE! | H33: =data!#REF! -> #VALUE!
C34: =DATA!B14 -> นายสืบสาย ตาเดอิน | D34: =DATA!F14 -> Facilitater 2
C35: =DATA!B16 -> นายสมชาย อินทรมงคล | D35: =DATA!F16 -> Recorder 1 | G35: =DATA!F21 -> พนักงานทรัพยากรณ์มนุษย์/ผู้เชี่ยวชาญ | H35: =DATA!F23 -> พนักงานทรัพยากรณ์มนุษย์/ผู้เชี่ยวชาญ
C36: =DATA!B18 -> นายธีรศักดิ์ วิริชัย | D36: =DATA!F18 -> คณะทำงาน

Sheet A5
A1: การวิเคราะห์งาน (Job Analysis : Step)
B3: สถานประกอบการ | D3: บริษัท เวลบิ้วท เมนูเฟคเจอริ่ง (ไทยแลนด์) จำกัด | F3: แผนก | G3: =DATA!J4 -> ทรัพยากรณ์มนุษย์
B4: ตำแหน่งงาน | D4: ช่างประกอบตู้เย็นขนาดใหญ่ (Big Produck Arcodition) | F4: วัน / เดือน / ปี ที่วิเคราะห์ | G4: =DATA!L5 -> 15/12/2558
C6: =Duty!B9 -> การประการรับสมัครบุคลากร | F6: =Task!F10 -> 0
B8: ที่ | C8: ขั้นตอนการปฏิบัติงาน | D8: เครื่องมือ / วัสดุ / อุปกรณ์ | E8: ความรู้ที่ต้องใช้ | F8: คุณลักษณะ/ทัศนคติ | G8: มาตรฐาน | H8: ความปลอดภัย
D9: ที่ใช้ในการปฏิบัติงาน | E9: ในการปฏิบัติงาน | F9: ที่ต้องใช้ในการปฏิบัติงาน | G9: ในการปฏิบัติงาน | H9: ข้อควรระวัง
B10: 1
B13: 2
B16: 3
B19: 4
B22: 5
B25: 6
B28: 7
A31: ผู้วิเคราะห์ | C31: =DATA!B8 -> นางสาวพานุมาส นิลอุปถัม | D31: =DATA!F8 -> พนักงานทรัพยากรณ์มนุษย์/ผู้เชี่ยวชาญ | G31: ผู้ทบทวน | H31: ผู้อนุมัติ
C32: =DATA!B10 -> นางสาวพิชชาณี พงศ์สุวรรณ | D32: =DATA!F10 -> พนักงานทรัพยากรณ์มนุษย์/ผู้เชี่ยวชาญ
C33: =DATA!B12 -> นายอนันต์ การามหิโต | D33: =DATA!F12 -> Facilitater 1 | G33: =data!#REF! -> #VALUE! | H33: =data!#REF! -> #VALUE!
C34: =DATA!B14 -> นายสืบสาย ตาเดอิน | D34: =DATA!F14 -> Facilitater 2
C35: =DATA!B16 -> นายสมชาย อินทรมงคล | D35: =DATA!F16 -> Recorder 1 | G35: =DATA!F21 -> พนักงานทรัพยากรณ์มนุษย์/ผู้เชี่ยวชาญ | H35: =DATA!F23 -> พนักงานทรัพยากรณ์มนุษย์/ผู้เชี่ยวชาญ
C36: =DATA!B18 -> นายธีรศักดิ์ วิริชัย | D36: =DATA!F18 -> คณะทำงาน

Sheet B1
A1: การวิเคราะห์งาน (Job Analysis : Step)
B3: สถานประกอบการ | D3: =+DATA!C4 -> บริษัท เรือเร็วลมพระยา จำกัด | F3: แผนก | G3: =DATA!J4 -> ทรัพยากรณ์มนุษย์
B4: ตำแหน่งงาน | D4: =+DATA!C5 -> เจ้าหน้าที่สรรหาบุคลากร | F4: วัน / เดือน / ปี ที่วิเคราะห์ | G4: =DATA!L5 -> 15/12/2558
C6: =Task!B16 -> การรับสมัคร | F6: =Task!F16 -> ตรวจสอบข้อมูลบุคคลก่อนการสมัคร
B8: ที่ | C8: ขั้นตอนการปฏิบัติงาน | D8: เครื่องมือ / วัสดุ / อุปกรณ์ | E8: ความรู้ที่ต้องใช้ | F8: คุณลักษณะ/ทัศนคติ | G8: มาตรฐาน | H8: ความปลอดภัย
D9: ที่ใช้ในการปฏิบัติงาน | E9: ในการปฏิบัติงาน | F9: ที่ต้องใช้ในการปฏิบัติงาน | G9: ในการปฏิบัติงาน | H9: ข้อควรระวัง
B10: 1 | C10: ทักทายผู้มาสมัครงาน | E10: ทักษะในการสื่อสาร | F10: ยิ้มแย้มแจ่มใส | G10: กล่าวทักทาย "สวัสดีค่ะ/ครับ" | H10: ระวังการใช้คำพูด
E11: มนุษยสัมพันธ์ที่ดี | F11: พูดจาไพเราะ | G11: ติดต่อเรื่องอะไรค่ะ/ครับ | H11: ระวังกิริยาท่าทางที่ไม่สุภาพ
E12: มีจิตบริการ | F12: มีมนุษยสัมพันธ์ที่ดี
B13: 2 | C13: เชิญผู้สมัครมานั่งยังโต๊ะรับสมัครงาน | D13: โต๊ะรับสมัครงาน | E13: ทักษะในการสื่อสาร | F13: ยิ้มแย้มแจ่มใส | G13: เชิญผู้สมัครงานไปนั่งได้ | H13: ระวังการใช้คำพูด
D14: เก้าอี้ | E14: มนุษยสัมพันธ์ที่ดี | F14: พูดจาไพเราะ | G14: ถูกต้อง ตรงจุดที่กำหนด | H14: ระวังกิริยาท่าทางที่ไม่สุภาพ
E15: มีจิตบริการ | F15: มีมนุษยสัมพันธ์ที่ดี
B16: 3 | C16: สอบถามตำแหน่งที่ต้องการสมัครงาน | E16: คู่มือปฏิบัติงานของ- | F16: ยิ้มแย้มแจ่มใส | G16: ประเมินผู้สมัครได้ตรงตาม | H16: ระวังการใช้คำพูด
C17: ให้สอดคล้องกับตำแหน่งงานว่าง | E17: บจก.เรือเร็วลมพระยา | F17: พูดจาไพเราะ | G17: กรอบอัตรากำลังที่ว่าง | H17: ระวังกิริยาท่าทางที่ไม่สุภาพ
E18: ทักษะในการจำแนกตำแหน่งงาน | F18: มีมนุษยสัมพันธ์ที่ดี | H18: ระวังวุฒิการศึกษาไม่ตรง
F19: ทักษะการคิดวิเคราะห์ | H19: ตามตำแหน่งที่ต้องการ
B20: 4
B23: 5
A26: ผู้วิเคราะห์ | C26: =DATA!B8 -> นางสาวพานุมาส นิลอุปถัม | D26: =DATA!F8 -> พนักงานทรัพยากรณ์มนุษย์/ผู้เชี่ยวชาญ | G26: ผู้ทบทวน | H26: ผู้อนุมัติ
C27: =DATA!B10 -> นางสาวพิชชาณี พงศ์สุวรรณ | D27: =DATA!F10 -> พนักงานทรัพยากรณ์มนุษย์/ผู้เชี่ยวชาญ
C28: =DATA!B12 -> นายอนันต์ การามหิโต | D28: =DATA!F12 -> Facilitater 1 | G28: =+DATA!B21 -> นางสาวพานุมาส นิลอุปถัม | H28: =+DATA!B23 -> นางสาวพิชชาณี พงศ์สุวรรณ
C29: =DATA!B14 -> นายสืบสาย ตาเดอิน | D29: =DATA!F14 -> Facilitater 2
C30: =DATA!B16 -> นายสมชาย อินทรมงคล | D30: =DATA!F16 -> Recorder 1 | G30: =DATA!F21 -> พนักงานทรัพยากรณ์มนุษย์/ผู้เชี่ยวชาญ | H30: =DATA!F23 -> พนักงานทรัพยากรณ์มนุษย์/ผู้เชี่ยวชาญ
C31: =DATA!B18 -> นายธีรศักดิ์ วิริชัย | D31: =DATA!F18 -> คณะทำงาน

Sheet B2
A1: การวิเคราะห์งาน (Job Analysis : Step)
B3: สถานประกอบการ | D3: =+DATA!C4 -> บริษัท เรือเร็วลมพระยา จำกัด | F3: แผนก | G3: =DATA!J4 -> ทรัพยากรณ์มนุษย์
B4: ตำแหน่งงาน | D4: =+DATA!C5 -> เจ้าหน้าที่สรรหาบุคลากร | F4: วัน / เดือน / ปี ที่วิเคราะห์ | G4: =DATA!L5 -> 15/12/2558
C6: =Task!B16 -> การรับสมัคร | F6: =Task!J16 -> ให้กรอกใบสมัครพนักงานใหม่
B8: ที่ | C8: ขั้นตอนการปฏิบัติงาน | D8: เครื่องมือ / วัสดุ / อุปกรณ์ | E8: ความรู้ที่ต้องใช้ | F8: คุณลักษณะ/ทัศนคติ | G8: มาตรฐาน | H8: ความปลอดภัย
D9: ที่ใช้ในการปฏิบัติงาน | E9: ในการปฏิบัติงาน | F9: ที่ต้องใช้ในการปฏิบัติงาน | G9: ในการปฏิบัติงาน | H9: ข้อควรระวัง
B10: 1 | C10: เดินไปยังตู้เก็บเอกสารใบสมัคร
B13: 2 | C13: หยิบเอกสารใบสมัคร
B16: 3 | C16: ขอรูปถ่ายผู้สมัคร
B19: 4 | C19: อธิบายข้อมูลการกรอกใบสมัคร
B22: 5
B25: 6
B28: 7
A31: ผู้วิเคราะห์ | C31: =DATA!B8 -> นางสาวพานุมาส นิลอุปถัม | D31: =DATA!F8 -> พนักงานทรัพยากรณ์มนุษย์/ผู้เชี่ยวชาญ | G31: ผู้ทบทวน | H31: ผู้อนุมัติ
C32: =DATA!B10 -> นางสาวพิชชาณี พงศ์สุวรรณ | D32: =DATA!F10 -> พนักงานทรัพยากรณ์มนุษย์/ผู้เชี่ยวชาญ
C33: =DATA!B12 -> นายอนันต์ การามหิโต | D33: =DATA!F12 -> Facilitater 1 | G33: =+DATA!B21 -> นางสาวพานุมาส นิลอุปถัม | H33: =+DATA!B23 -> นางสาวพิชชาณี พงศ์สุวรรณ
C34: =DATA!B14 -> นายสืบสาย ตาเดอิน | D34: =DATA!F14 -> Facilitater 2
C35: =DATA!B16 -> นายสมชาย อินทรมงคล | D35: =DATA!F16 -> Recorder 1 | G35: =DATA!F21 -> พนักงานทรัพยากรณ์มนุษย์/ผู้เชี่ยวชาญ | H35: =DATA!F23 -> พนักงานทรัพยากรณ์มนุษย์/ผู้เชี่ยวชาญ
C36: =DATA!B18 -> นายธีรศักดิ์ วิริชัย | D36: =DATA!F18 -> คณะทำงาน

Sheet B3
A1: การวิเคราะห์งาน (Job Analysis : Step)
B3: สถานประกอบการ | D3: =+DATA!C4 -> บริษัท เรือเร็วลมพระยา จำกัด | F3: แผนก | G3: =DATA!J4 -> ทรัพยากรณ์มนุษย์
B4: ตำแหน่งงาน | D4: =+DATA!C5 -> เจ้าหน้าที่สรรหาบุคลากร | F4: วัน / เดือน / ปี ที่วิเคราะห์ | G4: =DATA!L5 -> 15/12/2558
C6: =Task!B16 -> การรับสมัคร | G6: =+Task!N16 -> ตรวจสอบความถูกต้องใบสมัครพนักงานใหม่
B8: ที่ | C8: ขั้นตอนการปฏิบัติงาน | D8: เครื่องมือ / วัสดุ / อุปกรณ์ | E8: ความรู้ที่ต้องใช้ | F8: คุณลักษณะ/ทัศนคติ | G8: มาตรฐาน | H8: ความปลอดภัย
D9: ที่ใช้ในการปฏิบัติงาน | E9: ในการปฏิบัติงาน | F9: ที่ต้องใช้ในการปฏิบัติงาน | G9: ในการปฏิบัติงาน | H9: ข้อควรระวัง
B10: 1 | C10: รับใบสมัครงานจากผู้สมัครงาน | D10: ใบสมัครงาน | E10: การบริการที่เป็นเลิส | F10: ยิ้มแย้มแจ่มใส่ เต็มใจบริการ | G10: รับใบสมัครตรงกับผู้สมัครงาน | H10: ระวังใบสมัครไม่ครบ
D11: ตะกร้าจัดเก็บใบสมัครงาน | E11: เทคนิคการสื่อสาร | G11: ถูกต้อง ครบถ้วน
D12: คลิปหนีบกระดาษ
B13: 2 | C13: ตรวจสอบความถูกต้องในการกรอกใบสมัครงาน | D13: ใบสมัครงาน | E13: ทักษะการเขียน อ่านภาษาไทย | F13: ละเอียด รอบคอบ ครบถ้วน | G13: กรอกรายละเอียดใบสมัครงาน | H13: ระวังข้อมูลผิดพลาด
D14: ดินสอดำ 2B | E14: ทักษะการเขียน อ่านภาษาอังกฤษ | F14: ช่างสังเกตุ | G14: ได้ครบถ้วนถูกต้อง
B16: 3 | C16: ตรวจสอบเอกสารประกอบการสมัครงาน | D16: ใบสมัครงาน | E16: ทักษะการเขียน อ่านภาษาไทย | F16: ละเอียด รอบคอบ ครบถ้วน | G16: ตรวจสอบเอกสารดังนี้ | H16: ระวังข้อมูลผิดพลาด
D17: ดินสอ 2B | E17: ทักษะการเขียน อ่านภาษาอังกฤษ | F17: ช่างสังเกตุ | G17: รูปถ่าย 1 นิ้วครึ่ง | H17: ระวังข้อมูลไม่ครบ
D18: รูปถ่าย 1 นิ้วครึ่ง | G18: สำเนาทะเบียนบ้าน | H18: ระวังบัตรประชาชนหมดอายุ
D19: สำเนาทะเบียนบ้าน | G19: สำเนาบัตรประชาชน | H19: ระวังรูปหมดอายุ
D20: สำเนาบัตรประชาชน | G20: สำเนาวุฒิการศึกษา | H20: ระวังใบอนุญาตอายุขับรถหมด
D21: สำเนาวุฒิการศึกษา | G21: สำเนาใบผ่านเกณฑ์ทหาร
D22: สำเนาใบผ่านเกณฑ์ทหาร | G22: สำเนาใบขับขี่
D23: สำเนาใบขับขี่ | G23: สำเนาใบผ่านงาน(ถ้ามี)
D24: สำเนาใบผ่านงาน(ถ้ามี)
B25: 4 | C25: แจ้งการรับสมัครงานพร้อมแจ้งการติดต่อกลับ | D25: โทรศัพท์มือถือ | E25: เทคนิคการสื่อสาร | F25: พูดจาไพเราะอ่อนหวาน | G25: แจ้งข้อมูลการรับสมัครตรง | H25: ระวังแจ้งข้อมมูลไม่ตรงกับผู้สมัคร
C26: ในภายหลัง | E26: ทักษะการใช้โทรสัพท์ | F26: ยิ้มแย้มแจ่มใส่ เต็มใจบริการ | G26: ตามผู้สมัคร | H26: ระวังการใช้คำพูดในการสื่อสาร
A28: ผู้วิเคราะห์ | C28: =DATA!B8 -> นางสาวพานุมาส นิลอุปถัม | D28: =DATA!F8 -> พนักงานทรัพยากรณ์มนุษย์/ผู้เชี่ยวชาญ | G28: ผู้ทบทวน | H28: ผู้อนุมัติ
C29: =DATA!B10 -> นางสาวพิชชาณี พงศ์สุวรรณ | D29: =DATA!F10 -> พนักงานทรัพยากรณ์มนุษย์/ผู้เชี่ยวชาญ
C30: =DATA!B12 -> นายอนันต์ การามหิโต | D30: =DATA!F12 -> Facilitater 1 | G30: =+DATA!B21 -> นางสาวพานุมาส นิลอุปถัม | H30: =+DATA!B23 -> นางสาวพิชชาณี พงศ์สุวรรณ
C31: =DATA!B14 -> นายสืบสาย ตาเดอิน | D31: =DATA!F14 -> Facilitater 2
C32: =DATA!B16 -> นายสมชาย อินทรมงคล | D32: =DATA!F16 -> Recorder 1 | G32: =DATA!F21 -> พนักงานทรัพยากรณ์มนุษย์/ผู้เชี่ยวชาญ | H32: =DATA!F23 -> พนักงานทรัพยากรณ์มนุษย์/ผู้เชี่ยวชาญ
C33: =DATA!B18 -> นายธีรศักดิ์ วิริชัย | D33: =DATA!F18 -> คณะทำงาน

Sheet B4
A1: การวิเคราะห์งาน (Job Analysis : Step)
B3: สถานประกอบการ | D3: บริษัท เวลบิ้วท เมนูเฟคเจอริ่ง (ไทยแลนด์) จำกัด | F3: แผนก | G3: =DATA!J4 -> ทรัพยากรณ์มนุษย์
B4: ตำแหน่งงาน | D4: ช่างประกอบตู้เย็นขนาดใหญ่ (Big Produck Arcodition) | F4: วัน / เดือน / ปี ที่วิเคราะห์ | G4: =DATA!L5 -> 15/12/2558
C6: =Task!B16 -> การรับสมัคร | F6: =Task!R16 -> 0
B8: ที่ | C8: ขั้นตอนการปฏิบัติงาน | D8: เครื่องมือ / วัสดุ / อุปกรณ์ | E8: ความรู้ที่ต้องใช้ | F8: คุณลักษณะ/ทัศนคติ | G8: มาตรฐาน | H8: ความปลอดภัย
D9: ที่ใช้ในการปฏิบัติงาน | E9: ในการปฏิบัติงาน | F9: ที่ต้องใช้ในการปฏิบัติงาน | G9: ในการปฏิบัติงาน | H9: ข้อควรระวัง
B10: 1
B13: 2
B16: 3
B19: 4
B22: 5
B25: 6
B28: 7
A31: ผู้วิเคราะห์ | C31: =DATA!B8 -> นางสาวพานุมาส นิลอุปถัม | D31: =DATA!F8 -> พนักงานทรัพยากรณ์มนุษย์/ผู้เชี่ยวชาญ | G31: ผู้ทบทวน | H31: ผู้อนุมัติ
C32: =DATA!B10 -> นางสาวพิชชาณี พงศ์สุวรรณ | D32: =DATA!F10 -> พนักงานทรัพยากรณ์มนุษย์/ผู้เชี่ยวชาญ
C33: =DATA!B12 -> นายอนันต์ การามหิโต | D33: =DATA!F12 -> Facilitater 1 | G33: =data!#REF! -> #VALUE! | H33: =data!#REF! -> #VALUE!
C34: =DATA!B14 -> นายสืบสาย ตาเดอิน | D34: =DATA!F14 -> Facilitater 2
C35: =DATA!B16 -> นายสมชาย อินทรมงคล | D35: =DATA!F16 -> Recorder 1 | G35: =DATA!F21 -> พนักงานทรัพยากรณ์มนุษย์/ผู้เชี่ยวชาญ | H35: =DATA!F23 -> พนักงานทรัพยากรณ์มนุษย์/ผู้เชี่ยวชาญ
C36: =DATA!B18 -> นายธีรศักดิ์ วิริชัย | D36: =DATA!F18 -> คณะทำงาน

Sheet B5
A1: การวิเคราะห์งาน (Job Analysis : Step)
B3: สถานประกอบการ | D3: บริษัท เวลบิ้วท เมนูเฟคเจอริ่ง (ไทยแลนด์) จำกัด | F3: แผนก | G3: =DATA!J4 -> ทรัพยากรณ์มนุษย์
B4: ตำแหน่งงาน | D4: ช่างประกอบตู้เย็นขนาดใหญ่ (Big Produck Arcodition) | F4: วัน / เดือน / ปี ที่วิเคราะห์ | G4: =DATA!L5 -> 15/12/2558
C6: =Task!B16 -> การรับสมัคร | F6: =Task!F19 -> 0
B8: ที่ | C8: ขั้นตอนการปฏิบัติงาน | D8: เครื่องมือ / วัสดุ / อุปกรณ์ | E8: ความรู้ที่ต้องใช้ | F8: คุณลักษณะ/ทัศนคติ | G8: มาตรฐาน | H8: ความปลอดภัย
D9: ที่ใช้ในการปฏิบัติงาน | E9: ในการปฏิบัติงาน | F9: ที่ต้องใช้ในการปฏิบัติงาน | G9: ในการปฏิบัติงาน | H9: ข้อควรระวัง
B10: 1
B13: 2
B16: 3
B19: 4
B22: 5
B25: 6
B28: 7
A31: ผู้วิเคราะห์ | C31: =DATA!B8 -> นางสาวพานุมาส นิลอุปถัม | D31: =DATA!F8 -> พนักงานทรัพยากรณ์มนุษย์/ผู้เชี่ยวชาญ | G31: ผู้ทบทวน | H31: ผู้อนุมัติ
C32: =DATA!B10 -> นางสาวพิชชาณี พงศ์สุวรรณ | D32: =DATA!F10 -> พนักงานทรัพยากรณ์มนุษย์/ผู้เชี่ยวชาญ
C33: =DATA!B12 -> นายอนันต์ การามหิโต | D33: =DATA!F12 -> Facilitater 1 | G33: =data!#REF! -> #VALUE! | H33: =data!#REF! -> #VALUE!
C34: =DATA!B14 -> นายสืบสาย ตาเดอิน | D34: =DATA!F14 -> Facilitater 2
C35: =DATA!B16 -> นายสมชาย อินทรมงคล | D35: =DATA!F16 -> Recorder 1 | G35: =DATA!F21 -> พนักงานทรัพยากรณ์มนุษย์/ผู้เชี่ยวชาญ | H35: =DATA!F23 -> พนักงานทรัพยากรณ์มนุษย์/ผู้เชี่ยวชาญ
C36: =DATA!B18 -> นายธีรศักดิ์ วิริชัย | D36: =DATA!F18 -> คณะทำงาน

Sheet C1
A1: การวิเคราะห์งาน (Job Analysis : Step)
B3: สถานประกอบการ | D3: บริษัท เวลบิ้วท เมนูเฟคเจอริ่ง (ไทยแลนด์) จำกัด | F3: แผนก | G3: =DATA!J4 -> ทรัพยากรณ์มนุษย์
B4: ตำแหน่งงาน | D4: ช่างประกอบตู้เย็นขนาดใหญ่ (Big Produck Arcodition) | F4: วัน / เดือน / ปี ที่วิเคราะห์ | G4: =DATA!L5 -> 15/12/2558
C6: =Duty!B15 -> การพิจารณาเอกสารใบสมัคร | F6: =Task!F26 -> ส่งมอบใบสมัครให้ ผจก.สาขา/ฝ่าย พิจารณา
B8: ที่ | C8: ขั้นตอนการปฏิบัติงาน | D8: เครื่องมือ / วัสดุ / อุปกรณ์ | E8: ความรู้ที่ต้องใช้ | F8: คุณลักษณะ/ทัศนคติ | G8: มาตรฐาน | H8: ความปลอดภัย
D9: ที่ใช้ในการปฏิบัติงาน | E9: ในการปฏิบัติงาน | F9: ที่ต้องใช้ในการปฏิบัติงาน | G9: ในการปฏิบัติงาน | H9: ข้อควรระวัง
B10: 1 | C10: รวบรวมเอกสารการสมัคร
B13: 2 | C13: โทรศัพท์แจ้งผู้จัดการสาขา/ฝ่าย ก่อนส่ง
C14: เอกสารใบสมัคร
B16: 3 | C16: เดินนำส่งเอกสารไปยังสาขา/ฝ่าย หรือส่ง
C17: cargo ในกรณีต่างสาขา
B19: 4
B22: 5
B25: 6
B28: 7
A31: ผู้วิเคราะห์ | C31: =DATA!B8 -> นางสาวพานุมาส นิลอุปถัม | D31: =DATA!F8 -> พนักงานทรัพยากรณ์มนุษย์/ผู้เชี่ยวชาญ | G31: ผู้ทบทวน | H31: ผู้อนุมัติ
C32: =DATA!B10 -> นางสาวพิชชาณี พงศ์สุวรรณ | D32: =DATA!F10 -> พนักงานทรัพยากรณ์มนุษย์/ผู้เชี่ยวชาญ
C33: =DATA!B12 -> นายอนันต์ การามหิโต | D33: =DATA!F12 -> Facilitater 1 | G33: =data!#REF! -> #VALUE! | H33: =data!#REF! -> #VALUE!
C34: =DATA!B14 -> นายสืบสาย ตาเดอิน | D34: =DATA!F14 -> Facilitater 2
C35: =DATA!B16 -> นายสมชาย อินทรมงคล | D35: =DATA!F16 -> Recorder 1 | G35: =DATA!F21 -> พนักงานทรัพยากรณ์มนุษย์/ผู้เชี่ยวชาญ | H35: =DATA!F23 -> พนักงานทรัพยากรณ์มนุษย์/ผู้เชี่ยวชาญ
C36: =DATA!B18 -> นายธีรศักดิ์ วิริชัย | D36: =DATA!F18 -> คณะทำงาน

Sheet C2
A1: การวิเคราะห์งาน (Job Analysis : Step)
B3: สถานประกอบการ | F3: แผนก
B4: ตำแหน่งงาน | F4: วัน / เดือน / ปี ที่วิเคราะห์
C6: =Duty!B15 -> การพิจารณาเอกสารใบสมัคร | F6: =Task!J26 -> รับแจ้งผลการพิจารณาจาก ผจก.สาขา/ฝ่าย
B8: ที่ | C8: ขั้นตอนการปฏิบัติงาน | D8: เครื่องมือ / วัสดุ / อุปกรณ์ | E8: ความรู้ที่ต้องใช้ | F8: คุณลักษณะ/ทัศนคติ | G8: มาตรฐาน | H8: ความปลอดภัย
D9: ที่ใช้ในการปฏิบัติงาน | E9: ในการปฏิบัติงาน | F9: ที่ต้องใช้ในการปฏิบัติงาน | G9: ในการปฏิบัติงาน | H9: ข้อควรระวัง
B10: 1 | C10: รับเอกสารจากผู้จัดการสาขา/ฝ่าย หรือจาก
C11: cargo กรณีต่างสาขา
B13: 2 | C13: สอบถามผู้จัดการสาขา/ฝ่าย ทางโทรศัพท์ เพื่อ
C14: นัดวัน เวลา ในการสัมภาษณ์งาน
B16: 3 | C16: แจ้งวัน เวลา และสถานที่ การนัดสัมภาษณ์งาน
C17: กับผู้สมัคร
B19: 4
B22: 5
B25: 6
B28: 7
A31: ผู้วิเคราะห์ | C31: =DATA!B8 -> นางสาวพานุมาส นิลอุปถัม | D31: =DATA!F8 -> พนักงานทรัพยากรณ์มนุษย์/ผู้เชี่ยวชาญ | G31: ผู้ทบทวน | H31: ผู้อนุมัติ
C32: =DATA!B10 -> นางสาวพิชชาณี พงศ์สุวรรณ | D32: =DATA!F10 -> พนักงานทรัพยากรณ์มนุษย์/ผู้เชี่ยวชาญ
C33: =DATA!B12 -> นายอนันต์ การามหิโต | D33: =DATA!F12 -> Facilitater 1 | G33: =data!#REF! -> #VALUE! | H33: =data!#REF! -> #VALUE!
C34: =DATA!B14 -> นายสืบสาย ตาเดอิน | D34: =DATA!F14 -> Facilitater 2
C35: =DATA!B16 -> นายสมชาย อินทรมงคล | D35: =DATA!F16 -> Recorder 1 | G35: =DATA!F21 -> พนักงานทรัพยากรณ์มนุษย์/ผู้เชี่ยวชาญ | H35: =DATA!F23 -> พนักงานทรัพยากรณ์มนุษย์/ผู้เชี่ยวชาญ
C36: =DATA!B18 -> นายธีรศักดิ์ วิริชัย | D36: =DATA!F18 -> คณะทำงาน

Sheet C3
A1: การวิเคราะห์งาน (Job Analysis : Step)
B3: สถานประกอบการ | F3: แผนก
B4: ตำแหน่งงาน | F4: วัน / เดือน / ปี ที่วิเคราะห์
C6: =Duty!B15 -> การพิจารณาเอกสารใบสมัคร | F6: =Task!N26 -> 0
B8: ที่ | C8: ขั้นตอนการปฏิบัติงาน | D8: เครื่องมือ / วัสดุ / อุปกรณ์ | E8: ความรู้ที่ต้องใช้ | F8: คุณลักษณะ/ทัศนคติ | G8: มาตรฐาน | H8: ความปลอดภัย
D9: ที่ใช้ในการปฏิบัติงาน | E9: ในการปฏิบัติงาน | F9: ที่ต้องใช้ในการปฏิบัติงาน | G9: ในการปฏิบัติงาน | H9: ข้อควรระวัง
B10: 1
B13: 2
B16: 3
B19: 4
B22: 5
B25: 6
B28: 7
A31: ผู้วิเคราะห์ | C31: =DATA!B8 -> นางสาวพานุมาส นิลอุปถัม | D31: =DATA!F8 -> พนักงานทรัพยากรณ์มนุษย์/ผู้เชี่ยวชาญ | G31: ผู้ทบทวน | H31: ผู้อนุมัติ
C32: =DATA!B10 -> นางสาวพิชชาณี พงศ์สุวรรณ | D32: =DATA!F10 -> พนักงานทรัพยากรณ์มนุษย์/ผู้เชี่ยวชาญ
C33: =DATA!B12 -> นายอนันต์ การามหิโต | D33: =DATA!F12 -> Facilitater 1 | G33: =data!#REF! -> #VALUE! | H33: =data!#REF! -> #VALUE!
C34: =DATA!B14 -> นายสืบสาย ตาเดอิน | D34: =DATA!F14 -> Facilitater 2
C35: =DATA!B16 -> นายสมชาย อินทรมงคล | D35: =DATA!F16 -> Recorder 1 | G35: =DATA!F21 -> พนักงานทรัพยากรณ์มนุษย์/ผู้เชี่ยวชาญ | H35: =DATA!F23 -> พนักงานทรัพยากรณ์มนุษย์/ผู้เชี่ยวชาญ
C36: =DATA!B18 -> นายธีรศักดิ์ วิริชัย | D36: =DATA!F18 -> คณะทำงาน

Sheet C4
A1: การวิเคราะห์งาน (Job Analysis : Step)
B3: สถานประกอบการ | F3: แผนก
B4: ตำแหน่งงาน | F4: วัน / เดือน / ปี ที่วิเคราะห์
C6: =Duty!B15 -> การพิจารณาเอกสารใบสมัคร | F6: =Task!R26 -> 0
B8: ที่ | C8: ขั้นตอนการปฏิบัติงาน | D8: เครื่องมือ / วัสดุ / อุปกรณ์ | E8: ความรู้ที่ต้องใช้ | F8: คุณลักษณะ/ทัศนคติ | G8: มาตรฐาน | H8: ความปลอดภัย
D9: ที่ใช้ในการปฏิบัติงาน | E9: ในการปฏิบัติงาน | F9: ที่ต้องใช้ในการปฏิบัติงาน | G9: ในการปฏิบัติงาน | H9: ข้อควรระวัง
B10: 1
B13: 2
B16: 3
B19: 4
B22: 5
B25: 6
B28: 7
A31: ผู้วิเคราะห์ | C31: =DATA!B8 -> นางสาวพานุมาส นิลอุปถัม | D31: =DATA!F8 -> พนักงานทรัพยากรณ์มนุษย์/ผู้เชี่ยวชาญ | G31: ผู้ทบทวน | H31: ผู้อนุมัติ
C32: =DATA!B10 -> นางสาวพิชชาณี พงศ์สุวรรณ | D32: =DATA!F10 -> พนักงานทรัพยากรณ์มนุษย์/ผู้เชี่ยวชาญ
C33: =DATA!B12 -> นายอนันต์ การามหิโต | D33: =DATA!F12 -> Facilitater 1 | G33: =data!#REF! -> #VALUE! | H33: =data!#REF! -> #VALUE!
C34: =DATA!B14 -> นายสืบสาย ตาเดอิน | D34: =DATA!F14 -> Facilitater 2
C35: =DATA!B16 -> นายสมชาย อินทรมงคล | D35: =DATA!F16 -> Recorder 1 | G35: =DATA!F21 -> พนักงานทรัพยากรณ์มนุษย์/ผู้เชี่ยวชาญ | H35: =DATA!F23 -> พนักงานทรัพยากรณ์มนุษย์/ผู้เชี่ยวชาญ
C36: =DATA!B18 -> นายธีรศักดิ์ วิริชัย | D36: =DATA!F18 -> คณะทำงาน

Sheet C5
A1: การวิเคราะห์งาน (Job Analysis : Step)
B3: สถานประกอบการ | F3: แผนก
B4: ตำแหน่งงาน | F4: วัน / เดือน / ปี ที่วิเคราะห์
C6: =Duty!B15 -> การพิจารณาเอกสารใบสมัคร | F6: =Task!F29 -> 0
B8: ที่ | C8: ขั้นตอนการปฏิบัติงาน | D8: เครื่องมือ / วัสดุ / อุปกรณ์ | E8: ความรู้ที่ต้องใช้ | F8: คุณลักษณะ/ทัศนคติ | G8: มาตรฐาน | H8: ความปลอดภัย
D9: ที่ใช้ในการปฏิบัติงาน | E9: ในการปฏิบัติงาน | F9: ที่ต้องใช้ในการปฏิบัติงาน | G9: ในการปฏิบัติงาน | H9: ข้อควรระวัง
B10: 1
B13: 2
B16: 3
B19: 4
B22: 5
B25: 6
B28: 7
A31: ผู้วิเคราะห์ | C31: =DATA!B8 -> นางสาวพานุมาส นิลอุปถัม | D31: =DATA!F8 -> พนักงานทรัพยากรณ์มนุษย์/ผู้เชี่ยวชาญ | G31: ผู้ทบทวน | H31: ผู้อนุมัติ
C32: =DATA!B10 -> นางสาวพิชชาณี พงศ์สุวรรณ | D32: =DATA!F10 -> พนักงานทรัพยากรณ์มนุษย์/ผู้เชี่ยวชาญ
C33: =DATA!B12 -> นายอนันต์ การามหิโต | D33: =DATA!F12 -> Facilitater 1 | G33: =data!#REF! -> #VALUE! | H33: =data!#REF! -> #VALUE!
C34: =DATA!B14 -> นายสืบสาย ตาเดอิน | D34: =DATA!F14 -> Facilitater 2
C35: =DATA!B16 -> นายสมชาย อินทรมงคล | D35: =DATA!F16 -> Recorder 1 | G35: =DATA!F21 -> พนักงานทรัพยากรณ์มนุษย์/ผู้เชี่ยวชาญ | H35: =DATA!F23 -> พนักงานทรัพยากรณ์มนุษย์/ผู้เชี่ยวชาญ
C36: =DATA!B18 -> นายธีรศักดิ์ วิริชัย | D36: =DATA!F18 -> คณะทำงาน

Sheet D1
A1: การวิเคราะห์งาน (Job Analysis : Step)
B3: สถานประกอบการ | D3: =+DATA!C4 -> บริษัท เรือเร็วลมพระยา จำกัด | F3: แผนก | G3: =+DATA!J4 -> ทรัพยากรณ์มนุษย์
B4: ตำแหน่งงาน | D4: =+DATA!C5 -> เจ้าหน้าที่สรรหาบุคลากร | F4: วัน / เดือน / ปี ที่วิเคราะห์
C6: =Duty!B18 -> การสัมภาษณ์ | G6: =+Task!F35 -> ทดสอบความรู้ความสามารถของผู้สมัคร
B8: ที่ | C8: ขั้นตอนการปฏิบัติงาน | D8: เครื่องมือ / วัสดุ / อุปกรณ์ | E8: ความรู้ที่ต้องใช้ | F8: คุณลักษณะ/ทัศนคติ | G8: มาตรฐาน | H8: ความปลอดภัย
D9: ที่ใช้ในการปฏิบัติงาน | E9: ในการปฏิบัติงาน | F9: ที่ต้องใช้ในการปฏิบัติงาน | G9: ในการปฏิบัติงาน | H9: ข้อควรระวัง
B10: 1 | C10: เตรียมแบบทดสอบความรู้ความสามารถ (IQ) | D10: แฟ้มแบบทดสอบ | E10: การจัดเก็บเอกสารสำนักงาน | F10: ความเป็นระเบียบเรียบร้อย | G10: เตรียมได้ครบถ้วน ถูกต้อง | H10: ระวังแบบทดสอบไม่ครบ
C11: และแบบทดสอบความรู้เฉพาะตำแหน่ง | D11: แบบทดสอบความรู้ความสามารถ (IQ) | F11: ความถูกต้อง ครบถ้วน | G11: ตามจำนวนผู้สมัคร | H11: ระวังแบบทดสอบไม่ตรง
D12: แบบทดสอบความรู้เฉพาะตำแหน่ง | H12: ตามตำแหน่งงานสมัคร
B13: 2 | C13: ยื่นแบบทดสอบให้ผู้สมัคร พร้อม | D13: แบบทดสอบความรู้ความสามารถ (IQ) | E13: ทักษะการสื่อสาร | F13: พูดจาไพเราะ | G13: ยื่นแบบทดสอบให้ตรงกับ | H13: ระวังแบบทดสอบไม่ครบ
C14: อธิบายแบบทดสอบ | D14: แบบทดสอบความรู้เฉพาะตำแหน่ง | F14: มีมนุษยสัมพันธ์ดี | G14: ตำแหน่งงานที่สมัคร | H14: ระวังแบบทดสอบเฉพาะ
D15: ปากกาน้ำเงิน | F15: ซื่อสัตย์ต่อหน้าที่ | H15: ตำแหน่งไม่ตรงกับผู้สมัคร
D16: น้ำยาลบความผิด | F16: พูดจาชัดเจน ตรงประเด็น
D17: เครื่องคิดเลข
B18: 3 | C18: เก็บแบบทดสอบ ตรวจข้อสอบ IQ และรวบรวม | D18: แบบทดสอบความรู้ความสามารถ (IQ) | E18: ทักษะการคำนวณเลข | F18: มีความละเอียดรอบคอบ | G18: เก็บแบบทดสอบได้ครบถ้วน | H18: ระวังเก็บแบบทดสอบไม่ครบ
C19: คะแนน | D19: แบบทดสอบความรู้เฉพาะตำแหน่ง | F19: ช่างสังเกตุ | G19: ถูกต้อง | H19: ระวังตรวจคะแนนผิดพลาด
D20: เครื่องคิดเลข | F20: ซื่อสัตย์ต่อหน้าที่ | G20: ตรวจแบบทดสอบ IQ ได้ถูกต้อง | H20: ระวังการรวบรวมคะแนน
D21: ปากกาแดง | G21: รวมคะแนนได้ถูกต้อง | H21: ผิดพลาด
D22: แบบเฉลยข้อสอบ IQ
A27: ผู้วิเคราะห์ | C27: =DATA!B8 -> นางสาวพานุมาส นิลอุปถัม | D27: =DATA!F8 -> พนักงานทรัพยากรณ์มนุษย์/ผู้เชี่ยวชาญ | G27: ผู้ทบทวน | H27: ผู้อนุมัติ
C28: =DATA!B10 -> นางสาวพิชชาณี พงศ์สุวรรณ | D28: =DATA!F10 -> พนักงานทรัพยากรณ์มนุษย์/ผู้เชี่ยวชาญ
C29: =DATA!B12 -> นายอนันต์ การามหิโต | D29: =DATA!F12 -> Facilitater 1 | G29: =+DATA!B21 -> นางสาวพานุมาส นิลอุปถัม | H29: =+DATA!B23 -> นางสาวพิชชาณี พงศ์สุวรรณ
C30: =DATA!B14 -> นายสืบสาย ตาเดอิน | D30: =DATA!F14 -> Facilitater 2
C31: =DATA!B16 -> นายสมชาย อินทรมงคล | D31: =DATA!F16 -> Recorder 1 | G31: =DATA!F21 -> พนักงานทรัพยากรณ์มนุษย์/ผู้เชี่ยวชาญ | H31: =DATA!F23 -> พนักงานทรัพยากรณ์มนุษย์/ผู้เชี่ยวชาญ
C32: =DATA!B18 -> นายธีรศักดิ์ วิริชัย | D32: =DATA!F18 -> คณะทำงาน

Sheet D2
A1: การวิเคราะห์งาน (Job Analysis : Step)
B3: สถานประกอบการ | F3: แผนก
B4: ตำแหน่งงาน | F4: วัน / เดือน / ปี ที่วิเคราะห์
C6: =Duty!B18 -> การสัมภาษณ์ | F6: =Task!J35 -> ส่งมอบเอกสารประกอบการสัมภาษณ์
F7: =Duty!B18 -> การสัมภาษณ์
B8: ที่ | C8: ขั้นตอนการปฏิบัติงาน | D8: เครื่องมือ / วัสดุ / อุปกรณ์ | E8: ความรู้ที่ต้องใช้ | F8: คุณลักษณะ/ทัศนคติ | G8: มาตรฐาน | H8: ความปลอดภัย
D9: ที่ใช้ในการปฏิบัติงาน | E9: ในการปฏิบัติงาน | F9: ที่ต้องใช้ในการปฏิบัติงาน | G9: ในการปฏิบัติงาน | H9: ข้อควรระวัง
B10: 1 | C10: หยิบเอกสารแบบฟอร์มการสัมภาษณ์
B13: 2 | C13: รวบรวมแบบทดสอบความรู้ความสามารถ (IQ)
C14: พร้อมผลคะแนน, แบบทดสอบความรู้เฉพาะ
C15: ตำแหน่งงาน, ใบสมัคร และหลักฐานประกอบ
C16: พร้อมแบบฟอร์มการสัมภาษณ์
B17: 3 | C17: แจ้งผู้จัดการสาขา/ฝ่าย เพื่อจะนำผู้สมัครไป
C18: รับการสัมภาษณ์
B20: 4 | C20: นำส่งผู้สมัคร พร้อมเอกสารประกอบทั้งหมด
C21: ให้แก่ผู้จัดการสาขา/ฝ่าย
B23: 5
B26: 6
B29: 7
A32: ผู้วิเคราะห์ | C32: =DATA!B8 -> นางสาวพานุมาส นิลอุปถัม | D32: =DATA!F8 -> พนักงานทรัพยากรณ์มนุษย์/ผู้เชี่ยวชาญ | G32: ผู้ทบทวน | H32: ผู้อนุมัติ
C33: =DATA!B10 -> นางสาวพิชชาณี พงศ์สุวรรณ | D33: =DATA!F10 -> พนักงานทรัพยากรณ์มนุษย์/ผู้เชี่ยวชาญ
C34: =DATA!B12 -> นายอนันต์ การามหิโต | D34: =DATA!F12 -> Facilitater 1 | G34: =data!#REF! -> #VALUE! | H34: =data!#REF! -> #VALUE!
C35: =DATA!B14 -> นายสืบสาย ตาเดอิน | D35: =DATA!F14 -> Facilitater 2
C36: =DATA!B16 -> นายสมชาย อินทรมงคล | D36: =DATA!F16 -> Recorder 1 | G36: =DATA!F21 -> พนักงานทรัพยากรณ์มนุษย์/ผู้เชี่ยวชาญ | H36: =DATA!F23 -> พนักงานทรัพยากรณ์มนุษย์/ผู้เชี่ยวชาญ
C37: =DATA!B18 -> นายธีรศักดิ์ วิริชัย | D37: =DATA!F18 -> คณะทำงาน

Sheet D3
A1: การวิเคราะห์งาน (Job Analysis : Step)
B3: สถานประกอบการ | F3: แผนก
B4: ตำแหน่งงาน | F4: วัน / เดือน / ปี ที่วิเคราะห์
C6: =Duty!B18 -> การสัมภาษณ์ | F6: =Task!N35 -> รับเอกสารพร้อมผลการสัมภาษณ์
B8: ที่ | C8: ขั้นตอนการปฏิบัติงาน | D8: เครื่องมือ / วัสดุ / อุปกรณ์ | E8: ความรู้ที่ต้องใช้ | F8: คุณลักษณะ/ทัศนคติ | G8: มาตรฐาน | H8: ความปลอดภัย
D9: ที่ใช้ในการปฏิบัติงาน | E9: ในการปฏิบัติงาน | F9: ที่ต้องใช้ในการปฏิบัติงาน | G9: ในการปฏิบัติงาน | H9: ข้อควรระวัง
B10: 1 | C10: รับแจ้งผลการสัมภาษณ์จากผู้จัดการสาขา/ฝ่าย
C11: ทางโทรศัพท์ เรื่องการสิ้นสุดการสัมภาษณ์
B13: 2 | C13: เดินไปรับเอกสาร และผลการสัมภาษณ์
B16: 3 | C16: แจ้งผู้สมัคร ว่าจะติดต่อเรื่องผลการสัมภาษณ์
C17: กลับไปในภายหลัง
B19: 4
B22: 5
B25: 6
B28: 7
A31: ผู้วิเคราะห์ | C31: =DATA!B8 -> นางสาวพานุมาส นิลอุปถัม | D31: =DATA!F8 -> พนักงานทรัพยากรณ์มนุษย์/ผู้เชี่ยวชาญ | G31: ผู้ทบทวน | H31: ผู้อนุมัติ
C32: =DATA!B10 -> นางสาวพิชชาณี พงศ์สุวรรณ | D32: =DATA!F10 -> พนักงานทรัพยากรณ์มนุษย์/ผู้เชี่ยวชาญ
C33: =DATA!B12 -> นายอนันต์ การามหิโต | D33: =DATA!F12 -> Facilitater 1 | G33: =data!#REF! -> #VALUE! | H33: =data!#REF! -> #VALUE!
C34: =DATA!B14 -> นายสืบสาย ตาเดอิน | D34: =DATA!F14 -> Facilitater 2
C35: =DATA!B16 -> นายสมชาย อินทรมงคล | D35: =DATA!F16 -> Recorder 1 | G35: =DATA!F21 -> พนักงานทรัพยากรณ์มนุษย์/ผู้เชี่ยวชาญ | H35: =DATA!F23 -> พนักงานทรัพยากรณ์มนุษย์/ผู้เชี่ยวชาญ
C36: =DATA!B18 -> นายธีรศักดิ์ วิริชัย | D36: =DATA!F18 -> คณะทำงาน

Sheet D4
A1: การวิเคราะห์งาน (Job Analysis : Step)
B3: สถานประกอบการ | F3: แผนก
B4: ตำแหน่งงาน | F4: วัน / เดือน / ปี ที่วิเคราะห์
C6: =Duty!B18 -> การสัมภาษณ์ | F6: =Task!R35 -> 0
B8: ที่ | C8: ขั้นตอนการปฏิบัติงาน | D8: เครื่องมือ / วัสดุ / อุปกรณ์ | E8: ความรู้ที่ต้องใช้ | F8: คุณลักษณะ/ทัศนคติ | G8: มาตรฐาน | H8: ความปลอดภัย
D9: ที่ใช้ในการปฏิบัติงาน | E9: ในการปฏิบัติงาน | F9: ที่ต้องใช้ในการปฏิบัติงาน | G9: ในการปฏิบัติงาน | H9: ข้อควรระวัง
B10: 1
B13: 2
B16: 3
B19: 4
B22: 5
B25: 6
B28: 7
A31: ผู้วิเคราะห์ | C31: =DATA!B8 -> นางสาวพานุมาส นิลอุปถัม | D31: =DATA!F8 -> พนักงานทรัพยากรณ์มนุษย์/ผู้เชี่ยวชาญ | G31: ผู้ทบทวน | H31: ผู้อนุมัติ
C32: =DATA!B10 -> นางสาวพิชชาณี พงศ์สุวรรณ | D32: =DATA!F10 -> พนักงานทรัพยากรณ์มนุษย์/ผู้เชี่ยวชาญ
C33: =DATA!B12 -> นายอนันต์ การามหิโต | D33: =DATA!F12 -> Facilitater 1 | G33: =data!#REF! -> #VALUE! | H33: =data!#REF! -> #VALUE!
C34: =DATA!B14 -> นายสืบสาย ตาเดอิน | D34: =DATA!F14 -> Facilitater 2
C35: =DATA!B16 -> นายสมชาย อินทรมงคล | D35: =DATA!F16 -> Recorder 1 | G35: =DATA!F21 -> พนักงานทรัพยากรณ์มนุษย์/ผู้เชี่ยวชาญ | H35: =DATA!F23 -> พนักงานทรัพยากรณ์มนุษย์/ผู้เชี่ยวชาญ
C36: =DATA!B18 -> นายธีรศักดิ์ วิริชัย | D36: =DATA!F18 -> คณะทำงาน

Sheet D5
A1: การวิเคราะห์งาน (Job Analysis : Step)
B3: สถานประกอบการ | F3: แผนก
B4: ตำแหน่งงาน | F4: วัน / เดือน / ปี ที่วิเคราะห์
C6: =Duty!B18 -> การสัมภาษณ์ | F6: =Task!F38 -> 0
B8: ที่ | C8: ขั้นตอนการปฏิบัติงาน | D8: เครื่องมือ / วัสดุ / อุปกรณ์ | E8: ความรู้ที่ต้องใช้ | F8: คุณลักษณะ/ทัศนคติ | G8: มาตรฐาน | H8: ความปลอดภัย
D9: ที่ใช้ในการปฏิบัติงาน | E9: ในการปฏิบัติงาน | F9: ที่ต้องใช้ในการปฏิบัติงาน | G9: ในการปฏิบัติงาน | H9: ข้อควรระวัง
B10: 1
B13: 2
B16: 3
B19: 4
B22: 5
B25: 6
B28: 7
A31: ผู้วิเคราะห์ | C31: =DATA!B8 -> นางสาวพานุมาส นิลอุปถัม | D31: =DATA!F8 -> พนักงานทรัพยากรณ์มนุษย์/ผู้เชี่ยวชาญ | G31: ผู้ทบทวน | H31: ผู้อนุมัติ
C32: =DATA!B10 -> นางสาวพิชชาณี พงศ์สุวรรณ | D32: =DATA!F10 -> พนักงานทรัพยากรณ์มนุษย์/ผู้เชี่ยวชาญ
C33: =DATA!B12 -> นายอนันต์ การามหิโต | D33: =DATA!F12 -> Facilitater 1 | G33: =data!#REF! -> #VALUE! | H33: =data!#REF! -> #VALUE!
C34: =DATA!B14 -> นายสืบสาย ตาเดอิน | D34: =DATA!F14 -> Facilitater 2
C35: =DATA!B16 -> นายสมชาย อินทรมงคล | D35: =DATA!F16 -> Recorder 1 | G35: =DATA!F21 -> พนักงานทรัพยากรณ์มนุษย์/ผู้เชี่ยวชาญ | H35: =DATA!F23 -> พนักงานทรัพยากรณ์มนุษย์/ผู้เชี่ยวชาญ
C36: =DATA!B18 -> นายธีรศักดิ์ วิริชัย | D36: =DATA!F18 -> คณะทำงาน

Sheet E1
A1: การวิเคราะห์งาน (Job Analysis : Step)
B3: สถานประกอบการ | F3: แผนก
B4: ตำแหน่งงาน | F4: วัน / เดือน / ปี ที่วิเคราะห์
C6: =Duty!I9 -> การเสนอผู้บริหารอนุมัติ | F6: =Task!F44 -> รวบรวมเอกสารใบสมัครและเสนอผู้บริหารอนุมัติ
B8: ที่ | C8: ขั้นตอนการปฏิบัติงาน | D8: เครื่องมือ / วัสดุ / อุปกรณ์ | E8: ความรู้ที่ต้องใช้ | F8: คุณลักษณะ/ทัศนคติ | G8: มาตรฐาน | H8: ความปลอดภัย
D9: ที่ใช้ในการปฏิบัติงาน | E9: ในการปฏิบัติงาน | F9: ที่ต้องใช้ในการปฏิบัติงาน | G9: ในการปฏิบัติงาน | H9: ข้อควรระวัง
B10: 1 | C10: ตรวจสอบความถูกต้องของเอกสารประกอบ
C11: การสัมภาษณ์อีกครั้ง
B13: 2 | C13: ใส่แฟ้มเอกสารเสนอผู้บริหารลงนาม
B16: 3 | C16: ใสซอง cargo พร้อมเขียนรายละเอียดการจัดส่ง
B19: 4 | C19: นำส่ง cargo ไปยัง บริษัท เรือเร็วลมพระยา
C20: สาขากรุงเทพมหานคร เพื่อเสนอผู้บริหาร
C21: พิจารณาอนุมัติ
B22: 5
B25: 6
B28: 7
A31: ผู้วิเคราะห์ | C31: =DATA!B8 -> นางสาวพานุมาส นิลอุปถัม | D31: =DATA!F8 -> พนักงานทรัพยากรณ์มนุษย์/ผู้เชี่ยวชาญ | G31: ผู้ทบทวน | H31: ผู้อนุมัติ
C32: =DATA!B10 -> นางสาวพิชชาณี พงศ์สุวรรณ | D32: =DATA!F10 -> พนักงานทรัพยากรณ์มนุษย์/ผู้เชี่ยวชาญ
C33: =DATA!B12 -> นายอนันต์ การามหิโต | D33: =DATA!F12 -> Facilitater 1 | G33: =data!#REF! -> #VALUE! | H33: =data!#REF! -> #VALUE!
C34: =DATA!B14 -> นายสืบสาย ตาเดอิน | D34: =DATA!F14 -> Facilitater 2
C35: =DATA!B16 -> นายสมชาย อินทรมงคล | D35: =DATA!F16 -> Recorder 1 | G35: =DATA!F21 -> พนักงานทรัพยากรณ์มนุษย์/ผู้เชี่ยวชาญ | H35: =DATA!F23 -> พนักงานทรัพยากรณ์มนุษย์/ผู้เชี่ยวชาญ
C36: =DATA!B18 -> นายธีรศักดิ์ วิริชัย | D36: =DATA!F18 -> คณะทำงาน

Sheet E2
A1: การวิเคราะห์งาน (Job Analysis : Step)
B3: สถานประกอบการ | F3: แผนก
B4: ตำแหน่งงาน | F4: วัน / เดือน / ปี ที่วิเคราะห์
C6: =Duty!I9 -> การเสนอผู้บริหารอนุมัติ | F6: =Task!J44 -> รับผลการอนุมัติจากผู้บริหาร
B8: ที่ | C8: ขั้นตอนการปฏิบัติงาน | D8: เครื่องมือ / วัสดุ / อุปกรณ์ | E8: ความรู้ที่ต้องใช้ | F8: คุณลักษณะ/ทัศนคติ | G8: มาตรฐาน | H8: ความปลอดภัย
D9: ที่ใช้ในการปฏิบัติงาน | E9: ในการปฏิบัติงาน | F9: ที่ต้องใช้ในการปฏิบัติงาน | G9: ในการปฏิบัติงาน | H9: ข้อควรระวัง
B10: 1 | C10: รับเอกสารผลการอนุมัติจาก cargo
B13: 2 | C13: ตรวจสอบผลการอนุมัติจากผู้บริหาร
B16: 3
B19: 4
B22: 5
B25: 6
B28: 7
A31: ผู้วิเคราะห์ | C31: =DATA!B8 -> นางสาวพานุมาส นิลอุปถัม | D31: =DATA!F8 -> พนักงานทรัพยากรณ์มนุษย์/ผู้เชี่ยวชาญ | G31: ผู้ทบทวน | H31: ผู้อนุมัติ
C32: =DATA!B10 -> นางสาวพิชชาณี พงศ์สุวรรณ | D32: =DATA!F10 -> พนักงานทรัพยากรณ์มนุษย์/ผู้เชี่ยวชาญ
C33: =DATA!B12 -> นายอนันต์ การามหิโต | D33: =DATA!F12 -> Facilitater 1 | G33: =data!#REF! -> #VALUE! | H33: =data!#REF! -> #VALUE!
C34: =DATA!B14 -> นายสืบสาย ตาเดอิน | D34: =DATA!F14 -> Facilitater 2
C35: =DATA!B16 -> นายสมชาย อินทรมงคล | D35: =DATA!F16 -> Recorder 1 | G35: =DATA!F21 -> พนักงานทรัพยากรณ์มนุษย์/ผู้เชี่ยวชาญ | H35: =DATA!F23 -> พนักงานทรัพยากรณ์มนุษย์/ผู้เชี่ยวชาญ
C36: =DATA!B18 -> นายธีรศักดิ์ วิริชัย | D36: =DATA!F18 -> คณะทำงาน

Sheet E3
A1: การวิเคราะห์งาน (Job Analysis : Step)
B3: สถานประกอบการ | F3: แผนก
B4: ตำแหน่งงาน | F4: วัน / เดือน / ปี ที่วิเคราะห์
C6: =Duty!I9 -> การเสนอผู้บริหารอนุมัติ | F6: =Task!N44 -> แจ้งผลการสัมภาษณ์แก่ผู้สมัคร
B8: ที่ | C8: ขั้นตอนการปฏิบัติงาน | D8: เครื่องมือ / วัสดุ / อุปกรณ์ | E8: ความรู้ที่ต้องใช้ | F8: คุณลักษณะ/ทัศนคติ | G8: มาตรฐาน | H8: ความปลอดภัย
D9: ที่ใช้ในการปฏิบัติงาน | E9: ในการปฏิบัติงาน | F9: ที่ต้องใช้ในการปฏิบัติงาน | G9: ในการปฏิบัติงาน | H9: ข้อควรระวัง
B10: 1 | C10: ตรวจสอบเบอร์โทรศัพท์ผู้สมัครจากใบสมัคร
B13: 2 | C13: แจ้งผลการสอบสัมภาษณ์ยังผู้สมัครทางโทรศัพท์
B16: 3 | C16: นัดวัน เวลา สถานที่ เริ่มงาน พร้อมทำสัญญา
B19: 4 | C19: แจ้งเอกสารเพิ่มเติม เช่น สำเนาทะเบียนบ้าน
C20: บัตรประชาชน วุฒิการศึกษา ใบรับรองแพทย์
C21: และรูปถ่าย
B22: 5 | C22: แจ้งเรื่องรายละเอียดการแต่งกาย
B25: 6 | C25: เก็บรวบรวมเอกสารผู้สมัครไว้ในแฟ้มพนักงาน
C26: เริ่มงานประจำเดือน
B28: 7
A31: ผู้วิเคราะห์ | C31: =DATA!B8 -> นางสาวพานุมาส นิลอุปถัม | D31: =DATA!F8 -> พนักงานทรัพยากรณ์มนุษย์/ผู้เชี่ยวชาญ | G31: ผู้ทบทวน | H31: ผู้อนุมัติ
C32: =DATA!B10 -> นางสาวพิชชาณี พงศ์สุวรรณ | D32: =DATA!F10 -> พนักงานทรัพยากรณ์มนุษย์/ผู้เชี่ยวชาญ
C33: =DATA!B12 -> นายอนันต์ การามหิโต | D33: =DATA!F12 -> Facilitater 1 | G33: =data!#REF! -> #VALUE! | H33: =data!#REF! -> #VALUE!
C34: =DATA!B14 -> นายสืบสาย ตาเดอิน | D34: =DATA!F14 -> Facilitater 2
C35: =DATA!B16 -> นายสมชาย อินทรมงคล | D35: =DATA!F16 -> Recorder 1 | G35: =DATA!F21 -> พนักงานทรัพยากรณ์มนุษย์/ผู้เชี่ยวชาญ | H35: =DATA!F23 -> พนักงานทรัพยากรณ์มนุษย์/ผู้เชี่ยวชาญ
C36: =DATA!B18 -> นายธีรศักดิ์ วิริชัย | D36: =DATA!F18 -> คณะทำงาน

Sheet E4
A1: การวิเคราะห์งาน (Job Analysis : Step)
B3: สถานประกอบการ | F3: แผนก
B4: ตำแหน่งงาน | F4: วัน / เดือน / ปี ที่วิเคราะห์
C6: =Duty!I9 -> การเสนอผู้บริหารอนุมัติ | F6: =Task!R44 -> 0
B8: ที่ | C8: ขั้นตอนการปฏิบัติงาน | D8: เครื่องมือ / วัสดุ / อุปกรณ์ | E8: ความรู้ที่ต้องใช้ | F8: คุณลักษณะ/ทัศนคติ | G8: มาตรฐาน | H8: ความปลอดภัย
D9: ที่ใช้ในการปฏิบัติงาน | E9: ในการปฏิบัติงาน | F9: ที่ต้องใช้ในการปฏิบัติงาน | G9: ในการปฏิบัติงาน | H9: ข้อควรระวัง
B10: 1
B13: 2
B16: 3
B19: 4
B22: 5
B25: 6
B28: 7
A31: ผู้วิเคราะห์ | C31: =DATA!B8 -> นางสาวพานุมาส นิลอุปถัม | D31: =DATA!F8 -> พนักงานทรัพยากรณ์มนุษย์/ผู้เชี่ยวชาญ | G31: ผู้ทบทวน | H31: ผู้อนุมัติ
C32: =DATA!B10 -> นางสาวพิชชาณี พงศ์สุวรรณ | D32: =DATA!F10 -> พนักงานทรัพยากรณ์มนุษย์/ผู้เชี่ยวชาญ
C33: =DATA!B12 -> นายอนันต์ การามหิโต | D33: =DATA!F12 -> Facilitater 1 | G33: =data!#REF! -> #VALUE! | H33: =data!#REF! -> #VALUE!
C34: =DATA!B14 -> นายสืบสาย ตาเดอิน | D34: =DATA!F14 -> Facilitater 2
C35: =DATA!B16 -> นายสมชาย อินทรมงคล | D35: =DATA!F16 -> Recorder 1 | G35: =DATA!F21 -> พนักงานทรัพยากรณ์มนุษย์/ผู้เชี่ยวชาญ | H35: =DATA!F23 -> พนักงานทรัพยากรณ์มนุษย์/ผู้เชี่ยวชาญ
C36: =DATA!B18 -> นายธีรศักดิ์ วิริชัย | D36: =DATA!F18 -> คณะทำงาน

Sheet E5
A1: การวิเคราะห์งาน (Job Analysis : Step)
B3: สถานประกอบการ | F3: แผนก
B4: ตำแหน่งงาน | F4: วัน / เดือน / ปี ที่วิเคราะห์
C6: =Duty!I9 -> การเสนอผู้บริหารอนุมัติ | F6: =Task!F47 -> 0
B8: ที่ | C8: ขั้นตอนการปฏิบัติงาน | D8: เครื่องมือ / วัสดุ / อุปกรณ์ | E8: ความรู้ที่ต้องใช้ | F8: คุณลักษณะ/ทัศนคติ | G8: มาตรฐาน | H8: ความปลอดภัย
D9: ที่ใช้ในการปฏิบัติงาน | E9: ในการปฏิบัติงาน | F9: ที่ต้องใช้ในการปฏิบัติงาน | G9: ในการปฏิบัติงาน | H9: ข้อควรระวัง
B10: 1
B13: 2
B16: 3
B19: 4
B22: 5
B25: 6
B28: 7
A31: ผู้วิเคราะห์ | C31: =DATA!B8 -> นางสาวพานุมาส นิลอุปถัม | D31: =DATA!F8 -> พนักงานทรัพยากรณ์มนุษย์/ผู้เชี่ยวชาญ | G31: ผู้ทบทวน | H31: ผู้อนุมัติ
C32: =DATA!B10 -> นางสาวพิชชาณี พงศ์สุวรรณ | D32: =DATA!F10 -> พนักงานทรัพยากรณ์มนุษย์/ผู้เชี่ยวชาญ
C33: =DATA!B12 -> นายอนันต์ การามหิโต | D33: =DATA!F12 -> Facilitater 1 | G33: =data!#REF! -> #VALUE! | H33: =data!#REF! -> #VALUE!
C34: =DATA!B14 -> นายสืบสาย ตาเดอิน | D34: =DATA!F14 -> Facilitater 2
C35: =DATA!B16 -> นายสมชาย อินทรมงคล | D35: =DATA!F16 -> Recorder 1 | G35: =DATA!F21 -> พนักงานทรัพยากรณ์มนุษย์/ผู้เชี่ยวชาญ | H35: =DATA!F23 -> พนักงานทรัพยากรณ์มนุษย์/ผู้เชี่ยวชาญ
C36: =DATA!B18 -> นายธีรศักดิ์ วิริชัย | D36: =DATA!F18 -> คณะทำงาน

Sheet F1
