Workbook
Name analyst1: Datainfo!$B$6
Name analyst10: Datainfo!$B$15
Name analyst2: Datainfo!$B$7
Name analyst3: Datainfo!$B$8
Name analyst4: Datainfo!$B$9
Name analyst5: Datainfo!$B$10
Name analyst6: Datainfo!$B$11
Name analyst7: Datainfo!$B$12
Name analyst8: Datainfo!$B$13
Name analyst9: Datainfo!$B$14
Name approvers: Datainfo!$B$17
Name company_name: Datainfo!$B$5
Name date_analy: Datainfo!$B$18
Name department: Datainfo!$B$4
Name duty_A: Duty!$B$10
Name duty_B: Duty!$B$13
Name duty_C: Duty!$B$16
Name duty_D: Duty!$B$19
Name duty_E: Duty!$I$10
Name duty_F: Duty!$I$13
Name position: Datainfo!$B$3
Name review: Datainfo!$B$16
Name taskA1: Task!$F$7
Name taskA10: Task!$J$13
Name taskA11: Task!$N$13
Name taskA12: Task!$R$13
Name taskA2: Task!$J$7
Name taskA3: Task!$N$7
Name taskA4: Task!$R$7
Name taskA5: Task!$F$10
Name taskA6: Task!$J$10
Name taskA7: Task!$N$10
Name taskA8: Task!$R$10
Name taskA9: Task!$F$13
Name taskB1: Task!$F$16
Name taskB2: Task!$J$16
Name taskB3: Task!$N$16
Name taskB4: Task!$R$16
Name taskB5: Task!$F$19
Name taskB6: Task!$J$19
Name taskB7: Task!$N$19
Name taskB8: Task!$R$19
Name taskC1: Task!$F$27
Name taskC2: Task!$J$27
Name taskC3: Task!$N$27
Name taskC4: Task!$R$27
Name taskC5: Task!$F$30
Name taskC6: Task!$J$30
Name taskC7: Task!$N$30
Name taskC8: Task!$R$30
Name taskD1: Task!$F$36
Name taskD10: Task!$J$42
Name taskD11: Task!$N$42
Name taskD12: Task!$R$42
Name taskD2: Task!$J$36
Name taskD3: Task!$N$36
Name taskD4: Task!$R$36
Name taskD5: Task!$F$39
Name taskD6: Task!$J$39
Name taskD7: Task!$N$39

Sheet Datainfo
A2: Data สำหรับการออกแบบและพัฒนาหลักสูตรอิงสมรรถนะ
A3: Position | B3: พนักงานตัด Ba Zai
A4: Department | B4: แผนกประกอบ(Housing sash fabrication)
A5: Company Name | B5: หจก. ทอสเท็มไทย
A6: ผู้วิเคราะห์ 1 | B6: นางสาว นิตยา ชีแพง
A7: ผู้วิเคราะห์ 2 | B7: นายสันทัย หวังกำกลาง
A8: ผู้วิเคราะห์ 3 | B8: นายวุฒิพงศ์ อินทะนาม
A9: ผู้วิเคราะห์ 4 | B9: นายวิทยา นิพลกรัง
A10: ผู้วิเคราะห์ 5 | B10: นายรชต ศรีปัญญา
A11: ผู้วิเคราะห์ 6 | B11: นายโยธิน อาจโนนเปลือย
A12: ผู้วิเคราะห์ 7 | B12: นายชมปพันล์ เกริกชัยฐิณัล
A13: ผู้วิเคราะห์ 8 | B13: นายนพรุจ เพชรเลิศ
A14: ผู้วิเคราะห์ 9
A15: ผู้วิเคราะห์ 10
A16: ผู้ทบทวน
A17: ผู้อนุมัติ
A18: วันเดือนปี ที่วิเคราะห์ | B18: 42149

Sheet Duty
A1: การวิเคราะห์งาน (Job Analysis : Duty)
A2: สถานประกอบการ | C2: =company_name -> หจก. ทอสเท็มไทย | I2: แผนก | J2: =department -> แผนกประกอบ(Housing sash fabrication)
A3: ชื่อตำแหน่งงาน | C3: =position -> พนักงานตัด Ba Zai | I3: วัน / เดือน /ปี ที่วิเคราะห์ | L3: =date_analy -> 42149
A5: คำบรรยายลักษณะงานโดยย่อ :
A6: =position&" หมายถึง ผู้ที่มีความรู้ ทักษะ ใน"&duty_A&" "&duty_B&" "&duty_C&" "&duty_D&" "&duty_E&" "&duty_F&" "&duty_E&" " -> พนักงานตัด Ba Zai หมายถึง ผู้ที่มีความรู้ ทักษะ ในรับคำสั่งผลิตหน้าต่าง (ORDER) ตรวจสอบอุปกรณ์ตาม Chcek Sheet ตัดชิ้นงาน (Bu Zai) ทิ้งเศษชิ้นงาน (Scrap)
A9: หน้าที่ /งานหลัก : (DUTY)
B10: รับคำสั่งผลิตหน้าต่าง (ORDER)
B13: ตรวจสอบอุปกรณ์ตาม Chcek Sheet
B16: ตัดชิ้นงาน (Bu Zai)
B19: ทิ้งเศษชิ้นงาน (Scrap)
A22: ผู้วิเคราะห์ | B22: =IF(analyst1="","",analyst1) -> นางสาว นิตยา ชีแพง | C22: =IF(analyst1="","",analyst1) -> นางสาว นิตยา ชีแพง | D22: =IF(analyst1="","",analyst1) -> นางสาว นิตยา ชีแพง | I22: ผู้ทบทวน | L22: ผู้อนุมัติ
B23: =IF(analyst2="","",analyst2) -> นายสันทัย หวังกำกลาง | C23: =IF(analyst2="","",analyst2) -> นายสันทัย หวังกำกลาง | D23: =IF(analyst2="","",analyst2) -> นายสันทัย หวังกำกลาง | I23: =IF(review="","",review) | J23: =IF(review="","",review) | K23: =IF(review="","",review) | L23: =IF(approvers="","",approvers) | M23: =IF(approvers="","",approvers) | N23: =IF(approvers="","",approvers)
B24: =IF(analyst3="","",analyst3) -> นายวุฒิพงศ์ อินทะนาม | C24: =IF(analyst3="","",analyst3) -> นายวุฒิพงศ์ อินทะนาม | D24: =IF(analyst3="","",analyst3) -> นายวุฒิพงศ์ อินทะนาม
B25: =IF(analyst4="","",analyst4) -> นายวิทยา นิพลกรัง | C25: =IF(analyst4="","",analyst4) -> นายวิทยา นิพลกรัง | D25: =IF(analyst4="","",analyst4) -> นายวิทยา นิพลกรัง | I25: ตำแหน่ง | L25: ตำแหน่ง

Sheet Task
B1: การวิเคราะห์งาน (Job Analysis : Task)
B2: สถานประกอบการ | D2: =company_name -> หจก. ทอสเท็มไทย | K2: แผนก | O2: =department -> แผนกประกอบ(Housing sash fabrication)
B3: ชื่อตำแหน่งงาน | D3: =position -> พนักงานตัด Ba Zai | K3: วัน / เดือน /ปี ที่วิเคราะห์ | O3: =date_analy -> 42149
B5: งานหลัก (DUTY) | F5: งานย่อย (Task)
B7: =duty_A -> รับคำสั่งผลิตหน้าต่าง (ORDER) | F7: ตรวจสอบ chcek sheet | J7: ส่งใบสั่งการผลิด(order) ให้แผนก AL bar
B16: =duty_B -> ตรวจสอบอุปกรณ์ตาม Chcek Sheet | F16: ตรวจสอบความพร้อมเครื่องตัด | J16: ตรวจสอบการทำงานของตู้ดัชต์ | N16: ตรวจสอบตลับเมตร
B27: =duty_C -> ตัดชิ้นงาน (Bu Zai) | F27: ตัด Ba Zai ตาม check sheet | J27: ตรวจสอบสภาพทั่วไป | N27: ส่งมอบงาน Bu Zai
B36: =duty_D -> ทิ้งเศษชิ้นงาน (Scrap) | F36: เก็บของเสียจากการตัด (Cutting) | J36: บันทึกของเสียประจำวัน
B54: =duty_F -> 0
B81: ผู้วิเคราห์ | C81: =IF(analyst1="","",analyst1) -> นางสาว นิตยา ชีแพง | N81: ผู้ทบทวน | R81: ผู้อนุมัติ
C82: =IF(analyst2="","",analyst2) -> นายสันทัย หวังกำกลาง
C83: =IF(analyst3="","",analyst3) -> นายวุฒิพงศ์ อินทะนาม
C84: =IF(analyst4="","",analyst4) -> นายวิทยา นิพลกรัง | N84: ตำแหน่ง | R84: ตำแหน่ง
C85: =IF(analyst2="","",analyst2) -> นายสันทัย หวังกำกลาง
C86: =IF(analyst2="","",analyst2) -> นายสันทัย หวังกำกลาง

Sheet A1
A1: การวิเคราะห์งาน (Job Analysis : Step)
A3: สถานประกอบการ | C3: =company_name -> หจก. ทอสเท็มไทย | E3: แผนก | F3: =department -> แผนกประกอบ(Housing sash fabrication)
A4: ตำแหน่งงาน | C4: =position -> พนักงานตัด Ba Zai | E4: วัน / เดือน / ปี ที่วิเคราะห์ | F4: =date_analy -> 42149
B6: =duty_A -> รับคำสั่งผลิตหน้าต่าง (ORDER) | E6: =Task!F7 -> ตรวจสอบ chcek sheet
A8: ที่ | B8: ขั้นตอนการปฏิบัติงาน | C8: เครื่องมือ / วัสดุ / อุปกรณ์ | D8: ความรู้ที่ต้องใช้ | E8: คุณลักษณะ/ทัศนคติ | F8: มาตรฐาน | G8: ความปลอดภัย
C9: ที่ใช้ในการปฏิบัติงาน | D9: ในการปฏิบัติงาน | E9: ที่ต้องใช้ในการปฏิบัติงาน | F9: ในการปฏิบัติงาน | G9: ข้อควรระวัง
A10: 1 | B10: ตรวจสอบชนิดของสี | C10: Check Sheet | D10: ความรู้เกี่ยวกับสัญลักษณ์สี ในChart ตัวอย่างสีของ Ba Zai | E10: เป็นคนช่างสังเกตุ รอบคอบ ตาไม่บอดสี | F10: บอกความหมายของรหัสสีใน Check Sheet ได้ถูกต้อง | G10: ระวังจำรหัสสีผิด
A11: 2 | B11: ตรวจสอบชื่อชิ้นงาน | C11: Check Sheet | D11: ความรู้พื้นฐานชื่อชิ้นงานในภาษาอังกฤษ ความรู้เกี่ยวกับรหัสชื่อชิ้นงาน ในCheck Sheet | E11: เป็นคนช่างสังเกตุ รอบคอบ | F11: บอกชื่อชิ้นงาน ภาษาอังกฤษตาม Check Sheet ได้ถูกต้อง | G11: ระวังจำชื่อชิ้นงานผิด
A12: 3 | B12: ตรวจสอบ TO | C12: Check Sheet | D12: ความรู้ในการจำแนก To ในCheck Sheet | E12: เป็นคนช่างสังเกตุ รอบคอบ | F12: อ่านสัญลักษณ์ To ในCheck Sheetได้ถูกต้อง | G12: ระวังจำรหัสสีผิด
A13: 4 | B13: ตรวจสอบขนาดความยาว | C13: Check Sheet | D13: ความรู้ในการใช้ตลับเมตร | E13: ความละเอียด รอบครอบ | F13: วัดค่าความยาวคลาดเคลื่อน ไม่เกิน 0.5 มม.
A14: 5 | B14: ตรวจสอบหน้าตัด | C14: Check Sheet | D14: ความรู้ในการอ่านแบบหน้าตัดชิ้นงาน ในCheck Sheet | E14: เป็นคนช่างสังเกตุ ละเอียด รอบคอบ | F14: เลือกหน้าตัดชิ้นงาน ตามตัวอย่างในCheck Sheetได้ถูกต้อง | G14: ระวังส่วนที่เป็นองค์ประกอบเล็กๆของหน้าตัด
A15: 6 | B15: ตรวจสอบ Lot st | C15: Check Sheet | D15: ความรู้เกี่ยวกับการบันทึก Check Sheet | E15: ละเอียด รอบคอบ | F15: บันทึก Lot st หลังการตรวจสอบลงใน Check Sheet ได้ถูกต้อง
A26: ผู้วิเคราะห์ | B26: =IF(analyst1="","",analyst1) -> นางสาว นิตยา ชีแพง | F26: ผู้ทบทวน | G26: ผู้อนุมัติ
B27: =IF(analyst2="","",analyst2) -> นายสันทัย หวังกำกลาง
B28: =IF(analyst3="","",analyst3) -> นายวุฒิพงศ์ อินทะนาม | F28: =IF(review="","",review) | G28: =IF(approvers="","",approvers)
B29: =IF(analyst4="","",analyst4) -> นายวิทยา นิพลกรัง

Sheet A2 
A1: การวิเคราะห์งาน (Job Analysis : Step)
A3: สถานประกอบการ | C3: =company_name -> หจก. ทอสเท็มไทย | E3: แผนก | F3: =department -> แผนกประกอบ(Housing sash fabrication)
A4: ตำแหน่งงาน | C4: =position -> พนักงานตัด Ba Zai | E4: วัน / เดือน / ปี ที่วิเคราะห์ | F4: =date_analy -> 42149
B6: =duty_A -> รับคำสั่งผลิตหน้าต่าง (ORDER) | E6: =Task!J7 -> ส่งใบสั่งการผลิด(order) ให้แผนก AL bar
A8: ที่ | B8: ขั้นตอนการปฏิบัติงาน | C8: เครื่องมือ / วัสดุ / อุปกรณ์ | D8: ความรู้ที่ต้องใช้ | E8: คุณลักษณะ/ทัศนคติ | F8: มาตรฐาน | G8: ความปลอดภัย
C9: ที่ใช้ในการปฏิบัติงาน | D9: ในการปฏิบัติงาน | E9: ที่ต้องใช้ในการปฏิบัติงาน | F9: ในการปฏิบัติงาน | G9: ข้อควรระวัง
A10: 1 | B10: ตรวจสอบสี | C10: Check Sheet | D10: ความรู้เกี่ยวกับสัญลักษณ์สี ในChart ตัวอย่างสีของ Ba Zai | E10: เป็นคนช่างสังเกตุ รอบคอบ ตาไม่บอดสี | F10: บันทึกสี หลังการตรวจสอบลงใน Check Sheet ได้ถูกต้อง | G10: ระวังชิ้นงานบาดมือ ระวังเลือกสีผิด
A11: 2 | B11: ตรวจสอบชื่องาน | C11: Check Sheet | D11: ความรู้พื้นฐานชื่อชิ้นงานในภาษาอังกฤษ ความรู้เกี่ยวกับรหัสชื่อชิ้นงาน ในCheck Sheet | E11: เป็นคนช่างสังเกตุ รอบคอบ | F11: บันทึกชื่อชิ้นงาน หลังการตรวจสอบลงใน Check Sheet ได้ถูกต้อง | G11: ระวังชิ้นงานบาดมือ ระวังเลือกชิ้นงานผิด
A12: 3 | B12: ตรวจสอบ TO | C12: Check Sheet | D12: ความรู้ในการจำแนก To ในCheck Sheet | E12: เป็นคนช่างสังเกตุ รอบคอบ | F12: เลือก Ba Zai ตามสัญลักษณ์ To ในCheck Sheetได้ถูกต้อง | G12: ระวังเลือกชนิด To ผิด
A13: 4 | B13: ตรวจสอบหน้าตัด | C13: Check Sheet | D13: ความรู้ในการอ่านแบบหน้าตัดชิ้นงาน ในCheck Sheet | E13: เป็นคนช่างสังเกตุ ละเอียด รอบคอบ | F13: เลือกหน้าตัดชิ้นงาน ตามตัวอย่างในCheck Sheetได้ถูกต้อง | G13: ระวังเลือกหน้าตัดผิดผิด
A14: 5 | B14: ตรวจสอบความยาว | C14: ตลับเมตร | D14: ความรู้ในการอ่านตลับเมตร | E14: ละเอียด รอบคอบ | F14: วัดความยาวชิ้นงาน ตามCheck Sheetได้ถูกต้อง | G14: ระวังวัดขนาดผิด
A15: 6 | B15: ตรวจสอบจำนวน | C15: Check Sheet | D15: ความรู้ทางคณิตศาสตร์ในการนับตัวเลข | E15: ละเอียด รอบคอบ | F15: นับจำนวนชิ้นงาน ตามCheck Sheetได้ถูกต้อง | G15: ระวังนับชิ้นงานผิด
A16: 7 | B16: บันทึก Lot st | C16: Check Sheet | D16: ความรู้เกี่ยวกับการบันทึก Check Sheet | E16: ละเอียด รอบคอบ | F16: บันทึก Lot st หลังการตรวจสอบลงใน Check Sheet ได้ถูกต้อง | G16: บันทึกผิด
A17: 8 | B17: เคลื่อนย้ายงาน | C17: รถDaicha | D17: ความรู้และทักษะในการเข็นรถ Daicha | E17: วินัยความปลอดภัย | F17: เลือกแถบสีรถเข็น Daicha ได้ถูกต้อง | G17: ตามคู่มือความปลอดภัย
A26: ผู้วิเคราะห์ | B26: =IF(analyst1="","",analyst1) -> นางสาว นิตยา ชีแพง | F26: ผู้ทบทวน | G26: ผู้อนุมัติ
B27: =IF(analyst2="","",analyst2) -> นายสันทัย หวังกำกลาง
B28: =IF(analyst3="","",analyst3) -> นายวุฒิพงศ์ อินทะนาม | F28: =IF(review="","",review) | G28: =IF(approvers="","",approvers)
B29: =IF(analyst4="","",analyst4) -> นายวิทยา นิพลกรัง

Sheet B1
A1: การวิเคราะห์งาน (Job Analysis : Step)
A3: สถานประกอบการ | C3: Cover | E3: แผนก | F3: =department -> แผนกประกอบ(Housing sash fabrication)
A4: ตำแหน่งงาน | C4: =position -> พนักงานตัด Ba Zai | E4: วัน / เดือน / ปี ที่วิเคราะห์ | F4: =date_analy -> 42149
B6: =duty_B -> ตรวจสอบอุปกรณ์ตาม Chcek Sheet | E6: =taskB1 -> ตรวจสอบความพร้อมเครื่องตัด
A8: ที่ | B8: ขั้นตอนการปฏิบัติงาน | C8: เครื่องมือ / วัสดุ / อุปกรณ์ | D8: ความรู้ที่ต้องใช้ | E8: คุณลักษณะ/ทัศนคติ | F8: มาตรฐาน | G8: ความปลอดภัย
C9: ที่ใช้ในการปฏิบัติงาน | D9: ในการปฏิบัติงาน | E9: ที่ต้องใช้ในการปฏิบัติงาน | F9: ในการปฏิบัติงาน | G9: ข้อควรระวัง
A10: 1 | B10: การเลือกใช้ใบเลื่อย | C10: Check Sheet | D10: ความสามารถในการอ่าน Check Sheet | E10: ความละเอียด รอบครอบ | F10: เลือกใบเลื่อยได้เหมาะสมกับชิ้นงาน | G10: เลือกใบเลื่อยผิดชนิด
A11: 2 | B11: ตรวจสอบปุ่มฉุกเฉิน | C11: เครื่องตัด Bu Zai | D11: ความรู้เกี่ยวกับการทำงานของปุ่มฉุกเฉินเครื่องตัด Bu Zai | E11: ความละเอียด รอบครอบ | F11: ทดสอบการทำงานของปุ่มฉุกเฉินเครื่องตัด Bu Zai ก่อนการปฏิบัติงานทุกครั้ง | G11: ต้องตรวจสอบจริง
A12: 3 | B12: ตรวจสอบ cover | C12: เครื่องตัด Bu Zai | D12: ความรู้เกี่ยวกับการทำงานของCoverเครื่องตัด Bu Zai | E12: ความละเอียด รอบครอบ | F12: ทดสอบการทำงานของCoverเครื่องตัด Bu Zai ก่อนการปฏิบัติงานทุกครั้ง | G12: ต้องตรวจสอบจริง
A13: 4 | B13: ตรวจสอบลิมิตสวิทช์ | C13: เครื่องตัด Bu Zai | D13: ความรู้เกี่ยวกับการทำงานของลิมิตสวิตช์เครื่องตัด Bu Zai | E13: ความละเอียด รอบครอบ | F13: ทดสอบการทำงานของลิมิตสวิตช์เครื่องตัด Bu Zai ก่อนการปฏิบัติงานทุกครั้ง | G13: ต้องตรวจสอบจริง
A17: ผู้วิเคราะห์ | B17: =IF(analyst1="","",analyst1) -> นางสาว นิตยา ชีแพง | F17: ผู้ทบทวน | G17: ผู้อนุมัติ
B18: =IF(analyst2="","",analyst2) -> นายสันทัย หวังกำกลาง
B19: =IF(analyst3="","",analyst3) -> นายวุฒิพงศ์ อินทะนาม | F19: =IF(review="","",review) | G19: =IF(approvers="","",approvers)
B20: =IF(analyst4="","",analyst4) -> นายวิทยา นิพลกรัง

Sheet B2
A1: การวิเคราะห์งาน (Job Analysis : Step)
A3: สถานประกอบการ | C3: =company_name -> หจก. ทอสเท็มไทย | E3: แผนก | F3: =department -> แผนกประกอบ(Housing sash fabrication)
A4: ตำแหน่งงาน | C4: =position -> พนักงานตัด Ba Zai | E4: วัน / เดือน / ปี ที่วิเคราะห์ | F4: =date_analy -> 42149
B6: =duty_B -> ตรวจสอบอุปกรณ์ตาม Chcek Sheet | E6: =taskB2 -> ตรวจสอบการทำงานของตู้ดัชต์
A8: ที่ | B8: ขั้นตอนการปฏิบัติงาน | C8: เครื่องมือ / วัสดุ / อุปกรณ์ | D8: ความรู้ที่ต้องใช้ | E8: คุณลักษณะ/ทัศนคติ | F8: มาตรฐาน | G8: ความปลอดภัย
C9: ที่ใช้ในการปฏิบัติงาน | D9: ในการปฏิบัติงาน | E9: ที่ต้องใช้ในการปฏิบัติงาน | F9: ในการปฏิบัติงาน | G9: ข้อควรระวัง
B10: ตรวจสอบสวิทช์กับลูกลอย | C10: ตู้คัชต์ | D10: ความสามารถในการใช้ตู้คัชต์ | E10: ความละเอียด รอบครอบ | F10: ทดสอบการทำงานของสวิตช์และลูกลอยก่อนปฏิบัติงานทุกครั้ง | G10: ต้องตรวจสอบอย่างแท้จริง
B11: ตรวจสอบฝาปิดตู้ | C11: ตู้คัชต์ | D11: ความสามารถในการใช้ตู้คัชต์ | E11: ความละเอียด รอบครอบ | F11: ทดสอบการทำงานของฝาปิดตู้ก่อนปฏิบัติงานทุกครั้ง | G11: ต้องตรวจสอบอย่างแท้จริง
B12: ตรวจสอบคันโยก | C12: ตู้คัชต์ | D12: ความสามารถในการใช้ตู้คัชต์ | E12: ความละเอียด รอบครอบ | F12: ทดสอบการทำงานของคันโยกก่อนปฏิบัติงานทุกครั้ง | G12: ต้องตรวจสอบอย่างแท้จริง
B13: ตรวจสอบไส้กรอง | C13: ตู้คัชต์ | D13: ความสามารถในการใช้ตู้คัชต์ | E13: ความละเอียด รอบครอบ | F13: ทดสอบการติดตั้งและสภาพไส้กรองก่อนปฏิบัติงานทุกครั้ง | G13: ต้องตรวจสอบอย่างแท้จริง
B14: ตรวจสอบถาดรอง | C14: ตู้คัชต์ | D14: ความสามารถในการใช้ตู้คัชต์ | E14: ความละเอียด รอบครอบ | F14: ทดสอบสภาพและการติดตั้งของถาดรองก่อนปฏิบัติงานทุกครั้ง | G14: ต้องตรวจสอบอย่างแท้จริง
A17: ผู้วิเคราะห์ | B17: =IF(analyst1="","",analyst1) -> นางสาว นิตยา ชีแพง | F17: ผู้ทบทวน | G17: ผู้อนุมัติ
B18: =IF(analyst2="","",analyst2) -> นายสันทัย หวังกำกลาง
B19: =IF(analyst3="","",analyst3) -> นายวุฒิพงศ์ อินทะนาม | F19: =IF(review="","",review) | G19: =IF(approvers="","",approvers)
B20: =IF(analyst4="","",analyst4) -> นายวิทยา นิพลกรัง

Sheet B3
A1: การวิเคราะห์งาน (Job Analysis : Step)
A3: สถานประกอบการ | C3: =company_name -> หจก. ทอสเท็มไทย | E3: แผนก | F3: =department -> แผนกประกอบ(Housing sash fabrication)
A4: ตำแหน่งงาน | C4: =position -> พนักงานตัด Ba Zai | E4: วัน / เดือน / ปี ที่วิเคราะห์ | F4: =date_analy -> 42149
B6: =duty_B -> ตรวจสอบอุปกรณ์ตาม Chcek Sheet | E6: ตรวจสอบตลับเมตร
A8: ที่ | B8: ขั้นตอนการปฏิบัติงาน | C8: เครื่องมือ / วัสดุ / อุปกรณ์ | D8: ความรู้ที่ต้องใช้ | E8: คุณลักษณะ/ทัศนคติ | F8: มาตรฐาน | G8: ความปลอดภัย
C9: ที่ใช้ในการปฏิบัติงาน | D9: ในการปฏิบัติงาน | E9: ที่ต้องใช้ในการปฏิบัติงาน | F9: ในการปฏิบัติงาน | G9: ข้อควรระวัง
A10: 1 | B10: สายตลับเมตร | C10: ตลับเมตร | D10: ความรู้ในการตรวจสอบตลับเมตร | E10: ช่างสังเกตุ ละเอียด รอบครอบ | F10: ดึงสายตลับเมตรได้ถูกต้อง | G10: ระวังสายตลับเมตรบาดมือ
A11: 2 | B11: สเกลของตลับเมตร | C11: ตลับเมตร | D11: ความรู้ในการตรวจสอบตลับเมตร | E11: ช่างสังเกตุ ละเอียด รอบครอบ | F11: อ่านสเกลได้ทุกระยะของสายตลับเมตร | G11: ตรวจสอบอย่างแท้จริง
A12: 3 | B12: ฝาครอบตลับเมตร | C12: ตลับเมตร | D12: ความรู้ในการตรวจสอบตลับเมตร | E12: ช่างสังเกตุ ละเอียด รอบครอบ | F12: ตรวจสภาพภายนอกของตลับเมตรได้ถูกต้อง | G12: ตรวจสอบอย่างแท้จริง
A13: 4 | B13: บันทึกผลการตรวจเช็ค | C13: ตลับเมตร Check Sheet | D13: ความรู้ในการตรวจสอบตลับเมตร ความรู้ในการบันทึก Check Sheet | E13: ช่างสังเกตุ ละเอียด รอบครอบ | F13: บันทึกผลการตรวจตลับเมตรได้ถูกต้อง | G13: ตรวจสอบอย่างแท้จริง บันทึกให้ถูกต้อง
A17: ผู้วิเคราะห์ | B17: =IF(analyst1="","",analyst1) -> นางสาว นิตยา ชีแพง | F17: ผู้ทบทวน | G17: ผู้อนุมัติ
B18: =IF(analyst2="","",analyst2) -> นายสันทัย หวังกำกลาง
B19: =IF(analyst3="","",analyst3) -> นายวุฒิพงศ์ อินทะนาม | F19: =IF(review="","",review) | G19: =IF(approvers="","",approvers)
B20: =IF(analyst4="","",analyst4) -> นายวิทยา นิพลกรัง

Sheet C1
A1: การวิเคราะห์งาน (Job Analysis : Step)
A3: สถานประกอบการ | C3: =company_name -> หจก. ทอสเท็มไทย | E3: แผนก | F3: =department -> แผนกประกอบ(Housing sash fabrication)
A4: ตำแหน่งงาน | C4: =position -> พนักงานตัด Ba Zai | E4: วัน / เดือน / ปี ที่วิเคราะห์ | F4: =date_analy -> 42149
B6: =duty_C -> ตัดชิ้นงาน (Bu Zai) | E6: =taskC1 -> ตัด Ba Zai ตาม check sheet
A8: ที่ | B8: ขั้นตอนการปฏิบัติงาน | C8: เครื่องมือ / วัสดุ / อุปกรณ์ | D8: ความรู้ที่ต้องใช้ | E8: คุณลักษณะ/ทัศนคติ | F8: มาตรฐาน | G8: ความปลอดภัย
C9: ที่ใช้ในการปฏิบัติงาน | D9: ในการปฏิบัติงาน | E9: ที่ต้องใช้ในการปฏิบัติงาน | F9: ในการปฏิบัติงาน | G9: ข้อควรระวัง
A10: 1 | B10: ยิงบาร์โค้ต | C10: เครื่องยิงบาร์โค้ต Check Sheet | D10: ความสามารถในการใช้งานเครื่องยิงบาร์โค้ต | E10: รอบครอบ แม่นยำ | F10: จำนวนครั้งในการยิงบาร์โค้ตไม่เกิน 2 ครั้ง | G10: ยิงบาร์โค้ตให้ตรงตำแหน่ง
A11: 2 | B11: ตั้งเครื่องตัด Ba Zai | C11: เครื่องตัด Ba Zai Check Sheet | D11: ความรู้ในการตั้งเครื่องตัด Ba Zai ความรู้ในการอ่าน Check Sheet | E11: ละเอียด รอบครอบ | F11: ปรับตั้งเครื่องตัด Ba Zai ได้ภายใน 2 นาที | G11: ต้องยึดอุปกรณ์ให้แน่น
A12: 3 | B12: ยกงานขึ้นตัดตามจำนวน | C12: Clamp รัดชิ้นงาน | D12: ความรู้เรื่องความปลอดภัย การอ่าน check sheet การรัดชิ้นงาน | E12: ทัศนคติเรื่องความปลอดภัยละเอียด รอบครอบ | F12: ยกชิ้นงานและยึดclamp รัดได้ภายใน 3 นาที | G12: ระวังชิ้นงานหล่น ใช้Clamp รัดชิ้นงานให้แน่น
A13: 4 | B13: ตัดหัว Basai | C13: เครื่องตัด Ba Zai | D13: ความรู้ในการใช้เครื่องตัด Ba Zai การอ่าน check cheet | E13: ทัศนคติเรื่องความปลอดภัยละเอียด รอบครอบ | F13: ตัดหัว Ba Zai ไม่เกิน 40-60 มม. | G13: ใช้อุปกรณ์ความปลอดภัย การตัดผิดขนาด
A14: 5 | B14: ตัดงานตามความยาวใน chcek cheet | C14: เครื่องตัด Ba Zai Check Sheet | D14: ความรู้ในการใช้เครื่องตัด Ba Zai การอ่าน chcek sheet | E14: ทัศนคติเรื่องความปลอดภัยละเอียด รอบครอบ | F14: ตัดความยาว Ba Zai ได้ตามCheck Sheet คลาดเคลื่อนไม่เกิน 0.5 มม. | G14: ความปลอดภัย การตัดผิดขนาด
A15: 6 | B15: ตรวจสอบความยาวตาม chcek cheet | C15: ตลับเมตร | D15: ความรู้ในการใช้ตลับเมตร | E15: ละเอียด รอบครอบ | F15: อ่านค่าที่วัดได้ตามCheck Sheet คลาดเคลื่อนไม่เกิน 0.5 มม. | G15: การวัด และ อ่าน ตลับเมตรผิด
A16: 7 | B16: บันทึกผลลงใน chcek cheet | C16: Check Sheet | D16: การอ่าน Chck Sheet | E16: ละเอียด รอบครอบ | F16: บันทึกข้อมูลในCheck Sheet ได้ครบถ้วน | G16: ควรตรวจสอบซ้ำ
A17: ผู้วิเคราะห์ | B17: =IF(analyst1="","",analyst1) -> นางสาว นิตยา ชีแพง | F17: ผู้ทบทวน | G17: ผู้อนุมัติ
B18: =IF(analyst2="","",analyst2) -> นายสันทัย หวังกำกลาง
B19: =IF(analyst3="","",analyst3) -> นายวุฒิพงศ์ อินทะนาม | F19: =IF(review="","",review) | G19: =IF(approvers="","",approvers)
B20: =IF(analyst4="","",analyst4) -> นายวิทยา นิพลกรัง

Sheet C2
A1: การวิเคราะห์งาน (Job Analysis : Step)
A3: สถานประกอบการ | C3: =company_name -> หจก. ทอสเท็มไทย | E3: แผนก | F3: =department -> แผนกประกอบ(Housing sash fabrication)
A4: ตำแหน่งงาน | C4: =position -> พนักงานตัด Ba Zai | E4: วัน / เดือน / ปี ที่วิเคราะห์ | F4: =date_analy -> 42149
B6: =duty_C -> ตัดชิ้นงาน (Bu Zai) | E6: =taskC2 -> ตรวจสอบสภาพทั่วไป
A8: ที่ | B8: ขั้นตอนการปฏิบัติงาน | C8: เครื่องมือ / วัสดุ / อุปกรณ์ | D8: ความรู้ที่ต้องใช้ | E8: คุณลักษณะ/ทัศนคติ | F8: มาตรฐาน | G8: ความปลอดภัย
C9: ที่ใช้ในการปฏิบัติงาน | D9: ในการปฏิบัติงาน | E9: ที่ต้องใช้ในการปฏิบัติงาน | F9: ในการปฏิบัติงาน | G9: ข้อควรระวัง
B10: ดูตำหนิรอยขีดข่วน ต่างๆ | C10: คู่มือตรวจรอย | D10: ความสามารถในการสังเกตุ | E10: ช่างสังเกตุ ละเอียด รอบครอบ | F10: ตรวจสอบให้เสร็จภายใน 2 นาที | G10: ต้องตรวจสอบทุกชิ้น
B11: ตรวจนับจำนวน Bu Zai | C11: ใบ Order /chcek cheet | D11: ความสามารถในการนับ | E11: ช่างสังเกตุ ละเอียด รอบครอบ | F11: ตรวจสอบให้เสร็จภายใน 1 นาที | G11: ต้องตรวจนับให้ครบถ้วน
A17: ผู้วิเคราะห์ | B17: =IF(analyst1="","",analyst1) -> นางสาว นิตยา ชีแพง | F17: ผู้ทบทวน | G17: ผู้อนุมัติ
B18: =IF(analyst2="","",analyst2) -> นายสันทัย หวังกำกลาง
B19: =IF(analyst3="","",analyst3) -> นายวุฒิพงศ์ อินทะนาม | F19: =IF(review="","",review) | G19: =IF(approvers="","",approvers)
B20: =IF(analyst4="","",analyst4) -> นายวิทยา นิพลกรัง

Sheet C3
A1: การวิเคราะห์งาน (Job Analysis : Step)
A3: สถานประกอบการ | C3: =company_name -> หจก. ทอสเท็มไทย | E3: แผนก | F3: =department -> แผนกประกอบ(Housing sash fabrication)
A4: ตำแหน่งงาน | C4: =position -> พนักงานตัด Ba Zai | E4: วัน / เดือน / ปี ที่วิเคราะห์ | F4: =date_analy -> 42149
B6: =duty_C -> ตัดชิ้นงาน (Bu Zai) | E6: =taskC3 -> ส่งมอบงาน Bu Zai
A8: ที่ | B8: ขั้นตอนการปฏิบัติงาน | C8: เครื่องมือ / วัสดุ / อุปกรณ์ | D8: ความรู้ที่ต้องใช้ | E8: คุณลักษณะ/ทัศนคติ | F8: มาตรฐาน | G8: ความปลอดภัย
C9: ที่ใช้ในการปฏิบัติงาน | D9: ในการปฏิบัติงาน | E9: ที่ต้องใช้ในการปฏิบัติงาน | F9: ในการปฏิบัติงาน | G9: ข้อควรระวัง
B10: เรียง Busai ขึ้นรถ daicha | C10: รถ daicha ถุงมือตุ๊กแก | D10: การเรียงชิ้นงาน | E10: ทัศนคติเรื่องความปลอดภัยละเอียด รอบครอบ | F10: จัดเรียงให้เสร็จภายใน 2 นาที | G10: ระวังชิ้นงานหล่น
B11: เป่าเศษ Kiniko | C11: เครื่องเป่าเศษ Kiniko แว่นนิรภัย | D11: การใช้เครื่องเป่าเศษ Kiniko | E11: ทัศนคติเรื่องความปลอดภัยละเอียด รอบครอบ | F11: เป่าเศษ Kinikoห้เสร็จภายใน 2 นาที | G11: สวมแว่นตาทุกครั้ง
B12: จอดรถ daicha ที่จุดส่งงาน | C12: รถ daicha | D12: การเคลื่อนย้ายชิ้นงาน | E12: ทัศนคติเรื่องความปลอดภัย | F12: จอดรถ daicha ตรงแถบเส้นทางการขนย้าย จอดรถ daicha จุดที่กำหนด | G12: ระวังชิ้นงานหล่น
A16: ผู้วิเคราะห์ | B16: =IF(analyst1="","",analyst1) -> นางสาว นิตยา ชีแพง | F16: ผู้ทบทวน | G16: ผู้อนุมัติ
B17: =IF(analyst2="","",analyst2) -> นายสันทัย หวังกำกลาง
B18: =IF(analyst3="","",analyst3) -> นายวุฒิพงศ์ อินทะนาม | F18: =IF(review="","",review) | G18: =IF(approvers="","",approvers)
B19: =IF(analyst4="","",analyst4) -> นายวิทยา นิพลกรัง

Sheet D1
A1: การวิเคราะห์งาน (Job Analysis : Step)
A3: สถานประกอบการ | C3: =company_name -> หจก. ทอสเท็มไทย | E3: แผนก | F3: =department -> แผนกประกอบ(Housing sash fabrication)
A4: ตำแหน่งงาน | C4: =position -> พนักงานตัด Ba Zai | E4: วัน / เดือน / ปี ที่วิเคราะห์ | F4: =date_analy -> 42149
B6: =duty_D -> ทิ้งเศษชิ้นงาน (Scrap) | E6: =taskD1 -> เก็บของเสียจากการตัด (Cutting)
A8: ที่ | B8: ขั้นตอนการปฏิบัติงาน | C8: เครื่องมือ / วัสดุ / อุปกรณ์ | D8: ความรู้ที่ต้องใช้ | E8: คุณลักษณะ/ทัศนคติ | F8: มาตรฐาน | G8: ความปลอดภัย
C9: ที่ใช้ในการปฏิบัติงาน | D9: ในการปฏิบัติงาน | E9: ที่ต้องใช้ในการปฏิบัติงาน | F9: ในการปฏิบัติงาน | G9: ข้อควรระวัง
B10: ทิ้งเศษหัว - ท้าย | C10: ถังเก็บเศษของเสีย ถุงมือตุ๊กแก | D10: ความสามารถในการแยกของเสีย | E10: ช่างสังเกตุ ละเอียด รอบครอบ | F10: แยกของเสียลงถังได้ถูกตามประเภทของเสีย ในเวลา 2 นาที | G10: แยกให้ตรงกับป้ายกำกับถัง
B11: ทิ้งเศษฝุ่นผง | C11: ถังเก็บเศษของเสีย ที่ตักขยะ | D11: ความสามารถในการแยกของเสีย | E11: ช่างสังเกตุ ละเอียด รอบครอบ | F11: แยกของเสียลงถังได้ถูกตามประเภทของเสีย ในเวลา 5 นาที | G11: แยกให้ตรงกับป้ายกำกับถัง
B12: ทิ้งเศษของเสียมีตำหนิ | C12: ถังเก็บเศษของเสีย ถุงมือตุ๊กแก | D12: ความสามารถในการแยกของเสีย | E12: ช่างสังเกตุ ละเอียด รอบครอบ | F12: แยกของเสียลงถังได้ถูกตามประเภทของเสีย ในเวลา 2 นาที | G12: แยกให้ตรงกับป้ายกำกับถัง
B13: ทิ้งของเสียจากการตัดผิดสี | C13: ถังเก็บเศษของเสีย ถุงมือตุ๊กแก | D13: ความสามารถในการแยกของเสีย | E13: ช่างสังเกตุ ละเอียด รอบครอบ | F13: แยกของเสียลงถังได้ถูกตามประเภทของเสีย ในเวลา 2 นาที | G13: แยกให้ตรงกับป้ายกำกับถัง
B14: ทิ้งของเสียที่มีรอยขีดข่วน | C14: ถังเก็บเศษของเสีย ถุงมือตุ๊กแก | D14: ความสามารถในการแยกของเสีย | E14: ช่างสังเกตุ ละเอียด รอบครอบ | F14: แยกของเสียลงถังได้ถูกตามประเภทของเสีย ในเวลา 2 นาที | G14: แยกให้ตรงกับป้ายกำกับถัง
A17: ผู้วิเคราะห์ | B17: =IF(analyst1="","",analyst1) -> นางสาว นิตยา ชีแพง | F17: ผู้ทบทวน | G17: ผู้อนุมัติ
B18: =IF(analyst2="","",analyst2) -> นายสันทัย หวังกำกลาง
B19: =IF(analyst3="","",analyst3) -> นายวุฒิพงศ์ อินทะนาม | F19: =IF(review="","",review) | G19: =IF(approvers="","",approvers)
B20: =IF(analyst4="","",analyst4) -> นายวิทยา นิพลกรัง

Sheet D2
A1: การวิเคราะห์งาน (Job Analysis : Step)
A3: สถานประกอบการ | C3: =company_name -> หจก. ทอสเท็มไทย | E3: แผนก | F3: =department -> แผนกประกอบ(Housing sash fabrication)
A4: ตำแหน่งงาน | C4: =position -> พนักงานตัด Ba Zai | E4: วัน / เดือน / ปี ที่วิเคราะห์ | F4: =date_analy -> 42149
B6: =duty_D -> ทิ้งเศษชิ้นงาน (Scrap) | E6: =taskD2 -> บันทึกของเสียประจำวัน
A8: ที่ | B8: ขั้นตอนการปฏิบัติงาน | C8: เครื่องมือ / วัสดุ / อุปกรณ์ | D8: ความรู้ที่ต้องใช้ | E8: คุณลักษณะ/ทัศนคติ | F8: มาตรฐาน | G8: ความปลอดภัย
C9: ที่ใช้ในการปฏิบัติงาน | D9: ในการปฏิบัติงาน | E9: ที่ต้องใช้ในการปฏิบัติงาน | F9: ในการปฏิบัติงาน | G9: ข้อควรระวัง
B10: บันทึกจำนวนของเสีย | C10: Check Sheet | D10: ความรู้ในการบันทึก Check Sheet | E10: ละเอียด รอบครอบ | F10: บันทึกได้ครบถ้วน | G10: ตรวจทานทุกครั้ง
B11: บันทึกสาเหตุของเสีย | C11: Check Sheet | D11: ความรู้ในการบันทึก Check Sheet | E11: ละเอียด รอบครอบ | F11: บันทึกได้ครบถ้วน | G11: ตรวจทานทุกครั้ง
B12: บันทึกของเสียแต่ละขั้นตอนการตัด | C12: Check Sheet | D12: ความรู้ในการบันทึก Check Sheet | E12: ละเอียด รอบครอบ | F12: บันทึกได้ครบถ้วน | G12: ตรวจทานทุกครั้ง
B13: บันทึกกราฟของเสีย | C13: ใบกราฟของเสีย | D13: ความรู้ในการบันทึกกราฟ | E13: ละเอียด รอบครอบ | F13: บันทึกกราฟได้ครบถ้วน | G13: ตรวจทานทุกครั้ง
A17: ผู้วิเคราะห์ | B17: =IF(analyst1="","",analyst1) -> นางสาว นิตยา ชีแพง | F17: ผู้ทบทวน | G17: ผู้อนุมัติ
B18: =IF(analyst2="","",analyst2) -> นายสันทัย หวังกำกลาง
B19: =IF(analyst3="","",analyst3) -> นายวุฒิพงศ์ อินทะนาม | F19: =IF(review="","",review) | G19: =IF(approvers="","",approvers)
B20: =IF(analyst4="","",analyst4) -> นายวิทยา นิพลกรัง

Sheet IDF
A1: แบบสำรวจเกี่ยวกับการปฏิบัติงาน
A2: ="ตำแหน่ง "&position -> ตำแหน่ง พนักงานตัด Ba Zai
A3: (กรุณาทำแถบสี ลงบนหมายเลขที่ท่านพิจารณาแล้วเห็นว่าถูกต้อง)
A4: รายละเอียดของงานย่อย | B4: ความสำคัญของงาน | G4: ความถี่ของการปฎิบัติงาน | L4: ความยากง่ายในการปฏิบัติงาน | Q4: ผลกระทบของงานต่อผู้บริโภค | V4: ความต้องการฝึกอบรม | AA4: รวมคะ แนน | AB4: ร้อยละ | AC4: ข้อสอบภาคความรู้ (ข้อ) | AD4: ข้อสอบภาคทักษะ(คะแนน) | AE4: เวลาที่ใช้ในการฝึกอบรม
B5: มาก - - - - - - - - - - - - - น้อย | G5: มาก - - - - - - - - - - - - - น้อย | L5: มาก - - - - - - - - - - - - - น้อย | Q5: มาก - - - - - - - - - - - - - น้อย | V5: มาก - - - - - - - - - - - - - น้อย
B6: 5 | C6: 4 | D6: 3 | E6: 2 | F6: 1 | G6: 5 | H6: 4 | I6: 3 | J6: 2 | K6: 1 | L6: 5 | M6: 4 | N6: 3 | O6: 2 | P6: 1 | Q6: 5 | R6: 4 | S6: 3 | T6: 2 | U6: 1 | V6: 5 | W6: 4 | X6: 3 | Y6: 2 | Z6: 1 | AC6: 20 | AD6: 80 | AE6: 1080
A7: รวม | AA7: =SUM(AA9:AA21) -> 205 | AB7: =ROUND(SUM(AB8:AB21),2) -> 1
A8: =duty_A -> รับคำสั่งผลิตหน้าต่าง (ORDER)
A9: =taskA1 -> ตรวจสอบ chcek sheet | B9: 5 | C9: 4 | D9: 3 | E9: 2 | F9: 1 | G9: 5 | H9: 4 | I9: 3 | J9: 2 | K9: 1 | L9: 5 | M9: 4 | N9: 3 | P9: 1 | Q9: 5 | R9: 4 | S9: 3 | T9: 2 | U9: 1 | V9: 5 | W9: 4 | X9: 3 | Y9: 2 | Z9: 1 | AA9: =SUM(B9,G9,L9,Q9,V9) -> 25 | AB9: =AA9/$AA$7 -> 0.12195122 | AC9: =$AC$6*AB9 -> 2.4390244 | AD9: =$AD$6*AB9 -> 9.7560976 | AE9: =$AE$6*AB9 -> 131.70732
A10: =taskA2 -> ส่งใบสั่งการผลิด(order) ให้แผนก AL bar | B10: 5 | C10: 4 | D10: 3 | E10: 2 | F10: 1 | G10: 5 | H10: 4 | I10: 3 | J10: 2 | K10: 1 | L10: 5 | M10: 4 | N10: 3 | O10: 2 | P10: 1 | Q10: 5 | R10: 4 | S10: 3 | T10: 2 | U10: 1 | V10: 5 | W10: 4 | X10: 3 | Y10: 2 | Z10: 1 | AA10: =SUM(B10,G10,O10,Q10,X10) -> 20 | AB10: =AA10/$AA$7 -> 0.097560976 | AC10: =$AC$6*AB10 -> 1.9512195 | AD10: =$AD$6*AB10 -> 7.804878 | AE10: =$AE$6*AB10 -> 105.36585
A11: =duty_B -> ตรวจสอบอุปกรณ์ตาม Chcek Sheet
A12: =taskB1 -> ตรวจสอบความพร้อมเครื่องตัด | B12: 5 | C12: 4 | D12: 3 | E12: 2 | F12: 1 | G12: 5 | H12: 4 | I12: 3 | J12: 2 | K12: 1 | L12: 5 | M12: 4 | N12: 3 | O12: 2 | P12: 1 | Q12: 5 | R12: 4 | S12: 3 | T12: 2 | U12: 1 | V12: 5 | W12: 4 | X12: 3 | Y12: 2 | Z12: 1 | AA12: =SUM(B12,G12,O12,Q12,X12) -> 20 | AB12: =AA12/$AA$7 -> 0.097560976 | AC12: =$AC$6*AB12 -> 1.9512195 | AD12: =$AD$6*AB12 -> 7.804878 | AE12: =$AE$6*AB12 -> 105.36585
A13: =taskB2 -> ตรวจสอบการทำงานของตู้ดัชต์ | B13: 5 | C13: 4 | D13: 3 | E13: 2 | F13: 1 | G13: 5 | H13: 4 | I13: 3 | J13: 2 | K13: 1 | L13: 5 | M13: 4 | N13: 3 | O13: 2 | P13: 1 | Q13: 5 | R13: 4 | S13: 3 | T13: 2 | U13: 1 | V13: 5 | W13: 4 | X13: 3 | Y13: 2 | Z13: 1 | AA13: =SUM(B13,G13,O13,Q13,X13) -> 20 | AB13: =AA13/$AA$7 -> 0.097560976 | AC13: =$AC$6*AB13 -> 1.9512195 | AD13: =$AD$6*AB13 -> 7.804878 | AE13: =$AE$6*AB13 -> 105.36585
A14: =taskB3 -> ตรวจสอบตลับเมตร | B14: 5 | C14: 4 | D14: 3 | E14: 2 | F14: 1 | G14: 5 | H14: 4 | I14: 3 | J14: 2 | K14: 1 | L14: 5 | M14: 4 | N14: 3 | O14: 2 | P14: 1 | Q14: 5 | R14: 4 | S14: 3 | T14: 2 | U14: 1 | V14: 5 | W14: 4 | X14: 3 | Y14: 2 | Z14: 1 | AA14: =SUM(B14,G14,O14,Q14,X14) -> 20 | AB14: =AA14/$AA$7 -> 0.097560976 | AC14: =$AC$6*AB14 -> 1.9512195 | AD14: =$AD$6*AB14 -> 7.804878 | AE14: =$AE$6*AB14 -> 105.36585
A15: =duty_C -> ตัดชิ้นงาน (Bu Zai)
A16: =taskC1 -> ตัด Ba Zai ตาม check sheet | B16: 5 | C16: 4 | D16: 3 | E16: 2 | F16: 1 | G16: 5 | H16: 4 | I16: 3 | J16: 2 | K16: 1 | L16: 5 | M16: 4 | N16: 3 | O16: 2 | P16: 1 | Q16: 5 | R16: 4 | S16: 3 | T16: 2 | U16: 1 | V16: 5 | W16: 4 | X16: 3 | Y16: 2 | Z16: 1 | AA16: =SUM(B16,G16,O16,Q16,X16) -> 20 | AB16: =AA16/$AA$7 -> 0.097560976 | AC16: =$AC$6*AB16 -> 1.9512195 | AD16: =$AD$6*AB16 -> 7.804878 | AE16: =$AE$6*AB16 -> 105.36585
A17: =taskC2 -> ตรวจสอบสภาพทั่วไป | B17: 5 | C17: 4 | D17: 3 | E17: 2 | F17: 1 | G17: 5 | H17: 4 | I17: 3 | J17: 2 | K17: 1 | L17: 5 | M17: 4 | N17: 3 | O17: 2 | P17: 1 | Q17: 5 | R17: 4 | S17: 3 | T17: 2 | U17: 1 | V17: 5 | W17: 4 | X17: 3 | Y17: 2 | Z17: 1 | AA17: =SUM(B17,G17,O17,Q17,X17) -> 20 | AB17: =AA17/$AA$7 -> 0.097560976 | AC17: =$AC$6*AB17 -> 1.9512195 | AD17: =$AD$6*AB17 -> 7.804878 | AE17: =$AE$6*AB17 -> 105.36585
A18: =taskC3 -> ส่งมอบงาน Bu Zai | B18: 5 | C18: 4 | D18: 3 | E18: 2 | F18: 1 | G18: 5 | H18: 4 | I18: 3 | J18: 2 | K18: 1 | L18: 5 | M18: 4 | N18: 3 | O18: 2 | P18: 1 | Q18: 5 | R18: 4 | S18: 3 | T18: 2 | U18: 1 | V18: 5 | W18: 4 | X18: 3 | Y18: 2 | Z18: 1 | AA18: =SUM(B18,G18,O18,Q18,X18) -> 20 | AB18: =AA18/$AA$7 -> 0.097560976 | AC18: =$AC$6*AB18 -> 1.9512195 | AD18: =$AD$6*AB18 -> 7.804878 | AE18: =$AE$6*AB18 -> 105.36585
A19: =duty_D -> ทิ้งเศษชิ้นงาน (Scrap)
A20: =taskD1 -> เก็บของเสียจากการตัด (Cutting) | B20: 5 | C20: 4 | D20: 3 | E20: 2 | F20: 1 | G20: 5 | H20: 4 | I20: 3 | J20: 2 | K20: 1 | L20: 5 | M20: 4 | N20: 3 | O20: 2 | P20: 1 | Q20: 5 | R20: 4 | S20: 3 | T20: 2 | U20: 1 | V20: 5 | W20: 4 | X20: 3 | Y20: 2 | Z20: 1 | AA20: =SUM(B20,G20,O20,Q20,X20) -> 20 | AB20: =AA20/$AA$7 -> 0.097560976 | AC20: =$AC$6*AB20 -> 1.9512195 | AD20: =$AD$6*AB20 -> 7.804878 | AE20: =$AE$6*AB20 -> 105.36585
A21: =taskD2 -> บันทึกของเสียประจำวัน | B21: 5 | C21: 4 | D21: 3 | E21: 2 | F21: 1 | G21: 5 | H21: 4 | I21: 3 | J21: 2 | K21: 1 | L21: 5 | M21: 4 | N21: 3 | O21: 2 | P21: 1 | Q21: 5 | R21: 4 | S21: 3 | T21: 2 | U21: 1 | V21: 5 | W21: 4 | X21: 3 | Y21: 2 | Z21: 1 | AA21: =SUM(B21,G21,O21,Q21,X21) -> 20 | AB21: =AA21/$AA$7 -> 0.097560976 | AC21: =$AC$6*AB21 -> 1.9512195 | AD21: =$AD$6*AB21 -> 7.804878 | AE21: =$AE$6*AB21 -> 105.36585
A34: =duty_A -> รับคำสั่งผลิตหน้าต่าง (ORDER) | C34: ท | D34: ป
A35: =taskA1 -> ตรวจสอบ chcek sheet | C35: 2 | D35: 1
A36: =taskA2 -> ส่งใบสั่งการผลิด(order) ให้แผนก AL bar | C36: 2 | D36: 1
A37: =duty_B -> ตรวจสอบอุปกรณ์ตาม Chcek Sheet
A38: =taskB1 -> ตรวจสอบความพร้อมเครื่องตัด | C38: 1 | D38: 1
A39: =taskB2 -> ตรวจสอบการทำงานของตู้ดัชต์ | D39: 1
A40: =taskB3 -> ตรวจสอบตลับเมตร | D40: 1
A41: =duty_C -> ตัดชิ้นงาน (Bu Zai)
A42: =taskC1 -> ตัด Ba Zai ตาม check sheet | C42: 1 | D42: 2
A43: =taskC2 -> ตรวจสอบสภาพทั่วไป | D43: 2
A44: =taskC3 -> ส่งมอบงาน Bu Zai | D44: 1
A45: =duty_D -> ทิ้งเศษชิ้นงาน (Scrap)
A46: =taskD1 -> เก็บของเสียจากการตัด (Cutting) | D46: 1
A47: =taskD2 -> บันทึกของเสียประจำวัน | D47: 1
C48: =SUM(C35:C47) -> 6 | D48: =SUM(D35:D47) -> 12

Sheet Level
A1: แบบสำรวจเกี่ยวกับระดับการปฏิบัติงาน เพื่อแบ่งระดับมาตรฐาน สมรรถนะ
A2: ="ตำแหน่ง "&position -> ตำแหน่ง พนักงานตัด Ba Zai
A4: รายละเอียดของงานหลัก/งานย่อย | B4: ระดับที่คาดหวัง
B6: ระดับ 1 | C6: ระดับ 2 | D6: ระดับ 3 | E6: ระดับ 4 | F6: ระดับ 5
A7: รวมงานย่อย | B7: =COUNTIF(B8:B19,"/") -> 0 | C7: =COUNTIF(C8:C19,"/") -> 0 | D7: =COUNTIF(D8:D19,"/") -> 2 | E7: =COUNTIF(E8:E19,"/") -> 3 | F7: =COUNTIF(F8:F19,"/") -> 3
A8: =duty_A -> รับคำสั่งผลิตหน้าต่าง (ORDER)
A9: =taskA1 -> ตรวจสอบ chcek sheet | F9: /
A10: =taskA2 -> ส่งใบสั่งการผลิด(order) ให้แผนก AL bar | D10: /
A11: =duty_B -> ตรวจสอบอุปกรณ์ตาม Chcek Sheet
A12: =taskB1 -> ตรวจสอบความพร้อมเครื่องตัด | F12: /
A13: =taskB2 -> ตรวจสอบการทำงานของตู้ดัชต์ | E13: /
A14: =taskB3 -> ตรวจสอบตลับเมตร | E14: /
A15: =duty_C -> ตัดชิ้นงาน (Bu Zai)
A16: =taskC1 -> ตัด Ba Zai ตาม check sheet | F16: /
A17: =taskC2 -> ตรวจสอบสภาพทั่วไป | E17: /
A18: =taskC3 -> ส่งมอบงาน Bu Zai | D18: /
A19: =Task!B36 -> ทิ้งเศษชิ้นงาน (Scrap)
A20: =taskD1 -> เก็บของเสียจากการตัด (Cutting) | C20: /
A21: =taskD2 -> บันทึกของเสียประจำวัน | F21: /

Sheet for_CS-A
A1: แบบสำรวจเกี่ยวกับระดับการปฏิบัติงาน เพื่อแบ่งระดับมาตรฐาน สมรรถนะ
A2: ="ตำแหน่ง "&position -> ตำแหน่ง พนักงานตัด Ba Zai
A4: ลำดับที่ | B4: รายการความสามารถ | C4: รายการความรู้ที่จำเป็น
A5: 1 | B5: =duty_A -> รับคำสั่งผลิตหน้าต่าง (ORDER)
A6: 1.1 | B6: =taskA1 -> ตรวจสอบ chcek sheet | C6: ='A1'!D10 -> ความรู้เกี่ยวกับสัญลักษณ์สี ในChart ตัวอย่างสีของ Ba Zai
C7: ='A1'!D11 -> ความรู้พื้นฐานชื่อชิ้นงานในภาษาอังกฤษ ความรู้เกี่ยวกับรหัสชื่อชิ้นงาน ในCheck Sheet
C8: ='A1'!D12 -> ความรู้ในการจำแนก To ในCheck Sheet
C9: ='A1'!D13 -> ความรู้ในการใช้ตลับเมตร
C10: ='A1'!D14 -> ความรู้ในการอ่านแบบหน้าตัดชิ้นงาน ในCheck Sheet
C11: ='A1'!D15 -> ความรู้เกี่ยวกับการบันทึก Check Sheet
A13: 1.2 | B13: =taskA2 -> ส่งใบสั่งการผลิด(order) ให้แผนก AL bar | C13: ='A2 '!D10 -> ความรู้เกี่ยวกับสัญลักษณ์สี ในChart ตัวอย่างสีของ Ba Zai
C14: ='A2 '!D11 -> ความรู้พื้นฐานชื่อชิ้นงานในภาษาอังกฤษ ความรู้เกี่ยวกับรหัสชื่อชิ้นงาน ในCheck Sheet
C15: ='A2 '!D12 -> ความรู้ในการจำแนก To ในCheck Sheet
C16: ='A2 '!D13 -> ความรู้ในการอ่านแบบหน้าตัดชิ้นงาน ในCheck Sheet
C17: ='A2 '!D14 -> ความรู้ในการอ่านตลับเมตร
C18: ='A2 '!D15 -> ความรู้ทางคณิตศาสตร์ในการนับตัวเลข
C19: ='A2 '!D16 -> ความรู้เกี่ยวกับการบันทึก Check Sheet
C20: ='A2 '!D17 -> ความรู้และทักษะในการเข็นรถ Daicha

Sheet for_CS-B
A1: แบบสำรวจเกี่ยวกับระดับการปฏิบัติงาน เพื่อแบ่งระดับมาตรฐาน สมรรถนะ
A2: ="ตำแหน่ง "&position -> ตำแหน่ง พนักงานตัด Ba Zai
A4: ลำดับที่ | B4: รายการความสามารถ | C4: รายการความรู้ที่จำเป็น
A5: 2 | B5: =Task!B16 -> ตรวจสอบอุปกรณ์ตาม Chcek Sheet
A6: 2.1 | B6: =taskB1 -> ตรวจสอบความพร้อมเครื่องตัด | C6: ='B1'!D10 -> ความสามารถในการอ่าน Check Sheet
C7: ='B1'!D11 -> ความรู้เกี่ยวกับการทำงานของปุ่มฉุกเฉินเครื่องตัด Bu Zai
C8: ='B1'!D12 -> ความรู้เกี่ยวกับการทำงานของCoverเครื่องตัด Bu Zai
C9: ='B1'!D13 -> ความรู้เกี่ยวกับการทำงานของลิมิตสวิตช์เครื่องตัด Bu Zai
A11: 2.2 | B11: =taskB2 -> ตรวจสอบการทำงานของตู้ดัชต์ | C11: ='B2'!D10 -> ความสามารถในการใช้ตู้คัชต์
A13: 2.3 | B13: =taskB3 -> ตรวจสอบตลับเมตร | C13: ='B3'!D13 -> ความรู้ในการตรวจสอบตลับเมตร ความรู้ในการบันทึก Check Sheet

Sheet for_CS-C
A1: แบบสำรวจเกี่ยวกับระดับการปฏิบัติงาน เพื่อแบ่งระดับมาตรฐาน สมรรถนะ
A2: ="ตำแหน่ง "&position -> ตำแหน่ง พนักงานตัด Ba Zai
A4: ลำดับที่ | B4: รายการความสามารถ | C4: รายการความรู้ที่จำเป็น
A5: 3 | B5: =Task!B27 -> ตัดชิ้นงาน (Bu Zai)
A6: 3.1 | B6: =taskC1 -> ตัด Ba Zai ตาม check sheet | C6: ='C1'!D10 -> ความสามารถในการใช้งานเครื่องยิงบาร์โค้ต
C7: ='C1'!D11 -> ความรู้ในการตั้งเครื่องตัด Ba Zai ความรู้ในการอ่าน Check Sheet
C8: ='C1'!D12 -> ความรู้เรื่องความปลอดภัย การอ่าน check sheet การรัดชิ้นงาน
C9: ='C1'!D13 -> ความรู้ในการใช้เครื่องตัด Ba Zai การอ่าน check cheet
C10: ='C1'!D14 -> ความรู้ในการใช้เครื่องตัด Ba Zai การอ่าน chcek sheet
C11: ='C1'!D15 -> ความรู้ในการใช้ตลับเมตร
C12: ='C1'!D16 -> การอ่าน Chck Sheet
C13: ='C1'!D17 -> 0
A14: 3.2 | B14: =taskC2 -> ตรวจสอบสภาพทั่วไป | C14: ='C2'!D10 -> ความสามารถในการสังเกตุ
C15: ='C2'!D11 -> ความสามารถในการนับ
C16: ='C2'!D12 -> 0
A18: 3.3 | B18: =taskC3 -> ส่งมอบงาน Bu Zai | C18: ='C3'!D10 -> การเรียงชิ้นงาน
C19: ='C3'!D11 -> การใช้เครื่องเป่าเศษ Kiniko
C20: ='C3'!D12 -> การเคลื่อนย้ายชิ้นงาน
C21: ='C3'!D13 -> 0

Sheet for_CS-D
A1: แบบสำรวจเกี่ยวกับระดับการปฏิบัติงาน เพื่อแบ่งระดับมาตรฐาน สมรรถนะ
A2: ="ตำแหน่ง "&position -> ตำแหน่ง พนักงานตัด Ba Zai
A4: ลำดับที่ | B4: รายการความสามารถ | C4: รายการความรู้ที่จำเป็น
A5: 4 | B5: =duty_D -> ทิ้งเศษชิ้นงาน (Scrap)
A6: 4.1 | B6: =taskD1 -> เก็บของเสียจากการตัด (Cutting) | C6: ='D1'!D10 -> ความสามารถในการแยกของเสีย
C7: ='D1'!D11 -> ความสามารถในการแยกของเสีย
C8: ='D1'!D12 -> ความสามารถในการแยกของเสีย
C9: ='D1'!D13 -> ความสามารถในการแยกของเสีย
C10: ='D1'!D14 -> ความสามารถในการแยกของเสีย
C11: ='D1'!D15 -> 0
A12: 4.2 | B12: =taskD2 -> บันทึกของเสียประจำวัน | C12: ='D2'!D10 -> ความรู้ในการบันทึก Check Sheet
C13: ='D2'!D11 -> ความรู้ในการบันทึก Check Sheet
C14: ='D2'!D12 -> ความรู้ในการบันทึก Check Sheet
C15: ='D2'!D13 -> ความรู้ในการบันทึกกราฟ
C16: ='D2'!D14 -> 0

Sheet frm_task_analysis
A1: การวิเคราะห์งาน (Job Analysis : Step)
B3: สถานประกอบการ | F3: แผนก
B4: ตำแหน่งงาน | F4: วัน / เดือน / ปี ที่วิเคราะห์
B8: ที่ | C8: ขั้นตอนการปฏิบัติงาน | D8: เครื่องมือ / วัสดุ / อุปกรณ์ | E8: ความรู้ที่ต้องใช้ | F8: คุณลักษณะ/ทัศนคติ | G8: มาตรฐาน | H8: ความปลอดภัย
D9: ที่ใช้ในการปฏิบัติงาน | E9: ในการปฏิบัติงาน | F9: ที่ต้องใช้ในการปฏิบัติงาน | G9: ในการปฏิบัติงาน | H9: ข้อควรระวัง
B10: 1
B13: 2
B16: 3
B19: 4
B22: 5
B25: 6
B28: 7
A31: ผู้วิเคราะห์ | G31: ผู้ทบทวน | H31: ผู้อนุมัติ

Sheet frm-a1
A1: การวิเคราะห์งาน (Job Analysis : Step)
A3: สถานประกอบการ | E3: แผนก
A4: ตำแหน่งงาน | E4: วัน / เดือน / ปี ที่วิเคราะห์ | F4: =date_analy -> 42149
A8: ที่ | B8: ขั้นตอนการปฏิบัติงาน | C8: เครื่องมือ / วัสดุ / อุปกรณ์ | D8: ความรู้ที่ต้องใช้ | E8: คุณลักษณะ/ทัศนคติ | F8: มาตรฐาน | G8: ความปลอดภัย
C9: ที่ใช้ในการปฏิบัติงาน | D9: ในการปฏิบัติงาน | E9: ที่ต้องใช้ในการปฏิบัติงาน | F9: ในการปฏิบัติงาน | G9: ข้อควรระวัง
A26: ผู้วิเคราะห์ | B26: =IF(analyst1="","",analyst1) -> นางสาว นิตยา ชีแพง | F26: ผู้ทบทวน | G26: ผู้อนุมัติ
B27: =IF(analyst2="","",analyst2) -> นายสันทัย หวังกำกลาง
B28: =IF(analyst3="","",analyst3) -> นายวุฒิพงศ์ อินทะนาม | F28: =IF(review="","",review) | G28: =IF(approvers="","",approvers)
B29: =IF(analyst4="","",analyst4) -> นายวิทยา นิพลกรัง
