Workbook
Name analyst1: Datainfo!$B$6
Name analyst10: Datainfo!$B$15
Name analyst2: Datainfo!$B$7
Name analyst3: Datainfo!$B$8
Name analyst4: Datainfo!$B$9
Name analyst5: Datainfo!$B$10
Name analyst6: Datainfo!$B$11
Name analyst7: Datainfo!$B$12
Name analyst8: Datainfo!$B$13
Name analyst9: Datainfo!$B$14
Name approvers: Datainfo!$B$17
Name company_name: Datainfo!$B$5
Name date_analy: Datainfo!$B$18
Name department: Datainfo!$B$4
Name duty_A: Duty!$B$10
Name duty_B: Duty!$B$13
Name duty_C: Duty!$B$16
Name duty_D: Duty!$B$19
Name duty_E: Duty!$I$10
Name duty_F: Duty!$I$13
Name position: Datainfo!$B$3
Name review: Datainfo!$B$16
Name taskA1: Task!$F$7
Name taskA10: Task!$J$13
Name taskA11: Task!$N$13
Name taskA12: Task!$R$13
Name taskA2: Task!$J$7
Name taskA3: Task!$N$7
Name taskA4: Task!$R$7
Name taskA5: Task!$F$10
Name taskA6: Task!$J$10
Name taskA7: Task!$N$10
Name taskA8: Task!$R$10
Name taskA9: Task!$F$13
Name taskB1: Task!$F$16
Name taskB2: Task!$J$16
Name taskB3: Task!$N$16
Name taskB4: Task!$R$16
Name taskB5: Task!$F$19
Name taskB6: Task!$J$19
Name taskB7: Task!$N$19
Name taskB8: Task!$R$19
Name taskC1: Task!$F$27
Name taskC2: Task!$J$27
Name taskC3: Task!$N$27
Name taskC4: Task!$R$27
Name taskC5: Task!$F$30
Name taskC6: Task!$J$30
Name taskC7: Task!$N$30
Name taskC8: Task!$R$30
Name taskD1: Task!$F$36
Name taskD10: Task!$J$42
Name taskD11: Task!$N$42
Name taskD12: Task!$R$42
Name taskD2: Task!$J$36
Name taskD3: Task!$N$36
Name taskD4: Task!$R$36
Name taskD5: Task!$F$39
Name taskD6: Task!$J$39
Name taskD7: Task!$N$39

Sheet Datainfo
A2: Data สำหรับการออกแบบและพัฒนาหลักสูตรอิงสมรรถนะ
A3: Position | B3: เจ้าหน้าที่ VSTM
A4: Department | B4: แผนกประกอบ
A5: Company Name | B5: บริษัท ทอสเท็ม ประเทศไทย จำกัด
A6: ผู้วิเคราะห์ 1 | B6: นางสาวปิยะมาศ ประทุมทอง
A7: ผู้วิเคราะห์ 2 | B7: นางสาวชูใจ ขำวงค์
A8: ผู้วิเคราะห์ 3 | B8: นางสาวสุธีรา เขียวกันยะ
A9: ผู้วิเคราะห์ 4 | B9: นางนวลฤดี พิมุขกรพงศ์
A10: ผู้วิเคราะห์ 5 | B10: นายวศิน สิงหโยทะกา
A11: ผู้วิเคราะห์ 6 | B11: นายณัฐชานนท์ แสงโชติ
A12: ผู้วิเคราะห์ 7 | B12: นายสมถวิล จันทร์สิงห์
A13: ผู้วิเคราะห์ 8
A14: ผู้วิเคราะห์ 9
A15: ผู้วิเคราะห์ 10
A16: ผู้ทบทวน
A17: ผู้อนุมัติ
A18: วันเดือนปี ที่วิเคราะห์ | B18: 42332

Sheet Duty
A1: การวิเคราะห์งาน (Job Analysis : Duty)
A2: สถานประกอบการ | C2: =company_name -> บริษัท ทอสเท็ม ประเทศไทย จำกัด | I2: แผนก | J2: =department -> แผนกประกอบ
A3: ชื่อตำแหน่งงาน | C3: =position -> เจ้าหน้าที่ VSTM | I3: วัน / เดือน /ปี ที่วิเคราะห์ | L3: =date_analy -> 42332
A5: คำบรรยายลักษณะงานโดยย่อ :
A6: =position&" หมายถึง ผู้ที่มีความรู้ ทักษะ ใน"&duty_A&" "&duty_B&" "&duty_C&" "&duty_D&" "&duty_E&" "&duty_F&" "&duty_E&" " -> เจ้าหน้าที่ VSTM หมายถึง ผู้ที่มีความรู้ ทักษะ ในการรับพนักงานใหม่ การฝึกอบรมพนักงาน การตรวจติดตามพนักงาน การผลิตสื่อการฝึกอบรมพนักงาน
A9: หน้าที่ /งานหลัก : (DUTY)
B10: การรับพนักงานใหม่
B13: การฝึกอบรมพนักงาน
B15: ตรวจติดตาม
B16: การตรวจติดตามพนักงาน
B19: การผลิตสื่อการฝึกอบรมพนักงาน
A22: ผู้วิเคราะห์ | B22: =IF(analyst1="","",analyst1) -> นางสาวปิยะมาศ ประทุมทอง | C22: =IF(analyst1="","",analyst1) -> นางสาวปิยะมาศ ประทุมทอง | D22: =IF(analyst1="","",analyst1) -> นางสาวปิยะมาศ ประทุมทอง | E22: =IF(analyst1="","",analyst5) -> นายวศิน สิงหโยทะกา | F22: =IF(analyst1="","",analyst1) -> นางสาวปิยะมาศ ประทุมทอง | G22: =IF(analyst1="","",analyst1) -> นางสาวปิยะมาศ ประทุมทอง | I22: ผู้ทบทวน | L22: ผู้อนุมัติ
B23: =IF(analyst2="","",analyst2) -> นางสาวชูใจ ขำวงค์ | C23: =IF(analyst2="","",analyst2) -> นางสาวชูใจ ขำวงค์ | D23: =IF(analyst2="","",analyst2) -> นางสาวชูใจ ขำวงค์ | E23: =IF(analyst1="","",analyst6) -> นายณัฐชานนท์ แสงโชติ | F23: =IF(analyst1="","",analyst1) -> นางสาวปิยะมาศ ประทุมทอง | G23: =IF(analyst1="","",analyst1) -> นางสาวปิยะมาศ ประทุมทอง | I23: =IF(review="","",review) | J23: =IF(review="","",review) | K23: =IF(review="","",review) | L23: =IF(approvers="","",approvers) | M23: =IF(approvers="","",approvers) | N23: =IF(approvers="","",approvers)
B24: =IF(analyst3="","",analyst3) -> นางสาวสุธีรา เขียวกันยะ | C24: =IF(analyst3="","",analyst3) -> นางสาวสุธีรา เขียวกันยะ | D24: =IF(analyst3="","",analyst3) -> นางสาวสุธีรา เขียวกันยะ | E24: =IF(analyst1="","",analyst7) -> นายสมถวิล จันทร์สิงห์ | F24: =IF(analyst1="","",analyst1) -> นางสาวปิยะมาศ ประทุมทอง | G24: =IF(analyst1="","",analyst1) -> นางสาวปิยะมาศ ประทุมทอง
B25: =IF(analyst4="","",analyst4) -> นางนวลฤดี พิมุขกรพงศ์ | C25: =IF(analyst4="","",analyst4) -> นางนวลฤดี พิมุขกรพงศ์ | D25: =IF(analyst4="","",analyst4) -> นางนวลฤดี พิมุขกรพงศ์ | I25: ตำแหน่ง | L25: ตำแหน่ง

Sheet Task
B1: การวิเคราะห์งาน (Job Analysis : Task)
B2: สถานประกอบการ | D2: =company_name -> บริษัท ทอสเท็ม ประเทศไทย จำกัด | K2: แผนก | O2: =department -> แผนกประกอบ
B3: ชื่อตำแหน่งงาน | D3: =position -> เจ้าหน้าที่ VSTM | K3: วัน / เดือน /ปี ที่วิเคราะห์ | O3: =date_analy -> 42332
B5: งานหลัก (DUTY) | F5: งานย่อย (Task)
B7: =duty_A -> การรับพนักงานใหม่ | F7: เตรียมเอกสารแบบทดสอบพนักงานใหม่ | J7: ทดสอบภาคทฤษฎีพนักงานใหม่ | N7: ทดสอบภาคปฏิบัติพนักงานใหม่ | R7: สัมภาษณ์พนักงานใหม่
F10: สรุปผลการทดสอบพนักงานใหม่ | J10: แจ้งพนักงานใหม่เข้ารับการอบรม
B16: =duty_B -> การฝึกอบรมพนักงาน | F16: วางแผนการฝึกอบรมพนักงาน | J16: เตรียมอุปกรณ์ในการฝึกอบรมพนักงาน | N16: ฝึกอบรมภาคทฤษฎีพนักงาน | R16: ฝึกภาคปฏิบัติพนักงาน
F19: ส่งพนักงานเข้าไลน์การผลิต | J19: Re-trainning พนักงานเก่า
B27: =duty_C -> การตรวจติดตามพนักงาน | F27: วางแผนการตรวจติดตามพนักงาน | J27: ตรวจติดตามพนักงานใหม่รายสัปดาห์ | N27: ตรวจติดตามพนักงานเก่ารายเดือน | R27: รายงานผลการตรวจติดตามพนักงานประจำเดือน
B36: =duty_D -> การผลิตสื่อการฝึกอบรมพนักงาน | F36: สร้างสื่อการสอนด้วยโปรแกรมเพาเวอร์พ้อยท์ | J36: สร้างสื่อการสอนด้วยมัลติมีเดีย | N36: จัดทำคู่มือการปฏิบัติงาน | R36: จัดทำบอร์ดความรู้ในการปฏิบัติงาน
B46: ผู้วิเคราห์ | C46: =IF(analyst1="","",analyst1) -> นางสาวปิยะมาศ ประทุมทอง | H46: =IF(analyst2="","",analyst7) -> นายสมถวิล จันทร์สิงห์ | N46: ผู้ทบทวน | R46: ผู้อนุมัติ
C47: =IF(analyst2="","",analyst2) -> นางสาวชูใจ ขำวงค์
C48: =IF(analyst3="","",analyst3) -> นางสาวสุธีรา เขียวกันยะ
C49: =IF(analyst4="","",analyst4) -> นางนวลฤดี พิมุขกรพงศ์ | N49: ตำแหน่ง | R49: ตำแหน่ง
C50: =IF(analyst2="","",analyst5) -> นายวศิน สิงหโยทะกา
C51: =IF(analyst2="","",analyst6) -> นายณัฐชานนท์ แสงโชติ

Sheet A1
A1: การวิเคราะห์งาน (Job Analysis : Step)
A3: สถานประกอบการ | C3: =company_name -> บริษัท ทอสเท็ม ประเทศไทย จำกัด | E3: แผนก | F3: =department -> แผนกประกอบ
A4: ตำแหน่งงาน | C4: =position -> เจ้าหน้าที่ VSTM | E4: วัน / เดือน / ปี ที่วิเคราะห์ | F4: =date_analy -> 42332
B6: =duty_A -> การรับพนักงานใหม่ | E6: =taskA1 -> เตรียมเอกสารแบบทดสอบพนักงานใหม่
A8: ที่ | B8: ขั้นตอนการปฏิบัติงาน | C8: เครื่องมือ / วัสดุ / อุปกรณ์ | D8: ความรู้ที่ต้องใช้ | E8: คุณลักษณะ/ทัศนคติ | F8: มาตรฐาน | G8: ความปลอดภัย
C9: ที่ใช้ในการปฏิบัติงาน | D9: ในการปฏิบัติงาน | E9: ที่ต้องใช้ในการปฏิบัติงาน | F9: ในการปฏิบัติงาน | G9: ข้อควรระวัง
A10: 1
A11: 2
A26: ผู้วิเคราะห์ | B26: =IF(analyst1="","",analyst1) -> นางสาวปิยะมาศ ประทุมทอง | C26: =IF(analyst1="","",analyst5) -> นายวศิน สิงหโยทะกา | F26: ผู้ทบทวน | G26: ผู้อนุมัติ
B27: =IF(analyst2="","",analyst2) -> นางสาวชูใจ ขำวงค์ | C27: =IF(analyst1="","",analyst6) -> นายณัฐชานนท์ แสงโชติ
B28: =IF(analyst3="","",analyst3) -> นางสาวสุธีรา เขียวกันยะ | C28: =IF(analyst1="","",analyst7) -> นายสมถวิล จันทร์สิงห์ | F28: =IF(review="","",review) | G28: =IF(approvers="","",approvers)
B29: =IF(analyst4="","",analyst4) -> นางนวลฤดี พิมุขกรพงศ์

Sheet A2
A1: การวิเคราะห์งาน (Job Analysis : Step)
A3: สถานประกอบการ | C3: =company_name -> บริษัท ทอสเท็ม ประเทศไทย จำกัด | E3: แผนก | F3: =department -> แผนกประกอบ
A4: ตำแหน่งงาน | C4: =position -> เจ้าหน้าที่ VSTM | E4: วัน / เดือน / ปี ที่วิเคราะห์ | F4: =date_analy -> 42332
B6: =duty_A -> การรับพนักงานใหม่ | E6: =taskA2 -> ทดสอบภาคทฤษฎีพนักงานใหม่
A8: ที่ | B8: ขั้นตอนการปฏิบัติงาน | C8: เครื่องมือ / วัสดุ / อุปกรณ์ | D8: ความรู้ที่ต้องใช้ | E8: คุณลักษณะ/ทัศนคติ | F8: มาตรฐาน | G8: ความปลอดภัย
C9: ที่ใช้ในการปฏิบัติงาน | D9: ในการปฏิบัติงาน | E9: ที่ต้องใช้ในการปฏิบัติงาน | F9: ในการปฏิบัติงาน | G9: ข้อควรระวัง
A10: 1
A11: 2
A17: ผู้วิเคราะห์ | B17: =IF(analyst1="","",analyst1) -> นางสาวปิยะมาศ ประทุมทอง | C17: =IF(analyst1="","",analyst5) -> นายวศิน สิงหโยทะกา | F17: ผู้ทบทวน | G17: ผู้อนุมัติ
B18: =IF(analyst2="","",analyst2) -> นางสาวชูใจ ขำวงค์ | C18: =IF(analyst1="","",analyst6) -> นายณัฐชานนท์ แสงโชติ
B19: =IF(analyst3="","",analyst3) -> นางสาวสุธีรา เขียวกันยะ | C19: =IF(analyst1="","",analyst7) -> นายสมถวิล จันทร์สิงห์ | F19: =IF(review="","",review) | G19: =IF(approvers="","",approvers)
B20: =IF(analyst4="","",analyst4) -> นางนวลฤดี พิมุขกรพงศ์

Sheet A3
A1: การวิเคราะห์งาน (Job Analysis : Step)
A3: สถานประกอบการ | C3: =company_name -> บริษัท ทอสเท็ม ประเทศไทย จำกัด | E3: แผนก | F3: =department -> แผนกประกอบ
A4: ตำแหน่งงาน | C4: =position -> เจ้าหน้าที่ VSTM | E4: วัน / เดือน / ปี ที่วิเคราะห์ | F4: =date_analy -> 42332
B6: =duty_A -> การรับพนักงานใหม่ | E6: =taskA3 -> ทดสอบภาคปฏิบัติพนักงานใหม่
A8: ที่ | B8: ขั้นตอนการปฏิบัติงาน | C8: เครื่องมือ / วัสดุ / อุปกรณ์ | D8: ความรู้ที่ต้องใช้ | E8: คุณลักษณะ/ทัศนคติ | F8: มาตรฐาน | G8: ความปลอดภัย
C9: ที่ใช้ในการปฏิบัติงาน | D9: ในการปฏิบัติงาน | E9: ที่ต้องใช้ในการปฏิบัติงาน | F9: ในการปฏิบัติงาน | G9: ข้อควรระวัง
A17: ผู้วิเคราะห์ | B17: =IF(analyst1="","",analyst1) -> นางสาวปิยะมาศ ประทุมทอง | C17: =IF(analyst1="","",analyst5) -> นายวศิน สิงหโยทะกา | F17: ผู้ทบทวน | G17: ผู้อนุมัติ
B18: =IF(analyst2="","",analyst2) -> นางสาวชูใจ ขำวงค์ | C18: =IF(analyst1="","",analyst6) -> นายณัฐชานนท์ แสงโชติ
B19: =IF(analyst3="","",analyst3) -> นางสาวสุธีรา เขียวกันยะ | C19: =IF(analyst1="","",analyst7) -> นายสมถวิล จันทร์สิงห์ | F19: =IF(review="","",review) | G19: =IF(approvers="","",approvers)
B20: =IF(analyst4="","",analyst4) -> นางนวลฤดี พิมุขกรพงศ์

Sheet A4
A1: การวิเคราะห์งาน (Job Analysis : Step)
A3: สถานประกอบการ | C3: =company_name -> บริษัท ทอสเท็ม ประเทศไทย จำกัด | E3: แผนก | F3: =department -> แผนกประกอบ
A4: ตำแหน่งงาน | C4: =position -> เจ้าหน้าที่ VSTM | E4: วัน / เดือน / ปี ที่วิเคราะห์ | F4: =date_analy -> 42332
B6: =duty_A -> การรับพนักงานใหม่ | E6: =Task!R7 -> สัมภาษณ์พนักงานใหม่
A8: ที่ | B8: ขั้นตอนการปฏิบัติงาน | C8: เครื่องมือ / วัสดุ / อุปกรณ์ | D8: ความรู้ที่ต้องใช้ | E8: คุณลักษณะ/ทัศนคติ | F8: มาตรฐาน | G8: ความปลอดภัย
C9: ที่ใช้ในการปฏิบัติงาน | D9: ในการปฏิบัติงาน | E9: ที่ต้องใช้ในการปฏิบัติงาน | F9: ในการปฏิบัติงาน | G9: ข้อควรระวัง
A17: ผู้วิเคราะห์ | B17: =IF(analyst1="","",analyst1) -> นางสาวปิยะมาศ ประทุมทอง | C17: =IF(analyst1="","",analyst5) -> นายวศิน สิงหโยทะกา | F17: ผู้ทบทวน | G17: ผู้อนุมัติ
B18: =IF(analyst2="","",analyst2) -> นางสาวชูใจ ขำวงค์ | C18: =IF(analyst1="","",analyst6) -> นายณัฐชานนท์ แสงโชติ
B19: =IF(analyst3="","",analyst3) -> นางสาวสุธีรา เขียวกันยะ | C19: =IF(analyst1="","",analyst7) -> นายสมถวิล จันทร์สิงห์ | F19: =IF(review="","",review) | G19: =IF(approvers="","",approvers)
B20: =IF(analyst4="","",analyst4) -> นางนวลฤดี พิมุขกรพงศ์

Sheet A5
A1: การวิเคราะห์งาน (Job Analysis : Step)
A3: สถานประกอบการ | C3: =company_name -> บริษัท ทอสเท็ม ประเทศไทย จำกัด | E3: แผนก | F3: =department -> แผนกประกอบ
A4: ตำแหน่งงาน | C4: =position -> เจ้าหน้าที่ VSTM | E4: วัน / เดือน / ปี ที่วิเคราะห์ | F4: =date_analy -> 42332
B6: =duty_A -> การรับพนักงานใหม่ | E6: =Task!F10 -> สรุปผลการทดสอบพนักงานใหม่
A8: ที่ | B8: ขั้นตอนการปฏิบัติงาน | C8: เครื่องมือ / วัสดุ / อุปกรณ์ | D8: ความรู้ที่ต้องใช้ | E8: คุณลักษณะ/ทัศนคติ | F8: มาตรฐาน | G8: ความปลอดภัย
C9: ที่ใช้ในการปฏิบัติงาน | D9: ในการปฏิบัติงาน | E9: ที่ต้องใช้ในการปฏิบัติงาน | F9: ในการปฏิบัติงาน | G9: ข้อควรระวัง
A17: ผู้วิเคราะห์ | B17: =IF(analyst1="","",analyst1) -> นางสาวปิยะมาศ ประทุมทอง | C17: =IF(analyst1="","",analyst5) -> นายวศิน สิงหโยทะกา | F17: ผู้ทบทวน | G17: ผู้อนุมัติ
B18: =IF(analyst2="","",analyst2) -> นางสาวชูใจ ขำวงค์ | C18: =IF(analyst1="","",analyst6) -> นายณัฐชานนท์ แสงโชติ
B19: =IF(analyst3="","",analyst3) -> นางสาวสุธีรา เขียวกันยะ | C19: =IF(analyst1="","",analyst7) -> นายสมถวิล จันทร์สิงห์ | F19: =IF(review="","",review) | G19: =IF(approvers="","",approvers)
B20: =IF(analyst4="","",analyst4) -> นางนวลฤดี พิมุขกรพงศ์

Sheet A6
A1: การวิเคราะห์งาน (Job Analysis : Step)
A3: สถานประกอบการ | C3: =company_name -> บริษัท ทอสเท็ม ประเทศไทย จำกัด | E3: แผนก | F3: =department -> แผนกประกอบ
A4: ตำแหน่งงาน | C4: =position -> เจ้าหน้าที่ VSTM | E4: วัน / เดือน / ปี ที่วิเคราะห์ | F4: =date_analy -> 42332
B6: =duty_A -> การรับพนักงานใหม่ | E6: =Task!J10 -> แจ้งพนักงานใหม่เข้ารับการอบรม
A8: ที่ | B8: ขั้นตอนการปฏิบัติงาน | C8: เครื่องมือ / วัสดุ / อุปกรณ์ | D8: ความรู้ที่ต้องใช้ | E8: คุณลักษณะ/ทัศนคติ | F8: มาตรฐาน | G8: ความปลอดภัย
C9: ที่ใช้ในการปฏิบัติงาน | D9: ในการปฏิบัติงาน | E9: ที่ต้องใช้ในการปฏิบัติงาน | F9: ในการปฏิบัติงาน | G9: ข้อควรระวัง
A17: ผู้วิเคราะห์ | B17: =IF(analyst1="","",analyst1) -> นางสาวปิยะมาศ ประทุมทอง | C17: =IF(analyst1="","",analyst5) -> นายวศิน สิงหโยทะกา | F17: ผู้ทบทวน | G17: ผู้อนุมัติ
B18: =IF(analyst2="","",analyst2) -> นางสาวชูใจ ขำวงค์ | C18: =IF(analyst1="","",analyst6) -> นายณัฐชานนท์ แสงโชติ
B19: =IF(analyst3="","",analyst3) -> นางสาวสุธีรา เขียวกันยะ | C19: =IF(analyst1="","",analyst7) -> นายสมถวิล จันทร์สิงห์ | F19: =IF(review="","",review) | G19: =IF(approvers="","",approvers)
B20: =IF(analyst4="","",analyst4) -> นางนวลฤดี พิมุขกรพงศ์

Sheet B1
A1: การวิเคราะห์งาน (Job Analysis : Step)
A3: สถานประกอบการ | C3: =company_name -> บริษัท ทอสเท็ม ประเทศไทย จำกัด | E3: แผนก | F3: =department -> แผนกประกอบ
A4: ตำแหน่งงาน | C4: =position -> เจ้าหน้าที่ VSTM | E4: วัน / เดือน / ปี ที่วิเคราะห์ | F4: =date_analy -> 42332
B6: =duty_B -> การฝึกอบรมพนักงาน | E6: =taskB1 -> วางแผนการฝึกอบรมพนักงาน
A8: ที่ | B8: ขั้นตอนการปฏิบัติงาน | C8: เครื่องมือ / วัสดุ / อุปกรณ์ | D8: ความรู้ที่ต้องใช้ | E8: คุณลักษณะ/ทัศนคติ | F8: มาตรฐาน | G8: ความปลอดภัย
C9: ที่ใช้ในการปฏิบัติงาน | D9: ในการปฏิบัติงาน | E9: ที่ต้องใช้ในการปฏิบัติงาน | F9: ในการปฏิบัติงาน | G9: ข้อควรระวัง
A10: 1
A11: 2
A17: ผู้วิเคราะห์ | B17: =IF(analyst1="","",analyst1) -> นางสาวปิยะมาศ ประทุมทอง | C17: =IF(analyst1="","",analyst5) -> นายวศิน สิงหโยทะกา | F17: ผู้ทบทวน | G17: ผู้อนุมัติ
B18: =IF(analyst2="","",analyst2) -> นางสาวชูใจ ขำวงค์ | C18: =IF(analyst1="","",analyst6) -> นายณัฐชานนท์ แสงโชติ
B19: =IF(analyst3="","",analyst3) -> นางสาวสุธีรา เขียวกันยะ | C19: =IF(analyst1="","",analyst7) -> นายสมถวิล จันทร์สิงห์ | F19: =IF(review="","",review) | G19: =IF(approvers="","",approvers)
B20: =IF(analyst4="","",analyst4) -> นางนวลฤดี พิมุขกรพงศ์

Sheet B2
A1: การวิเคราะห์งาน (Job Analysis : Step)
A3: สถานประกอบการ | C3: =company_name -> บริษัท ทอสเท็ม ประเทศไทย จำกัด | E3: แผนก | F3: =department -> แผนกประกอบ
A4: ตำแหน่งงาน | C4: =position -> เจ้าหน้าที่ VSTM | E4: วัน / เดือน / ปี ที่วิเคราะห์ | F4: =date_analy -> 42332
B6: =duty_B -> การฝึกอบรมพนักงาน | E6: =taskB2 -> เตรียมอุปกรณ์ในการฝึกอบรมพนักงาน
A8: ที่ | B8: ขั้นตอนการปฏิบัติงาน | C8: เครื่องมือ / วัสดุ / อุปกรณ์ | D8: ความรู้ที่ต้องใช้ | E8: คุณลักษณะ/ทัศนคติ | F8: มาตรฐาน | G8: ความปลอดภัย
C9: ที่ใช้ในการปฏิบัติงาน | D9: ในการปฏิบัติงาน | E9: ที่ต้องใช้ในการปฏิบัติงาน | F9: ในการปฏิบัติงาน | G9: ข้อควรระวัง
A10: 1
A11: 2
A12: 3
A13: 4
A17: ผู้วิเคราะห์ | B17: =IF(analyst1="","",analyst1) -> นางสาวปิยะมาศ ประทุมทอง | C17: =IF(analyst1="","",analyst5) -> นายวศิน สิงหโยทะกา | F17: ผู้ทบทวน | G17: ผู้อนุมัติ
B18: =IF(analyst2="","",analyst2) -> นางสาวชูใจ ขำวงค์ | C18: =IF(analyst1="","",analyst6) -> นายณัฐชานนท์ แสงโชติ
B19: =IF(analyst3="","",analyst3) -> นางสาวสุธีรา เขียวกันยะ | C19: =IF(analyst1="","",analyst7) -> นายสมถวิล จันทร์สิงห์ | F19: =IF(review="","",review) | G19: =IF(approvers="","",approvers)
B20: =IF(analyst4="","",analyst4) -> นางนวลฤดี พิมุขกรพงศ์

Sheet B3
A1: การวิเคราะห์งาน (Job Analysis : Step)
A3: สถานประกอบการ | C3: =company_name -> บริษัท ทอสเท็ม ประเทศไทย จำกัด | E3: แผนก | F3: =department -> แผนกประกอบ
A4: ตำแหน่งงาน | C4: =position -> เจ้าหน้าที่ VSTM | E4: วัน / เดือน / ปี ที่วิเคราะห์ | F4: =date_analy -> 42332
B6: =duty_B -> การฝึกอบรมพนักงาน | E6: =taskB3 -> ฝึกอบรมภาคทฤษฎีพนักงาน
A8: ที่ | B8: ขั้นตอนการปฏิบัติงาน | C8: เครื่องมือ / วัสดุ / อุปกรณ์ | D8: ความรู้ที่ต้องใช้ | E8: คุณลักษณะ/ทัศนคติ | F8: มาตรฐาน | G8: ความปลอดภัย
C9: ที่ใช้ในการปฏิบัติงาน | D9: ในการปฏิบัติงาน | E9: ที่ต้องใช้ในการปฏิบัติงาน | F9: ในการปฏิบัติงาน | G9: ข้อควรระวัง
A10: 1
A11: 2
A12: 3
A17: ผู้วิเคราะห์ | B17: =IF(analyst1="","",analyst1) -> นางสาวปิยะมาศ ประทุมทอง | C17: =IF(analyst1="","",analyst5) -> นายวศิน สิงหโยทะกา | F17: ผู้ทบทวน | G17: ผู้อนุมัติ
B18: =IF(analyst2="","",analyst2) -> นางสาวชูใจ ขำวงค์ | C18: =IF(analyst1="","",analyst6) -> นายณัฐชานนท์ แสงโชติ
B19: =IF(analyst3="","",analyst3) -> นางสาวสุธีรา เขียวกันยะ | C19: =IF(analyst1="","",analyst7) -> นายสมถวิล จันทร์สิงห์ | F19: =IF(review="","",review) | G19: =IF(approvers="","",approvers)
B20: =IF(analyst4="","",analyst4) -> นางนวลฤดี พิมุขกรพงศ์

Sheet B4
A1: การวิเคราะห์งาน (Job Analysis : Step)
A3: สถานประกอบการ | C3: =company_name -> บริษัท ทอสเท็ม ประเทศไทย จำกัด | E3: แผนก | F3: =department -> แผนกประกอบ
A4: ตำแหน่งงาน | C4: =position -> เจ้าหน้าที่ VSTM | E4: วัน / เดือน / ปี ที่วิเคราะห์ | F4: =date_analy -> 42332
B6: =duty_B -> การฝึกอบรมพนักงาน | E6: =Task!R16 -> ฝึกภาคปฏิบัติพนักงาน
A8: ที่ | B8: ขั้นตอนการปฏิบัติงาน | C8: เครื่องมือ / วัสดุ / อุปกรณ์ | D8: ความรู้ที่ต้องใช้ | E8: คุณลักษณะ/ทัศนคติ | F8: มาตรฐาน | G8: ความปลอดภัย
C9: ที่ใช้ในการปฏิบัติงาน | D9: ในการปฏิบัติงาน | E9: ที่ต้องใช้ในการปฏิบัติงาน | F9: ในการปฏิบัติงาน | G9: ข้อควรระวัง
A17: ผู้วิเคราะห์ | B17: =IF(analyst1="","",analyst1) -> นางสาวปิยะมาศ ประทุมทอง | F17: ผู้ทบทวน | G17: ผู้อนุมัติ
B18: =IF(analyst2="","",analyst2) -> นางสาวชูใจ ขำวงค์
B19: =IF(analyst3="","",analyst3) -> นางสาวสุธีรา เขียวกันยะ | F19: =IF(review="","",review) | G19: =IF(approvers="","",approvers)
B20: =IF(analyst4="","",analyst4) -> นางนวลฤดี พิมุขกรพงศ์

Sheet B5
A1: การวิเคราะห์งาน (Job Analysis : Step)
A3: สถานประกอบการ | C3: =company_name -> บริษัท ทอสเท็ม ประเทศไทย จำกัด | E3: แผนก | F3: =department -> แผนกประกอบ
A4: ตำแหน่งงาน | C4: =position -> เจ้าหน้าที่ VSTM | E4: วัน / เดือน / ปี ที่วิเคราะห์ | F4: =date_analy -> 42332
B6: =duty_B -> การฝึกอบรมพนักงาน | E6: =Task!F19 -> ส่งพนักงานเข้าไลน์การผลิต
A8: ที่ | B8: ขั้นตอนการปฏิบัติงาน | C8: เครื่องมือ / วัสดุ / อุปกรณ์ | D8: ความรู้ที่ต้องใช้ | E8: คุณลักษณะ/ทัศนคติ | F8: มาตรฐาน | G8: ความปลอดภัย
C9: ที่ใช้ในการปฏิบัติงาน | D9: ในการปฏิบัติงาน | E9: ที่ต้องใช้ในการปฏิบัติงาน | F9: ในการปฏิบัติงาน | G9: ข้อควรระวัง
A18: ผู้วิเคราะห์ | B18: =IF(analyst1="","",analyst1) -> นางสาวปิยะมาศ ประทุมทอง | C18: =IF(analyst4="","",analyst5) -> นายวศิน สิงหโยทะกา | F18: ผู้ทบทวน | G18: ผู้อนุมัติ
B19: =IF(analyst2="","",analyst2) -> นางสาวชูใจ ขำวงค์ | C19: =IF(analyst4="","",analyst6) -> นายณัฐชานนท์ แสงโชติ
B20: =IF(analyst3="","",analyst3) -> นางสาวสุธีรา เขียวกันยะ | C20: =IF(analyst4="","",analyst7) -> นายสมถวิล จันทร์สิงห์ | F20: =IF(review="","",review) | G20: =IF(approvers="","",approvers)
B21: =IF(analyst4="","",analyst4) -> นางนวลฤดี พิมุขกรพงศ์

Sheet B6
A1: การวิเคราะห์งาน (Job Analysis : Step)
A3: สถานประกอบการ | C3: =company_name -> บริษัท ทอสเท็ม ประเทศไทย จำกัด | E3: แผนก | F3: =department -> แผนกประกอบ
A4: ตำแหน่งงาน | C4: =position -> เจ้าหน้าที่ VSTM | E4: วัน / เดือน / ปี ที่วิเคราะห์ | F4: =date_analy -> 42332
B6: =duty_B -> การฝึกอบรมพนักงาน | E6: =Task!J19 -> Re-trainning พนักงานเก่า
A8: ที่ | B8: ขั้นตอนการปฏิบัติงาน | C8: เครื่องมือ / วัสดุ / อุปกรณ์ | D8: ความรู้ที่ต้องใช้ | E8: คุณลักษณะ/ทัศนคติ | F8: มาตรฐาน | G8: ความปลอดภัย
C9: ที่ใช้ในการปฏิบัติงาน | D9: ในการปฏิบัติงาน | E9: ที่ต้องใช้ในการปฏิบัติงาน | F9: ในการปฏิบัติงาน | G9: ข้อควรระวัง
A10: 1 | B10: กำหนดแผนฝึกอบรมพนักงาน | C10: คอมพิวเตอร์ ปริ้นเตอร์ กระดาษ | D10: การใช้โปรแกรม MS-OFFICE | E10: ละเอียด รอบคอบ | F10: ทำแผนการ Re - training ทุกเดือนครบทุกหัวข้อ | G10: กระดาษบาดมือ ไฟดูด
A11: 2 | B11: แจ้งแผนการฝึกอบรมให้หัวหน้าโรงงาน | C11: กระดาษ | D11: ลำดับขั้นในการแจ้ง วิธีการสื่อสารได้อย่างถูกต้อง | E11: มีความรับผิดชอบ ตรงต่อเวลา | F11: ส่งแผนครบถ้วน ตรงเวลาที่กำหนด | G11: ส่งเอกสารครบถ้วน
A12: 3 | B12: จัดเตรียมสื่อการฝึกอบรมพนักงาน | C12: คอมพิวเตอร์ ปริ้นเตอร์ แบบทดสอบ คู่มือการปฏิบัติงาน โปรเจคเตอร์ บอร์ด สื่อมัลติมีเดีย | D12: ความรู้เกี่ยวกับการจัดฝึกอบรม | E12: ละเอียด รอบคอบ มีความรับผิดชอบ ตรงต่อเวลา | F12: จัดเตรียมสื่อ อุปกรณ์การฝึกอบรมครบถ้วน | G12: ระวังคอมพิวเตอร์ ปริ้นเตอร์ กระดาษ คู่มือการปฏิบัติงาน โปรเจคเตอร์ บอร์ด ไม่รับความเสียหาย
A13: 4 | B13: อบรมพนักงานตามแผนการฝึกอบรม | C13: คอมพิวเตอร์ ปริ้นเตอร์ แบบทดสอบ คู่มือการปฏิบัติงาน โปรเจคเตอร์ บอร์ด สื่อมัลติมีเดีย | D13: คอมพิวเตอร์ ปริ้นเตอร์ กระดาษ คู่มือการปฏิบัติงาน โปรเจคเตอร์ บอร์ด สื่อมัลติมีเดีย การใช้โปรแกรม MS-powerpoint การใช้โปรแกรมมัลติมีเดีย เทคนิคการสอนงาน | E13: มีทัศนคติที่ดีต่อหน่วยงาน มีความอดทนอดกลั้น มีการควบคุมอารมณ์ | F13: สามารถฝึกอบรมให้พนักงานปฏิบัติงานได้อย่างถูกต้อง ตามรูปแบบและเวลาที่กำหนด | G13: ระวังการใช้เครื่องมือในการฝึกอบรม ระวังการใช้คำในการฝึกอบรม
A14: 5 | B14: ทดสอบหลังการฝึกอบรมพนักงาน | C14: แบบทดสอบ ชุดอุปกรณ์ฝึกตามไลน์การผลิต | D14: มีความชำนาญในการทดสอบ ความรู้ในการปฏิบัติงานแต่ละขั้นตอนของไลน์การผลิต | E14: มีทัศนคติที่ดีต่อหน่วยงาน มีความอดทนอดกลั้น มีการควบคุมอารมณ์ | F14: สามารถทดสอบให้พนักงานผ่านได้ตามเกณฑ์ของบริษัทกำหนด | G14: ตามหลักความปลอดภัยในการทำงานของบริษัท
A15: 6 | B15: ประเมินผลการฝึกอบรมพนักงาน | C15: ใบเช็คชีท ปากกา | D15: ความรู้ในการปฏิบัติงานแต่ละขั้นตอนของไลน์การผลิต | E15: ไม่มีอคติ ละเอียด ช่างสังเกต | F15: ต้องบันทึกผลการประเมินให้ถูกต้อง ครบถ้วน ตามความเป็นจริง | G15: เรียงลำดับตามหัวข้อที่กำหนด
A16: 7 | B16: บันทึกข้อมูลในคอมพิวเตอร์และจัดเก็บในแฟ้มเอกสาร | C16: คอมพิวเตอร์ ปริ้นเตอร์ กระดาษ แฟ้มเอกสาร | D16: การใช้โปรแกรม MS-OFFICE | E16: ละเอียด รอบคอบ | F16: ต้องบันทึกข้อมูลในฐานข้อมูลให้ถูกต้อง ครบถ้วน ตามความเป็นจริง | G16: ไฟดูด กระดาษบาดมือ กรอกข้อมูลสลับบุคคล
A18: ผู้วิเคราะห์ | B18: =IF(analyst1="","",analyst1) -> นางสาวปิยะมาศ ประทุมทอง | C18: =IF(analyst4="","",analyst5) -> นายวศิน สิงหโยทะกา | F18: ผู้ทบทวน | G18: ผู้อนุมัติ
B19: =IF(analyst2="","",analyst2) -> นางสาวชูใจ ขำวงค์ | C19: =IF(analyst4="","",analyst6) -> นายณัฐชานนท์ แสงโชติ
B20: =IF(analyst3="","",analyst3) -> นางสาวสุธีรา เขียวกันยะ | C20: =IF(analyst4="","",analyst7) -> นายสมถวิล จันทร์สิงห์ | F20: =IF(review="","",review) | G20: =IF(approvers="","",approvers)
B21: =IF(analyst4="","",analyst4) -> นางนวลฤดี พิมุขกรพงศ์

Sheet C1
A1: การวิเคราะห์งาน (Job Analysis : Step)
A3: สถานประกอบการ | C3: =company_name -> บริษัท ทอสเท็ม ประเทศไทย จำกัด | E3: แผนก | F3: =department -> แผนกประกอบ
A4: ตำแหน่งงาน | C4: =position -> เจ้าหน้าที่ VSTM | E4: วัน / เดือน / ปี ที่วิเคราะห์ | F4: =date_analy -> 42332
B6: =duty_C -> การตรวจติดตามพนักงาน | E6: =taskC1 -> วางแผนการตรวจติดตามพนักงาน
A8: ที่ | B8: ขั้นตอนการปฏิบัติงาน | C8: เครื่องมือ / วัสดุ / อุปกรณ์ | D8: ความรู้ที่ต้องใช้ | E8: คุณลักษณะ/ทัศนคติ | F8: มาตรฐาน | G8: ความปลอดภัย
C9: ที่ใช้ในการปฏิบัติงาน | D9: ในการปฏิบัติงาน | E9: ที่ต้องใช้ในการปฏิบัติงาน | F9: ในการปฏิบัติงาน | G9: ข้อควรระวัง
A10: 1 | B10: เตรียมแบบฟอร์มการตรวจติดตามพนักงาน | C10: คอมพิวเตอร์ ปริ้นเตอร์ กระดาษ | D10: การใช้โปรแกรม MS-OFFICE | E10: ละเอียด รอบคอบ | F10: ได้แบบฟอร์มใบเช็คชีทที่ถูกต้องตามที่บริษัทกำหนด | G10: กระดาษบาดมือ ไฟดูด
A11: 2 | B11: กำหนดวันเข้าตรวจติดตามพนักงาน | C11: กระดาษ คอมพิวเตอร์ โปรเจคเตอร์ | D11: การใช้โปรแกรม MS-OFFICE | E11: ละเอียด รอบคอบ | F11: ส่งแผนการตรวจทุกเดือน | G11: กระดาษบาดมือ ไฟดูด
A12: 3 | B12: แจ้งแผนการตรวจติดตามให้หัวหน้าลายการผลิต | C12: กระดาษ | D12: การสื่อสารได้อย่างถูกต้อง | E12: ละเอียด รอบคอบ | F12: ส่งแผนการตรวจทุกเดือน | G12: กระดาษบาดมือ ไฟดูด
A17: ผู้วิเคราะห์ | B17: =IF(analyst1="","",analyst1) -> นางสาวปิยะมาศ ประทุมทอง | C17: =IF(analyst1="","",analyst5) -> นายวศิน สิงหโยทะกา | F17: ผู้ทบทวน | G17: ผู้อนุมัติ
B18: =IF(analyst2="","",analyst2) -> นางสาวชูใจ ขำวงค์ | C18: =IF(analyst1="","",analyst6) -> นายณัฐชานนท์ แสงโชติ
B19: =IF(analyst3="","",analyst3) -> นางสาวสุธีรา เขียวกันยะ | C19: =IF(analyst1="","",analyst7) -> นายสมถวิล จันทร์สิงห์ | F19: =IF(review="","",review) | G19: =IF(approvers="","",approvers)
B20: =IF(analyst4="","",analyst4) -> นางนวลฤดี พิมุขกรพงศ์

Sheet C2
A1: การวิเคราะห์งาน (Job Analysis : Step)
A3: สถานประกอบการ | C3: =company_name -> บริษัท ทอสเท็ม ประเทศไทย จำกัด | E3: แผนก | F3: =department -> แผนกประกอบ
A4: ตำแหน่งงาน | C4: =position -> เจ้าหน้าที่ VSTM | E4: วัน / เดือน / ปี ที่วิเคราะห์ | F4: =date_analy -> 42332
B6: =duty_C -> การตรวจติดตามพนักงาน | E6: =taskC2 -> ตรวจติดตามพนักงานใหม่รายสัปดาห์
A8: ที่ | B8: ขั้นตอนการปฏิบัติงาน | C8: เครื่องมือ / วัสดุ / อุปกรณ์ | D8: ความรู้ที่ต้องใช้ | E8: คุณลักษณะ/ทัศนคติ | F8: มาตรฐาน | G8: ความปลอดภัย
C9: ที่ใช้ในการปฏิบัติงาน | D9: ในการปฏิบัติงาน | E9: ที่ต้องใช้ในการปฏิบัติงาน | F9: ในการปฏิบัติงาน | G9: ข้อควรระวัง
A10: 1 | B10: ถาม/ตอบ one by one และสังเกตพฤติกรรม | C10: ดลิ้ปบอร์ด ใบเช็คชีท ปากกา | D10: ความรู้ในการปฏิบัติงานแต่ละขั้นตอน | E10: ไม่มีอคติ ละเอียด ช่างสังเกต | F10: สอบถามครบถ้วนทุกข้อที่กำหนด | G10: เรียงลำดับตามหัวข้อที่กำหนด
A11: 2 | B11: ประเมิน | C11: ดลิ้ปบอร์ด ใบเช็คชีท ปากกา | D11: ความรู้ในการปฏิบัติงานแต่ละขั้นตอน | E11: ไม่มีอคติ ละเอียด ช่างสังเกต | F11: ต้องบันทึกผลการประเมินให้ถูกต้อง ครบถ้วน ตามความเป็นจริง | G11: เรียงลำดับตามหัวข้อที่กำหนด
A12: 3 | B12: แจ้งหัวหน้างาน | C12: แผนการตรวจ, ใบเช็คชีท | D12: ลำดับขั้นในการแจ้ง วิธีการสื่อสารได้อย่างถูกต้อง | E12: จิตวิทยาในการพูด | F12: หัวหน้างานลงลายมือชื่อเมื่อครบ 4 ครั้ง | G12: ส่งเอกสารครบถ้วน
A13: 4 | B13: จัดเก็บข้อมูล | C13: คอมพิวเตอร์ ปริ้นเตอร์ กระดาษ แฟ้มเอกสาร | D13: การใช้โปรแกรม MS-OFFICE | E13: ละเอียด รอบคอบ | F13: ต้องจัดเก็บข้อมูลให้ถูกต้อง ครบถ้วน ตามความเป็นจริง | G13: ไฟดูด กระดาษบาดมือ กรอกข้อมูลสลับบุคคล
A16: ผู้วิเคราะห์ | B16: =IF(analyst1="","",analyst1) -> นางสาวปิยะมาศ ประทุมทอง | C16: =IF(analyst1="","",analyst5) -> นายวศิน สิงหโยทะกา | F16: ผู้ทบทวน | G16: ผู้อนุมัติ
B17: =IF(analyst2="","",analyst2) -> นางสาวชูใจ ขำวงค์ | C17: =IF(analyst1="","",analyst6) -> นายณัฐชานนท์ แสงโชติ
B18: =IF(analyst3="","",analyst3) -> นางสาวสุธีรา เขียวกันยะ | C18: =IF(analyst1="","",analyst7) -> นายสมถวิล จันทร์สิงห์ | F18: =IF(review="","",review) | G18: =IF(approvers="","",approvers)
B19: =IF(analyst4="","",analyst4) -> นางนวลฤดี พิมุขกรพงศ์

Sheet C3
A1: การวิเคราะห์งาน (Job Analysis : Step)
A3: สถานประกอบการ | C3: =company_name -> บริษัท ทอสเท็ม ประเทศไทย จำกัด | E3: แผนก | F3: =department -> แผนกประกอบ
A4: ตำแหน่งงาน | C4: =position -> เจ้าหน้าที่ VSTM | E4: วัน / เดือน / ปี ที่วิเคราะห์ | F4: =date_analy -> 42332
B6: =duty_C -> การตรวจติดตามพนักงาน | E6: =taskC3 -> ตรวจติดตามพนักงานเก่ารายเดือน
A8: ที่ | B8: ขั้นตอนการปฏิบัติงาน | C8: เครื่องมือ / วัสดุ / อุปกรณ์ | D8: ความรู้ที่ต้องใช้ | E8: คุณลักษณะ/ทัศนคติ | F8: มาตรฐาน | G8: ความปลอดภัย
C9: ที่ใช้ในการปฏิบัติงาน | D9: ในการปฏิบัติงาน | E9: ที่ต้องใช้ในการปฏิบัติงาน | F9: ในการปฏิบัติงาน | G9: ข้อควรระวัง
A10: 1 | B10: เตรียมแบบฟอร์ม | C10: คอมพิวเตอร์ ปริ้นเตอร์ กระดาษ | D10: การใช้โปรแกรม MS-OFFICE | E10: ละเอียด รอบคอบ | F10: ได้แบบฟอร์มใบเช็คชีทที่ถูกต้องตามที่บริษัทกำหนด | G10: กระดาษบาดมือ ไฟดูด
A11: 2 | B11: ถาม/ตอบ one by one และสังเกตพฤติกรรม | C11: ดลิ้ปบอร์ด ใบเช็คชีท ปากกา | D11: ความรู้ในการปฏิบัติงานแต่ละขั้นตอน | E11: ไม่มีอคติ ละเอียด ช่างสังเกต | F11: สอบถามครบถ้วนทุกข้อที่กำหนด | G11: เรียงลำดับตามหัวข้อที่กำหนด
A12: 3 | B12: ประเมิน | C12: ดลิ้ปบอร์ด ใบเช็คชีท ปากกา | D12: ความรู้ในการปฏิบัติงานแต่ละขั้นตอน | E12: ไม่มีอคติ ละเอียด ช่างสังเกต | F12: ต้องบันทึกผลการประเมินให้ถูกต้อง ครบถ้วน ตามความเป็นจริง | G12: เรียงลำดับตามหัวข้อที่กำหนด
A13: 4 | B13: แจ้งหัวหน้างาน | C13: แผนการตรวจ, ใบเช็คชีท | D13: ลำดับขั้นในการแจ้ง วิธีการสื่อสารได้อย่างถูกต้อง | E13: จิตวิทยาในการพูด | F13: หัวหน้างานลงลายมือชื่อเมื่อครบ 4 ครั้ง | G13: ส่งเอกสารครบถ้วน
A14: 5 | B14: จัดเก็บข้อมูล | C14: คอมพิวเตอร์ ปริ้นเตอร์ กระดาษ แฟ้มเอกสาร | D14: การใช้โปรแกรม MS-OFFICE | E14: ละเอียด รอบคอบ | F14: ต้องจัดเก็บข้อมูลให้ถูกต้อง ครบถ้วน ตามความเป็นจริง | G14: ไฟดูด กระดาษบาดมือ กรอกข้อมูลสลับบุคคล
A17: ผู้วิเคราะห์ | B17: =IF(analyst1="","",analyst1) -> นางสาวปิยะมาศ ประทุมทอง | C17: =IF(analyst1="","",analyst5) -> นายวศิน สิงหโยทะกา | F17: ผู้ทบทวน | G17: ผู้อนุมัติ
B18: =IF(analyst2="","",analyst2) -> นางสาวชูใจ ขำวงค์ | C18: =IF(analyst1="","",analyst6) -> นายณัฐชานนท์ แสงโชติ
B19: =IF(analyst3="","",analyst3) -> นางสาวสุธีรา เขียวกันยะ | C19: =IF(analyst1="","",analyst7) -> นายสมถวิล จันทร์สิงห์ | F19: =IF(review="","",review) | G19: =IF(approvers="","",approvers)
B20: =IF(analyst4="","",analyst4) -> นางนวลฤดี พิมุขกรพงศ์

Sheet C4
A1: การวิเคราะห์งาน (Job Analysis : Step)
A3: สถานประกอบการ | C3: =company_name -> บริษัท ทอสเท็ม ประเทศไทย จำกัด | E3: แผนก | F3: =department -> แผนกประกอบ
A4: ตำแหน่งงาน | C4: =position -> เจ้าหน้าที่ VSTM | E4: วัน / เดือน / ปี ที่วิเคราะห์ | F4: =date_analy -> 42332
B6: =duty_C -> การตรวจติดตามพนักงาน | E6: =taskC4 -> รายงานผลการตรวจติดตามพนักงานประจำเดือน
A8: ที่ | B8: ขั้นตอนการปฏิบัติงาน | C8: เครื่องมือ / วัสดุ / อุปกรณ์ | D8: ความรู้ที่ต้องใช้ | E8: คุณลักษณะ/ทัศนคติ | F8: มาตรฐาน | G8: ความปลอดภัย
C9: ที่ใช้ในการปฏิบัติงาน | D9: ในการปฏิบัติงาน | E9: ที่ต้องใช้ในการปฏิบัติงาน | F9: ในการปฏิบัติงาน | G9: ข้อควรระวัง
A10: 1 | B10: รวบรวมข้อมูลการตรวจติดตามพนักงาน | C10: ใบเช็คชีท | D10: ความรู้ในการปฏิบัติงานแต่ละขั้นตอน ตามใบเช็คชีท | E10: ไม่มีอคติในการทำงาน | F10: ต้องรวบรวมข้อมูลการตรวจติดตามพนักงานให้ถูกต้อง ครบถ้วน ตามความเป็นจริง | G10: กระดาษบาดมือ เอกสารสูญหาย
A11: 2 | B11: สรุปผลพนักงานผ่านการตรวจติดตาม | C11: ใบเช็คชีท คอมพิวเตอร์ | D11: การใช้โปรแกรมเพาเวอร์พ้อยท์ | E11: ไม่มีอคติในการทำงาน | F11: ต้องสรุปผลให้ถูกต้อง ครบถ้วน ตามความเป็นจริง | G11: กระดาษบาดมือ ไฟดูด
A12: 3 | B12: สรุปผลพนักงานไม่ผ่านการตรวจติดตาม | C12: ใบเช็คชีท คอมพิวเตอร์ | D12: การใช้โปรแกรมเพาเวอร์พ้อยท์ | E12: ไม่มีอคติในการทำงาน | F12: ต้องสรุปผลให้ถูกต้อง ครบถ้วน ตามความเป็นจริง | G12: กระดาษบาดมือ ไฟดูด
A13: 4 | B13: วิเคราะห์สาเหตุที่ทำให้พนักงานไม่ผ่านการตรวจติดตาม | C13: ใบเช็คชีท คอมพิวเตอร์ | D13: การใช้โปรแกรมเพาเวอร์พ้อยท์ | E13: ไม่มีอคติในการทำงาน | F13: ต้องวิเคราะห์สาเหตุให้ถูกต้อง ครบถ้วน ตามความเป็นจริง | G13: กระดาษบาดมือ ไฟดูด
A14: 5 | B14: เสนอวิธีแก้ไขปัญหาพนักงานไม่ผ่านการตรวจติดตาม | C14: ใบเช็คชีท คอมพิวเตอร์ | D14: ความรู้ในการปฏิบัติงานแต่ละขั้นตอน การใช้โปรแกรมเพาเวอร์พ้อยท์ | E14: มีความชำนาญในการปฏิบัติงาน | F14: เป็นไปตามข้อกำหนดของบริษัท | G14: กระดาษบาดมือ ไฟดูด
A17: ผู้วิเคราะห์ | B17: =IF(analyst1="","",analyst1) -> นางสาวปิยะมาศ ประทุมทอง | C17: =IF(analyst4="","",analyst5) -> นายวศิน สิงหโยทะกา | F17: ผู้ทบทวน | G17: ผู้อนุมัติ
B18: =IF(analyst2="","",analyst2) -> นางสาวชูใจ ขำวงค์ | C18: =IF(analyst4="","",analyst6) -> นายณัฐชานนท์ แสงโชติ
B19: =IF(analyst3="","",analyst3) -> นางสาวสุธีรา เขียวกันยะ | C19: =IF(analyst4="","",analyst7) -> นายสมถวิล จันทร์สิงห์ | F19: =IF(review="","",review) | G19: =IF(approvers="","",approvers)
B20: =IF(analyst4="","",analyst4) -> นางนวลฤดี พิมุขกรพงศ์

Sheet D1
A1: การวิเคราะห์งาน (Job Analysis : Step)
A3: สถานประกอบการ | C3: =company_name -> บริษัท ทอสเท็ม ประเทศไทย จำกัด | E3: แผนก | F3: =department -> แผนกประกอบ
A4: ตำแหน่งงาน | C4: =position -> เจ้าหน้าที่ VSTM | E4: วัน / เดือน / ปี ที่วิเคราะห์ | F4: =date_analy -> 42332
B6: =duty_D -> การผลิตสื่อการฝึกอบรมพนักงาน | E6: =taskD1 -> สร้างสื่อการสอนด้วยโปรแกรมเพาเวอร์พ้อยท์
A8: ที่ | B8: ขั้นตอนการปฏิบัติงาน | C8: เครื่องมือ / วัสดุ / อุปกรณ์ | D8: ความรู้ที่ต้องใช้ | E8: คุณลักษณะ/ทัศนคติ | F8: มาตรฐาน | G8: ความปลอดภัย
C9: ที่ใช้ในการปฏิบัติงาน | D9: ในการปฏิบัติงาน | E9: ที่ต้องใช้ในการปฏิบัติงาน | F9: ในการปฏิบัติงาน | G9: ข้อควรระวัง
A10: 1
A11: 2
A17: ผู้วิเคราะห์ | B17: =IF(analyst1="","",analyst1) -> นางสาวปิยะมาศ ประทุมทอง | C17: =IF(analyst1="","",analyst5) -> นายวศิน สิงหโยทะกา | F17: ผู้ทบทวน | G17: ผู้อนุมัติ
B18: =IF(analyst2="","",analyst2) -> นางสาวชูใจ ขำวงค์ | C18: =IF(analyst1="","",analyst6) -> นายณัฐชานนท์ แสงโชติ
B19: =IF(analyst3="","",analyst3) -> นางสาวสุธีรา เขียวกันยะ | C19: =IF(analyst1="","",analyst7) -> นายสมถวิล จันทร์สิงห์ | F19: =IF(review="","",review) | G19: =IF(approvers="","",approvers)
B20: =IF(analyst4="","",analyst4) -> นางนวลฤดี พิมุขกรพงศ์

Sheet D2
A1: การวิเคราะห์งาน (Job Analysis : Step)
A3: สถานประกอบการ | C3: =company_name -> บริษัท ทอสเท็ม ประเทศไทย จำกัด | E3: แผนก | F3: =department -> แผนกประกอบ
A4: ตำแหน่งงาน | C4: =position -> เจ้าหน้าที่ VSTM | E4: วัน / เดือน / ปี ที่วิเคราะห์ | F4: =date_analy -> 42332
B6: =duty_D -> การผลิตสื่อการฝึกอบรมพนักงาน | E6: =taskD2 -> สร้างสื่อการสอนด้วยมัลติมีเดีย
A8: ที่ | B8: ขั้นตอนการปฏิบัติงาน | C8: เครื่องมือ / วัสดุ / อุปกรณ์ | D8: ความรู้ที่ต้องใช้ | E8: คุณลักษณะ/ทัศนคติ | F8: มาตรฐาน | G8: ความปลอดภัย
C9: ที่ใช้ในการปฏิบัติงาน | D9: ในการปฏิบัติงาน | E9: ที่ต้องใช้ในการปฏิบัติงาน | F9: ในการปฏิบัติงาน | G9: ข้อควรระวัง
A10: 1
A11: 2
A12: 3
A13: 4
A14: 5
A17: ผู้วิเคราะห์ | B17: =IF(analyst1="","",analyst1) -> นางสาวปิยะมาศ ประทุมทอง | C17: =IF(analyst1="","",analyst5) -> นายวศิน สิงหโยทะกา | F17: ผู้ทบทวน | G17: ผู้อนุมัติ
B18: =IF(analyst2="","",analyst2) -> นางสาวชูใจ ขำวงค์ | C18: =IF(analyst1="","",analyst5) -> นายวศิน สิงหโยทะกา
B19: =IF(analyst3="","",analyst3) -> นางสาวสุธีรา เขียวกันยะ | F19: =IF(review="","",review) | G19: =IF(approvers="","",approvers)
B20: =IF(analyst4="","",analyst4) -> นางนวลฤดี พิมุขกรพงศ์

Sheet D3
A1: การวิเคราะห์งาน (Job Analysis : Step)
A3: สถานประกอบการ | C3: =company_name -> บริษัท ทอสเท็ม ประเทศไทย จำกัด | E3: แผนก | F3: =department -> แผนกประกอบ
A4: ตำแหน่งงาน | C4: =position -> เจ้าหน้าที่ VSTM | E4: วัน / เดือน / ปี ที่วิเคราะห์ | F4: =date_analy -> 42332
B6: =duty_D -> การผลิตสื่อการฝึกอบรมพนักงาน | E6: =taskD3 -> จัดทำคู่มือการปฏิบัติงาน
A8: ที่ | B8: ขั้นตอนการปฏิบัติงาน | C8: เครื่องมือ / วัสดุ / อุปกรณ์ | D8: ความรู้ที่ต้องใช้ | E8: คุณลักษณะ/ทัศนคติ | F8: มาตรฐาน | G8: ความปลอดภัย
C9: ที่ใช้ในการปฏิบัติงาน | D9: ในการปฏิบัติงาน | E9: ที่ต้องใช้ในการปฏิบัติงาน | F9: ในการปฏิบัติงาน | G9: ข้อควรระวัง
A17: ผู้วิเคราะห์ | B17: =IF(analyst1="","",analyst1) -> นางสาวปิยะมาศ ประทุมทอง | F17: ผู้ทบทวน | G17: ผู้อนุมัติ
B18: =IF(analyst2="","",analyst2) -> นางสาวชูใจ ขำวงค์
B19: =IF(analyst3="","",analyst3) -> นางสาวสุธีรา เขียวกันยะ | F19: =IF(review="","",review) | G19: =IF(approvers="","",approvers)
B20: =IF(analyst4="","",analyst4) -> นางนวลฤดี พิมุขกรพงศ์

Sheet D4
A1: การวิเคราะห์งาน (Job Analysis : Step)
A3: สถานประกอบการ | C3: =company_name -> บริษัท ทอสเท็ม ประเทศไทย จำกัด | E3: แผนก | F3: =department -> แผนกประกอบ
A4: ตำแหน่งงาน | C4: =position -> เจ้าหน้าที่ VSTM | E4: วัน / เดือน / ปี ที่วิเคราะห์ | F4: =date_analy -> 42332
B6: =duty_D -> การผลิตสื่อการฝึกอบรมพนักงาน | E6: =taskD4 -> จัดทำบอร์ดความรู้ในการปฏิบัติงาน
A8: ที่ | B8: ขั้นตอนการปฏิบัติงาน | C8: เครื่องมือ / วัสดุ / อุปกรณ์ | D8: ความรู้ที่ต้องใช้ | E8: คุณลักษณะ/ทัศนคติ | F8: มาตรฐาน | G8: ความปลอดภัย
C9: ที่ใช้ในการปฏิบัติงาน | D9: ในการปฏิบัติงาน | E9: ที่ต้องใช้ในการปฏิบัติงาน | F9: ในการปฏิบัติงาน | G9: ข้อควรระวัง
A17: ผู้วิเคราะห์ | B17: =IF(analyst1="","",analyst1) -> นางสาวปิยะมาศ ประทุมทอง | F17: ผู้ทบทวน | G17: ผู้อนุมัติ
B18: =IF(analyst2="","",analyst2) -> นางสาวชูใจ ขำวงค์
B19: =IF(analyst3="","",analyst3) -> นางสาวสุธีรา เขียวกันยะ | F19: =IF(review="","",review) | G19: =IF(approvers="","",approvers)
B20: =IF(analyst4="","",analyst4) -> นางนวลฤดี พิมุขกรพงศ์

Sheet IDF
A1: แบบสำรวจเกี่ยวกับการปฏิบัติงาน
A2: ="ตำแหน่ง "&position -> ตำแหน่ง เจ้าหน้าที่ VSTM
A3: (กรุณาทำแถบสี ลงบนหมายเลขที่ท่านพิจารณาแล้วเห็นว่าถูกต้อง)
A4: รายละเอียดของงานย่อย | B4: ความสำคัญของงาน | G4: ความถี่ของการปฎิบัติงาน | L4: ความยากง่ายในการปฏิบัติงาน | Q4: ผลกระทบของงานต่อผู้บริโภค | V4: ความต้องการฝึกอบรม | AA4: รวมคะ แนน | AB4: ร้อยละ | AC4: ข้อสอบภาคความรู้ (ข้อ) | AD4: ข้อสอบภาคทักษะ(คะแนน) | AE4: เวลาที่ใช้ในการฝึกอบรม
B5: มาก - - - - - - - - - - - - - น้อย | G5: มาก - - - - - - - - - - - - - น้อย | L5: มาก - - - - - - - - - - - - - น้อย | Q5: มาก - - - - - - - - - - - - - น้อย | V5: มาก - - - - - - - - - - - - - น้อย
B6: 5 | C6: 4 | D6: 3 | E6: 2 | F6: 1 | G6: 5 | H6: 4 | I6: 3 | J6: 2 | K6: 1 | L6: 5 | M6: 4 | N6: 3 | O6: 2 | P6: 1 | Q6: 5 | R6: 4 | S6: 3 | T6: 2 | U6: 1 | V6: 5 | W6: 4 | X6: 3 | Y6: 2 | Z6: 1 | AC6: 60 | AD6: 100 | AE6: =12*60 -> 720
A7: รวม | AA7: =SUM(AA8:AA31) -> 254 | AB7: =ROUND(SUM(AB8:AB31),2) -> 1 | AC7: =SUM(AC9:AC31) -> 60 | AD7: =SUM(AD9:AD31) -> 100 | AE7: =SUM(AE9:AE31) -> 720
A8: =duty_A -> การรับพนักงานใหม่ | AF8: ผลรวม(คะแนน) | AG8: เวลาที่ใช้(ความรู้) | AH8: เวลาที่ใช้(ปฏิบัติ)
A9: =taskA1 -> เตรียมเอกสารแบบทดสอบพนักงานใหม่ | B9: 5 | C9: 4 | D9: 3 | E9: 2 | F9: 1 | G9: 5 | H9: 4 | I9: 3 | J9: 2 | K9: 1 | L9: 5 | M9: 4 | N9: 3 | O9: 2 | P9: 1 | Q9: 5 | R9: 4 | S9: 3 | T9: 2 | U9: 1 | V9: 5 | W9: 4 | X9: 3 | Y9: 2 | Z9: 1 | AA9: =5+3+2 -> 10 | AB9: =AA9/$AA$7 -> 0.039370079 | AC9: =$AC$6*AB9 -> 2.3622047 | AD9: =$AD$6*AB9 -> 3.9370079 | AE9: =$AE$6*AB9 -> 28.346457 | AF9: =AC9+AD9 -> 6.2992126 | AG9: =(AC9*AE9/AF9) -> 10.629921 | AH9: =(AD9*AE9/AF9) -> 17.716535
A10: =taskA2 -> ทดสอบภาคทฤษฎีพนักงานใหม่ | B10: 5 | C10: 4 | D10: 3 | E10: 2 | F10: 1 | G10: 5 | H10: 4 | I10: 3 | J10: 2 | K10: 1 | L10: 5 | M10: 4 | N10: 3 | O10: 2 | P10: 1 | Q10: 5 | R10: 4 | S10: 3 | T10: 2 | U10: 1 | V10: 5 | W10: 4 | X10: 3 | Y10: 2 | Z10: 1 | AA10: 12 | AB10: =AA10/$AA$7 -> 0.047244094 | AC10: =$AC$6*AB10 -> 2.8346457 | AD10: =$AD$6*AB10 -> 4.7244094 | AE10: =$AE$6*AB10 -> 34.015748 | AF10: =AC10+AD10 -> 7.5590551 | AG10: =(AC10*AE10/AF10) -> 12.755906 | AH10: =(AD10*AE10/AF10) -> 21.259843
A11: =taskA3 -> ทดสอบภาคปฏิบัติพนักงานใหม่ | B11: 5 | C11: 4 | D11: 3 | E11: 2 | F11: 1 | G11: 5 | H11: 4 | I11: 3 | J11: 2 | K11: 1 | L11: 5 | M11: 4 | N11: 3 | O11: 2 | P11: 1 | AA11: 12 | AB11: =AA11/$AA$7 -> 0.047244094 | AC11: =$AC$6*AB11 -> 2.8346457 | AD11: =$AD$6*AB11 -> 4.7244094 | AE11: =$AE$6*AB11 -> 34.015748 | AF11: =AC11+AD11 -> 7.5590551 | AG11: =(AC11*AE11/AF11) -> 12.755906 | AH11: =(AD11*AE11/AF11) -> 21.259843
A12: =taskA4 -> สัมภาษณ์พนักงานใหม่ | B12: 5 | C12: 4 | D12: 3 | E12: 2 | F12: 1 | G12: 5 | H12: 4 | I12: 3 | J12: 2 | K12: 1 | L12: 5 | M12: 4 | N12: 3 | O12: 2 | P12: 1 | AA12: 14 | AB12: =AA12/$AA$7 -> 0.05511811 | AC12: =$AC$6*AB12 -> 3.3070866 | AD12: =$AD$6*AB12 -> 5.511811 | AE12: =$AE$6*AB12 -> 39.685039 | AF12: =AC12+AD12 -> 8.8188976 | AG12: =(AC12*AE12/AF12) -> 14.88189 | AH12: =(AD12*AE12/AF12) -> 24.80315
A13: =taskA5 -> สรุปผลการทดสอบพนักงานใหม่ | B13: 5 | C13: 4 | D13: 3 | E13: 2 | F13: 1 | G13: 5 | H13: 4 | I13: 3 | J13: 2 | K13: 1 | L13: 5 | M13: 4 | N13: 3 | O13: 2 | P13: 1 | Q13: 5 | R13: 4 | S13: 3 | T13: 2 | U13: 1 | V13: 5 | W13: 4 | X13: 3 | Y13: 2 | Z13: 1 | AA13: 12 | AB13: =AA13/$AA$7 -> 0.047244094 | AC13: =$AC$6*AB13 -> 2.8346457 | AD13: =$AD$6*AB13 -> 4.7244094 | AE13: =$AE$6*AB13 -> 34.015748 | AF13: =AC13+AD13 -> 7.5590551 | AG13: =(AC13*AE13/AF13) -> 12.755906 | AH13: =(AD13*AE13/AF13) -> 21.259843
A14: =taskA6 -> แจ้งพนักงานใหม่เข้ารับการอบรม | B14: 5 | C14: 4 | D14: 3 | E14: 2 | F14: 1 | G14: 5 | H14: 4 | I14: 3 | J14: 2 | K14: 1 | L14: 5 | M14: 4 | N14: 3 | O14: 2 | P14: 1 | Q14: 5 | R14: 4 | S14: 3 | T14: 2 | U14: 1 | V14: 5 | W14: 4 | X14: 3 | Y14: 2 | Z14: 1 | AA14: 11 | AB14: =AA14/$AA$7 -> 0.043307087 | AC14: =$AC$6*AB14 -> 2.5984252 | AD14: =$AD$6*AB14 -> 4.3307087 | AE14: =$AE$6*AB14 -> 31.181102 | AF14: =AC14+AD14 -> 6.9291339 | AG14: =(AC14*AE14/AF14) -> 11.692913 | AH14: =(AD14*AE14/AF14) -> 19.488189
A15: =duty_B -> การฝึกอบรมพนักงาน
A16: =taskB1 -> วางแผนการฝึกอบรมพนักงาน | B16: 5 | C16: 4 | D16: 3 | E16: 2 | F16: 1 | G16: 5 | H16: 4 | I16: 3 | J16: 2 | K16: 1 | L16: 5 | M16: 4 | N16: 3 | O16: 2 | P16: 1 | Q16: 5 | R16: 4 | S16: 3 | T16: 2 | U16: 1 | V16: 5 | W16: 4 | X16: 3 | Y16: 2 | Z16: 1 | AA16: 13 | AB16: =AA16/$AA$7 -> 0.051181102 | AC16: =$AC$6*AB16 -> 3.0708661 | AD16: =$AD$6*AB16 -> 5.1181102 | AE16: =$AE$6*AB16 -> 36.850394 | AF16: =AC16+AD16 -> 8.1889764 | AG16: =(AC16*AE16/AF16) -> 13.818898 | AH16: =(AD16*AE16/AF16) -> 23.031496
A17: =taskB2 -> เตรียมอุปกรณ์ในการฝึกอบรมพนักงาน | B17: 5 | C17: 4 | D17: 3 | E17: 2 | F17: 1 | G17: 5 | H17: 4 | I17: 3 | J17: 2 | K17: 1 | L17: 5 | M17: 4 | N17: 3 | O17: 2 | P17: 1 | Q17: 5 | R17: 4 | S17: 3 | T17: 2 | U17: 1 | V17: 5 | W17: 4 | X17: 3 | Y17: 2 | Z17: 1 | AA17: 13 | AB17: =AA17/$AA$7 -> 0.051181102 | AC17: =$AC$6*AB17 -> 3.0708661 | AD17: =$AD$6*AB17 -> 5.1181102 | AE17: =$AE$6*AB17 -> 36.850394 | AF17: =AC17+AD17 -> 8.1889764 | AG17: =(AC17*AE17/AF17) -> 13.818898 | AH17: =(AD17*AE17/AF17) -> 23.031496
A18: =taskB3 -> ฝึกอบรมภาคทฤษฎีพนักงาน | B18: 5 | C18: 4 | D18: 3 | E18: 2 | F18: 1 | G18: 5 | H18: 4 | I18: 3 | J18: 2 | K18: 1 | L18: 5 | M18: 4 | N18: 3 | O18: 2 | P18: 1 | Q18: 5 | R18: 4 | S18: 3 | T18: 2 | U18: 1 | V18: 5 | W18: 4 | X18: 3 | Y18: 2 | Z18: 1 | AA18: 14 | AB18: =AA18/$AA$7 -> 0.05511811 | AC18: =$AC$6*AB18 -> 3.3070866 | AD18: =$AD$6*AB18 -> 5.511811 | AE18: =$AE$6*AB18 -> 39.685039 | AF18: =AC18+AD18 -> 8.8188976 | AG18: =(AC18*AE18/AF18) -> 14.88189 | AH18: =(AD18*AE18/AF18) -> 24.80315
A19: =taskB4 -> ฝึกภาคปฏิบัติพนักงาน | B19: 5 | C19: 4 | D19: 3 | E19: 2 | F19: 1 | G19: 5 | H19: 4 | I19: 3 | J19: 2 | K19: 1 | L19: 5 | M19: 4 | N19: 3 | O19: 2 | P19: 1 | Q19: 5 | R19: 4 | S19: 3 | T19: 2 | U19: 1 | V19: 5 | W19: 4 | X19: 3 | Y19: 2 | Z19: 1 | AA19: 14 | AB19: =AA19/$AA$7 -> 0.05511811 | AC19: =$AC$6*AB19 -> 3.3070866 | AD19: =$AD$6*AB19 -> 5.511811 | AE19: =$AE$6*AB19 -> 39.685039 | AF19: =AC19+AD19 -> 8.8188976 | AG19: =(AC19*AE19/AF19) -> 14.88189 | AH19: =(AD19*AE19/AF19) -> 24.80315
A20: =taskB5 -> ส่งพนักงานเข้าไลน์การผลิต | B20: 5 | C20: 4 | D20: 3 | E20: 2 | F20: 1 | G20: 5 | H20: 4 | I20: 3 | J20: 2 | K20: 1 | L20: 5 | M20: 4 | N20: 3 | O20: 2 | P20: 1 | Q20: 5 | R20: 4 | S20: 3 | T20: 2 | U20: 1 | V20: 5 | W20: 4 | X20: 3 | Y20: 2 | Z20: 1 | AA20: 12 | AB20: =AA20/$AA$7 -> 0.047244094 | AC20: =$AC$6*AB20 -> 2.8346457 | AD20: =$AD$6*AB20 -> 4.7244094 | AE20: =$AE$6*AB20 -> 34.015748 | AF20: =AC20+AD20 -> 7.5590551 | AG20: =(AC20*AE20/AF20) -> 12.755906 | AH20: =(AD20*AE20/AF20) -> 21.259843
A21: =taskB6 -> Re-trainning พนักงานเก่า | B21: 5 | C21: 4 | D21: 3 | E21: 2 | F21: 1 | G21: 5 | H21: 4 | I21: 3 | J21: 2 | K21: 1 | L21: 5 | M21: 4 | N21: 3 | O21: 2 | P21: 1 | Q21: 5 | R21: 4 | S21: 3 | T21: 2 | U21: 1 | V21: 5 | W21: 4 | X21: 3 | Y21: 2 | Z21: 1 | AA21: 15 | AB21: =AA21/$AA$7 -> 0.059055118 | AC21: =$AC$6*AB21 -> 3.5433071 | AD21: =$AD$6*AB21 -> 5.9055118 | AE21: =$AE$6*AB21 -> 42.519685 | AF21: =AC21+AD21 -> 9.4488189 | AG21: =(AC21*AE21/AF21) -> 15.944882 | AH21: =(AD21*AE21/AF21) -> 26.574803
A22: =duty_C -> การตรวจติดตามพนักงาน
A23: =taskC1 -> วางแผนการตรวจติดตามพนักงาน | B23: 5 | C23: 4 | D23: 3 | E23: 2 | F23: 1 | G23: 5 | H23: 4 | I23: 3 | J23: 2 | K23: 1 | L23: 5 | M23: 4 | N23: 3 | O23: 2 | P23: 1 | Q23: 5 | R23: 4 | S23: 3 | T23: 2 | U23: 1 | V23: 5 | W23: 4 | X23: 3 | Y23: 2 | Z23: 1 | AA23: 13 | AB23: =AA23/$AA$7 -> 0.051181102 | AC23: =$AC$6*AB23 -> 3.0708661 | AD23: =$AD$6*AB23 -> 5.1181102 | AE23: =$AE$6*AB23 -> 36.850394 | AF23: =AC23+AD23 -> 8.1889764 | AG23: =(AC23*AE23/AF23) -> 13.818898 | AH23: =(AD23*AE23/AF23) -> 23.031496
A24: =taskC2 -> ตรวจติดตามพนักงานใหม่รายสัปดาห์ | B24: 5 | C24: 4 | D24: 3 | E24: 2 | F24: 1 | G24: 5 | H24: 4 | I24: 3 | J24: 2 | K24: 1 | L24: 5 | M24: 4 | N24: 3 | O24: 2 | P24: 1 | Q24: 5 | R24: 4 | S24: 3 | T24: 2 | U24: 1 | V24: 5 | W24: 4 | X24: 3 | Y24: 2 | Z24: 1 | AA24: 14 | AB24: =AA24/$AA$7 -> 0.05511811 | AC24: =$AC$6*AB24 -> 3.3070866 | AD24: =$AD$6*AB24 -> 5.511811 | AE24: =$AE$6*AB24 -> 39.685039 | AF24: =AC24+AD24 -> 8.8188976 | AG24: =(AC24*AE24/AF24) -> 14.88189 | AH24: =(AD24*AE24/AF24) -> 24.80315
A25: =taskC3 -> ตรวจติดตามพนักงานเก่ารายเดือน | B25: 5 | C25: 4 | D25: 3 | E25: 2 | F25: 1 | G25: 5 | H25: 4 | I25: 3 | J25: 2 | K25: 1 | L25: 5 | M25: 4 | N25: 3 | O25: 2 | P25: 1 | Q25: 5 | R25: 4 | S25: 3 | T25: 2 | U25: 1 | V25: 5 | W25: 4 | X25: 3 | Y25: 2 | Z25: 1 | AA25: 11 | AB25: =AA25/$AA$7 -> 0.043307087 | AC25: =$AC$6*AB25 -> 2.5984252 | AD25: =$AD$6*AB25 -> 4.3307087 | AE25: =$AE$6*AB25 -> 31.181102 | AF25: =AC25+AD25 -> 6.9291339 | AG25: =(AC25*AE25/AF25) -> 11.692913 | AH25: =(AD25*AE25/AF25) -> 19.488189
A26: =taskC4 -> รายงานผลการตรวจติดตามพนักงานประจำเดือน | B26: 5 | C26: 4 | D26: 3 | E26: 2 | F26: 1 | G26: 5 | H26: 4 | I26: 3 | J26: 2 | K26: 1 | L26: 5 | M26: 4 | N26: 3 | O26: 2 | P26: 1 | Q26: 5 | R26: 4 | S26: 3 | T26: 2 | U26: 1 | V26: 5 | W26: 4 | X26: 3 | Y26: 2 | Z26: 1 | AA26: 13 | AB26: =AA26/$AA$7 -> 0.051181102 | AC26: =$AC$6*AB26 -> 3.0708661 | AD26: =$AD$6*AB26 -> 5.1181102 | AE26: =$AE$6*AB26 -> 36.850394 | AF26: =AC26+AD26 -> 8.1889764 | AG26: =(AC26*AE26/AF26) -> 13.818898 | AH26: =(AD26*AE26/AF26) -> 23.031496
A27: =duty_D -> การผลิตสื่อการฝึกอบรมพนักงาน
A28: =taskD1 -> สร้างสื่อการสอนด้วยโปรแกรมเพาเวอร์พ้อยท์ | B28: 5 | C28: 4 | D28: 3 | E28: 2 | F28: 1 | G28: 5 | H28: 4 | I28: 3 | J28: 2 | K28: 1 | L28: 5 | M28: 4 | N28: 3 | O28: 2 | P28: 1 | Q28: 5 | R28: 4 | S28: 3 | T28: 2 | U28: 1 | V28: 5 | W28: 4 | X28: 3 | Y28: 2 | Z28: 1 | AA28: 14 | AB28: =AA28/$AA$7 -> 0.05511811 | AC28: =$AC$6*AB28 -> 3.3070866 | AD28: =$AD$6*AB28 -> 5.511811 | AE28: =$AE$6*AB28 -> 39.685039 | AF28: =AC28+AD28 -> 8.8188976 | AG28: =(AC28*AE28/AF28) -> 14.88189 | AH28: =(AD28*AE28/AF28) -> 24.80315
A29: =taskD2 -> สร้างสื่อการสอนด้วยมัลติมีเดีย | B29: 5 | C29: 4 | D29: 3 | E29: 2 | F29: 1 | G29: 5 | H29: 4 | I29: 3 | J29: 2 | K29: 1 | L29: 5 | M29: 4 | N29: 3 | O29: 2 | P29: 1 | Q29: 5 | R29: 4 | S29: 3 | T29: 2 | U29: 1 | V29: 5 | W29: 4 | X29: 3 | Y29: 2 | Z29: 1 | AA29: 15 | AB29: =AA29/$AA$7 -> 0.059055118 | AC29: =$AC$6*AB29 -> 3.5433071 | AD29: =$AD$6*AB29 -> 5.9055118 | AE29: =$AE$6*AB29 -> 42.519685 | AF29: =AC29+AD29 -> 9.4488189 | AG29: =(AC29*AE29/AF29) -> 15.944882 | AH29: =(AD29*AE29/AF29) -> 26.574803
A30: =taskD3 -> จัดทำคู่มือการปฏิบัติงาน | B30: 5 | C30: 4 | D30: 3 | E30: 2 | F30: 1 | G30: 5 | H30: 4 | I30: 3 | J30: 2 | K30: 1 | L30: 5 | M30: 4 | N30: 3 | O30: 2 | P30: 1 | Q30: 5 | R30: 4 | S30: 3 | T30: 2 | U30: 1 | V30: 5 | W30: 4 | X30: 3 | Y30: 2 | Z30: 1 | AA30: 13 | AB30: =AA30/$AA$7 -> 0.051181102 | AC30: =$AC$6*AB30 -> 3.0708661 | AD30: =$AD$6*AB30 -> 5.1181102 | AE30: =$AE$6*AB30 -> 36.850394 | AF30: =AC30+AD30 -> 8.1889764 | AG30: =(AC30*AE30/AF30) -> 13.818898 | AH30: =(AD30*AE30/AF30) -> 23.031496
A31: =taskD4 -> จัดทำบอร์ดความรู้ในการปฏิบัติงาน | B31: 5 | C31: 4 | D31: 3 | E31: 2 | F31: 1 | G31: 5 | H31: 4 | I31: 3 | J31: 2 | K31: 1 | L31: 5 | M31: 4 | N31: 3 | O31: 2 | P31: 1 | Q31: 5 | R31: 4 | S31: 3 | T31: 2 | U31: 1 | V31: 5 | W31: 4 | X31: 3 | Y31: 2 | Z31: 1 | AA31: 9 | AB31: =AA31/$AA$7 -> 0.035433071 | AC31: =$AC$6*AB31 -> 2.1259843 | AD31: =$AD$6*AB31 -> 3.5433071 | AE31: =$AE$6*AB31 -> 25.511811 | AF31: =AC31+AD31 -> 5.6692913 | AG31: =(AC31*AE31/AF31) -> 9.5669291 | AH31: =(AD31*AE31/AF31) -> 15.944882
AF32: รวม | AG32: =SUM(AG9:AG31) -> 270 | AH32: =SUM(AH9:AH31) -> 450
AG33: =AG32/60 -> 4.5 | AH33: =AH32/60 -> 7.5

Sheet Level
A1: แบบสำรวจเกี่ยวกับระดับการปฏิบัติงาน เพื่อแบ่งระดับมาตรฐาน สมรรถนะ
A2: ="ตำแหน่ง "&position -> ตำแหน่ง เจ้าหน้าที่ VSTM
A4: รายละเอียดของงานหลัก/งานย่อย | B4: ระดับที่คาดหวัง
B6: ระดับ 1 | C6: ระดับ 2 | D6: ระดับ 3 | E6: ระดับ 4 | F6: ระดับ 5
A7: รวมงานย่อย | B7: =COUNTIF(B8:B26,"/") -> 10 | C7: =COUNTIF(C8:C26,"/") -> 12 | D7: =COUNTIF(D8:D26,"/") -> 13 | E7: =COUNTIF(E8:E26,"/") -> 14 | F7: =COUNTIF(F8:F26,"/") -> 16
A8: =duty_A -> การรับพนักงานใหม่
A9: =taskA1 -> เตรียมเอกสารแบบทดสอบพนักงานใหม่ | B9: / | C9: / | D9: / | E9: / | F9: /
A10: =taskA2 -> ทดสอบภาคทฤษฎีพนักงานใหม่ | B10: / | C10: / | D10: / | E10: / | F10: /
A11: =taskA3 -> ทดสอบภาคปฏิบัติพนักงานใหม่ | C11: / | D11: / | E11: / | F11: /
A12: =taskA4 -> สัมภาษณ์พนักงานใหม่ | B12: / | C12: / | D12: / | E12: / | F12: /
A13: =taskA5 -> สรุปผลการทดสอบพนักงานใหม่ | B13: / | C13: / | D13: / | E13: / | F13: /
A14: =taskA6 -> แจ้งพนักงานใหม่เข้ารับการอบรม | C14: / | D14: / | E14: / | F14: /
A15: =duty_B -> การฝึกอบรมพนักงาน
A16: =taskB1 -> วางแผนการฝึกอบรมพนักงาน | B16: / | C16: / | D16: / | E16: / | F16: /
A17: =taskB2 -> เตรียมอุปกรณ์ในการฝึกอบรมพนักงาน | B17: / | C17: / | D17: / | E17: / | F17: /
A18: =taskB3 -> ฝึกอบรมภาคทฤษฎีพนักงาน | B18: / | C18: / | D18: / | E18: / | F18: /
A19: =taskB4 -> ฝึกภาคปฏิบัติพนักงาน | B19: / | C19: / | D19: / | E19: / | F19: /
A20: =taskB5 -> ส่งพนักงานเข้าไลน์การผลิต | B20: / | C20: / | D20: / | E20: / | F20: /
A21: =taskB6 -> Re-trainning พนักงานเก่า | B21: / | C21: / | D21: / | E21: / | F21: /
A22: =duty_C -> การตรวจติดตามพนักงาน
A23: =taskC1 -> วางแผนการตรวจติดตามพนักงาน | F23: /
A24: =taskC2 -> ตรวจติดตามพนักงานใหม่รายสัปดาห์ | E24: / | F24: /
A25: =taskC3 -> ตรวจติดตามพนักงานเก่ารายเดือน | D25: / | E25: / | F25: /
A26: =taskC4 -> รายงานผลการตรวจติดตามพนักงานประจำเดือน | F26: /
A27: =duty_D -> การผลิตสื่อการฝึกอบรมพนักงาน
A28: =taskD1 -> สร้างสื่อการสอนด้วยโปรแกรมเพาเวอร์พ้อยท์ | F28: /
A29: =taskD2 -> สร้างสื่อการสอนด้วยมัลติมีเดีย | E29: / | F29: /
A30: =taskD3 -> จัดทำคู่มือการปฏิบัติงาน | D30: / | E30: / | F30: /
A31: =taskD4 -> จัดทำบอร์ดความรู้ในการปฏิบัติงาน | F31: /

Sheet for_CS
A1: แบบสำรวจเกี่ยวกับระดับการปฏิบัติงาน เพื่อแบ่งระดับมาตรฐาน สมรรถนะ
A2: ="ตำแหน่ง "&position -> ตำแหน่ง เจ้าหน้าที่ VSTM
A4: ลำดับที่ | B4: รายการความสามารถ | C4: รายการความรู้ที่จำเป็น
A5: 1 | B5: =duty_A -> การรับพนักงานใหม่
A6: 1.1 | B6: =taskA1 -> เตรียมเอกสารแบบทดสอบพนักงานใหม่
A7: 1.2 | B7: =taskA2 -> ทดสอบภาคทฤษฎีพนักงานใหม่
A8: 1.3 | B8: =taskA3 -> ทดสอบภาคปฏิบัติพนักงานใหม่
A9: 1.4 | B9: =taskA4 -> สัมภาษณ์พนักงานใหม่
A10: 1.5 | B10: =taskA5 -> สรุปผลการทดสอบพนักงานใหม่
A11: 1.6 | B11: =taskA6 -> แจ้งพนักงานใหม่เข้ารับการอบรม
A12: 2 | B12: =duty_B -> การฝึกอบรมพนักงาน
A13: 2.1 | B13: =taskB1 -> วางแผนการฝึกอบรมพนักงาน
A14: 2.2 | B14: =taskB2 -> เตรียมอุปกรณ์ในการฝึกอบรมพนักงาน
A15: 2.3 | B15: =taskB3 -> ฝึกอบรมภาคทฤษฎีพนักงาน
A16: 2.4 | B16: =taskB4 -> ฝึกภาคปฏิบัติพนักงาน
A17: 2.5 | B17: =taskB5 -> ส่งพนักงานเข้าไลน์การผลิต
A18: 2.6 | B18: =taskB6 -> Re-trainning พนักงานเก่า
A19: 3 | B19: =duty_C -> การตรวจติดตามพนักงาน
A20: 3.1 | B20: =taskC1 -> วางแผนการตรวจติดตามพนักงาน | C20: การใช้โปรแกรม ms-office การสื่อสารได้อย่างถูกต้อง
A21: 3.2 | B21: =taskC2 -> ตรวจติดตามพนักงานใหม่รายสัปดาห์ | C21: การใช้โปรแกรม ms-office ความรู้ในการปฏิบัติงานแต่ละขั้นตอน
A22: 3.3 | B22: =taskC3 -> ตรวจติดตามพนักงานเก่ารายเดือน | C22: การใช้โปรแกรม ms-office ความรู้ในการปฏิบัติงานแต่ละขั้นตอน ลำดับขั้นในการแจ้ง วิธีการสื่อสารได้อย่างถูกต้อง
A23: 3.4 | B23: =taskC4 -> รายงานผลการตรวจติดตามพนักงานประจำเดือน | C23: ความรู้ในการปฏิบัติงานแต่ละขั้นตอนตามใบเช็คชีท ความรู้ในการปฏิบัติงานแต่ละขั้นตอน การใช้โปรแกรมเพาเวอร์พ้อยท์
A24: 4 | B24: =duty_D -> การผลิตสื่อการฝึกอบรมพนักงาน
A25: 4.1 | B25: =taskD1 -> สร้างสื่อการสอนด้วยโปรแกรมเพาเวอร์พ้อยท์
A26: 4.2 | B26: =taskD2 -> สร้างสื่อการสอนด้วยมัลติมีเดีย
A27: 4.3 | B27: =taskD3 -> จัดทำคู่มือการปฏิบัติงาน
A28: 4.4 | B28: =taskD4 -> จัดทำบอร์ดความรู้ในการปฏิบัติงาน

Sheet frm_task_analysis
A1: การวิเคราะห์งาน (Job Analysis : Step)
B3: สถานประกอบการ | F3: แผนก
B4: ตำแหน่งงาน | F4: วัน / เดือน / ปี ที่วิเคราะห์
B8: ที่ | C8: ขั้นตอนการปฏิบัติงาน | D8: เครื่องมือ / วัสดุ / อุปกรณ์ | E8: ความรู้ที่ต้องใช้ | F8: คุณลักษณะ/ทัศนคติ | G8: มาตรฐาน | H8: ความปลอดภัย
D9: ที่ใช้ในการปฏิบัติงาน | E9: ในการปฏิบัติงาน | F9: ที่ต้องใช้ในการปฏิบัติงาน | G9: ในการปฏิบัติงาน | H9: ข้อควรระวัง
B10: 1
B13: 2
B16: 3
B19: 4
B22: 5
B25: 6
B28: 7
A31: ผู้วิเคราะห์ | G31: ผู้ทบทวน | H31: ผู้อนุมัติ

Sheet frm-a1
A1: การวิเคราะห์งาน (Job Analysis : Step)
A3: สถานประกอบการ | E3: แผนก
A4: ตำแหน่งงาน | E4: วัน / เดือน / ปี ที่วิเคราะห์ | F4: =date_analy -> 42332
A8: ที่ | B8: ขั้นตอนการปฏิบัติงาน | C8: เครื่องมือ / วัสดุ / อุปกรณ์ | D8: ความรู้ที่ต้องใช้ | E8: คุณลักษณะ/ทัศนคติ | F8: มาตรฐาน | G8: ความปลอดภัย
C9: ที่ใช้ในการปฏิบัติงาน | D9: ในการปฏิบัติงาน | E9: ที่ต้องใช้ในการปฏิบัติงาน | F9: ในการปฏิบัติงาน | G9: ข้อควรระวัง
A26: ผู้วิเคราะห์ | B26: =IF(analyst1="","",analyst1) -> นางสาวปิยะมาศ ประทุมทอง | F26: ผู้ทบทวน | G26: ผู้อนุมัติ
B27: =IF(analyst2="","",analyst2) -> นางสาวชูใจ ขำวงค์
B28: =IF(analyst3="","",analyst3) -> นางสาวสุธีรา เขียวกันยะ | F28: =IF(review="","",review) | G28: =IF(approvers="","",approvers)
B29: =IF(analyst4="","",analyst4) -> นางนวลฤดี พิมุขกรพงศ์

Sheet Sheet1
A1: แบบสำรวจเกี่ยวกับการปฏิบัติงาน
A2: ="ตำแหน่ง "&position -> ตำแหน่ง เจ้าหน้าที่ VSTM
A3: (กรุณาทำแถบสี ลงบนหมายเลขที่ท่านพิจารณาแล้วเห็นว่าถูกต้อง)
A4: รายละเอียดของงานย่อย | B4: ความสำคัญของงาน | G4: ความถี่ของการปฎิบัติงาน | L4: ความยากง่ายในการปฏิบัติงาน | Q4: ผลกระทบของงานต่อผู้บริโภค | V4: ความต้องการฝึกอบรม | AA4: รวมคะ แนน | AD4: ร้อยละ | AE4: ข้อสอบภาคความรู้ (ข้อ) | AF4: ข้อสอบภาคทักษะ(คะแนน) | AG4: เวลาที่ใช้ในการฝึกอบรม
B5: มาก - - - - - - - - - - - - - น้อย | G5: มาก - - - - - - - - - - - - - น้อย | L5: มาก - - - - - - - - - - - - - น้อย | Q5: มาก - - - - - - - - - - - - - น้อย | V5: มาก - - - - - - - - - - - - - น้อย
B6: 5 | C6: 4 | D6: 3 | E6: 2 | F6: 1 | G6: 5 | H6: 4 | I6: 3 | J6: 2 | K6: 1 | L6: 5 | M6: 4 | N6: 3 | O6: 2 | P6: 1 | Q6: 5 | R6: 4 | S6: 3 | T6: 2 | U6: 1 | V6: 5 | W6: 4 | X6: 3 | Y6: 2 | Z6: 1 | AA6: ex 1 | AB6: ex2 | AC6: รวม | AE6: 60 | AF6: 100 | AG6: =12*60 -> 720
A7: รวม | AA7: =SUM(AA8:AA31) -> 254 | AB7: =SUM(AB8:AB31) -> 251 | AC7: =SUM(AC8:AC31) -> 252.5 | AD7: =SUM(AD9:AD31) -> 1 | AE7: =SUM(AE9:AE31) -> 60 | AF7: =SUM(AF9:AF31) -> 100 | AG7: =SUM(AG9:AG31) -> 720
A8: =duty_A -> การรับพนักงานใหม่
A9: =taskA1 -> เตรียมเอกสารแบบทดสอบพนักงานใหม่ | B9: 5 | C9: 4 | D9: 3 | E9: 2 | F9: 1 | G9: 5 | H9: 4 | I9: 3 | J9: 2 | K9: 1 | L9: 5 | M9: 4 | N9: 3 | O9: 2 | P9: 1 | Q9: 5 | R9: 4 | S9: 3 | T9: 2 | U9: 1 | V9: 5 | W9: 4 | X9: 3 | Y9: 2 | Z9: 1 | AA9: =5+3+2 -> 10 | AB9: 8 | AC9: =(AA9+AB9)/2 -> 9 | AD9: =AC9/$AC$7 -> 0.035643564 | AE9: =$AE$6*AD9 -> 2.1386139 | AF9: =$AF$6*AD9 -> 3.5643564 | AG9: =$AG$6*AD9 -> 25.663366
A10: =taskA2 -> ทดสอบภาคทฤษฎีพนักงานใหม่ | B10: 5 | C10: 4 | D10: 3 | E10: 2 | F10: 1 | G10: 5 | H10: 4 | I10: 3 | J10: 2 | K10: 1 | L10: 5 | M10: 4 | N10: 3 | O10: 2 | P10: 1 | Q10: 5 | R10: 4 | S10: 3 | T10: 2 | U10: 1 | V10: 5 | W10: 4 | X10: 3 | Y10: 2 | Z10: 1 | AA10: 12 | AB10: 12 | AC10: =(AA10+AB10)/2 -> 12 | AD10: =AC10/$AC$7 -> 0.047524752 | AE10: =$AE$6*AD10 -> 2.8514851 | AF10: =$AF$6*AD10 -> 4.7524752 | AG10: =$AG$6*AD10 -> 34.217822
A11: =taskA3 -> ทดสอบภาคปฏิบัติพนักงานใหม่ | B11: 5 | C11: 4 | D11: 3 | E11: 2 | F11: 1 | G11: 5 | H11: 4 | I11: 3 | J11: 2 | K11: 1 | L11: 5 | M11: 4 | N11: 3 | O11: 2 | P11: 1 | AA11: 12 | AB11: 12 | AC11: =(AA11+AB11)/2 -> 12 | AD11: =AC11/$AC$7 -> 0.047524752 | AE11: =$AE$6*AD11 -> 2.8514851 | AF11: =$AF$6*AD11 -> 4.7524752 | AG11: =$AG$6*AD11 -> 34.217822
A12: =taskA4 -> สัมภาษณ์พนักงานใหม่ | B12: 5 | C12: 4 | D12: 3 | E12: 2 | F12: 1 | G12: 5 | H12: 4 | I12: 3 | J12: 2 | K12: 1 | L12: 5 | M12: 4 | N12: 3 | O12: 2 | P12: 1 | AA12: 14 | AB12: 15 | AC12: =(AA12+AB12)/2 -> 14.5 | AD12: =AC12/$AC$7 -> 0.057425743 | AE12: =$AE$6*AD12 -> 3.4455446 | AF12: =$AF$6*AD12 -> 5.7425743 | AG12: =$AG$6*AD12 -> 41.346535
A13: =taskA5 -> สรุปผลการทดสอบพนักงานใหม่ | B13: 5 | C13: 4 | D13: 3 | E13: 2 | F13: 1 | G13: 5 | H13: 4 | I13: 3 | J13: 2 | K13: 1 | L13: 5 | M13: 4 | N13: 3 | O13: 2 | P13: 1 | Q13: 5 | R13: 4 | S13: 3 | T13: 2 | U13: 1 | V13: 5 | W13: 4 | X13: 3 | Y13: 2 | Z13: 1 | AA13: 12 | AB13: 13 | AC13: =(AA13+AB13)/2 -> 12.5 | AD13: =AC13/$AC$7 -> 0.04950495 | AE13: =$AE$6*AD13 -> 2.970297 | AF13: =$AF$6*AD13 -> 4.950495 | AG13: =$AG$6*AD13 -> 35.643564
A14: =taskA6 -> แจ้งพนักงานใหม่เข้ารับการอบรม | B14: 5 | C14: 4 | D14: 3 | E14: 2 | F14: 1 | G14: 5 | H14: 4 | I14: 3 | J14: 2 | K14: 1 | L14: 5 | M14: 4 | N14: 3 | O14: 2 | P14: 1 | Q14: 5 | R14: 4 | S14: 3 | T14: 2 | U14: 1 | V14: 5 | W14: 4 | X14: 3 | Y14: 2 | Z14: 1 | AA14: 11 | AB14: 11 | AC14: =(AA14+AB14)/2 -> 11 | AD14: =AC14/$AC$7 -> 0.043564356 | AE14: =$AE$6*AD14 -> 2.6138614 | AF14: =$AF$6*AD14 -> 4.3564356 | AG14: =$AG$6*AD14 -> 31.366337
A15: =duty_B -> การฝึกอบรมพนักงาน
A16: =taskB1 -> วางแผนการฝึกอบรมพนักงาน | B16: 5 | C16: 4 | D16: 3 | E16: 2 | F16: 1 | G16: 5 | H16: 4 | I16: 3 | J16: 2 | K16: 1 | L16: 5 | M16: 4 | N16: 3 | O16: 2 | P16: 1 | Q16: 5 | R16: 4 | S16: 3 | T16: 2 | U16: 1 | V16: 5 | W16: 4 | X16: 3 | Y16: 2 | Z16: 1 | AA16: 13 | AB16: 13 | AC16: =(AA16+AB16)/2 -> 13 | AD16: =AC16/$AC$7 -> 0.051485149 | AE16: =$AE$6*AD16 -> 3.0891089 | AF16: =$AF$6*AD16 -> 5.1485149 | AG16: =$AG$6*AD16 -> 37.069307
A17: =taskB2 -> เตรียมอุปกรณ์ในการฝึกอบรมพนักงาน | B17: 5 | C17: 4 | D17: 3 | E17: 2 | F17: 1 | G17: 5 | H17: 4 | I17: 3 | J17: 2 | K17: 1 | L17: 5 | M17: 4 | N17: 3 | O17: 2 | P17: 1 | Q17: 5 | R17: 4 | S17: 3 | T17: 2 | U17: 1 | V17: 5 | W17: 4 | X17: 3 | Y17: 2 | Z17: 1 | AA17: 13 | AB17: 13 | AC17: =(AA17+AB17)/2 -> 13 | AD17: =AC17/$AC$7 -> 0.051485149 | AE17: =$AE$6*AD17 -> 3.0891089 | AF17: =$AF$6*AD17 -> 5.1485149 | AG17: =$AG$6*AD17 -> 37.069307
A18: =taskB3 -> ฝึกอบรมภาคทฤษฎีพนักงาน | B18: 5 | C18: 4 | D18: 3 | E18: 2 | F18: 1 | G18: 5 | H18: 4 | I18: 3 | J18: 2 | K18: 1 | L18: 5 | M18: 4 | N18: 3 | O18: 2 | P18: 1 | Q18: 5 | R18: 4 | S18: 3 | T18: 2 | U18: 1 | V18: 5 | W18: 4 | X18: 3 | Y18: 2 | Z18: 1 | AA18: 14 | AB18: 13 | AC18: =(AA18+AB18)/2 -> 13.5 | AD18: =AC18/$AC$7 -> 0.053465347 | AE18: =$AE$6*AD18 -> 3.2079208 | AF18: =$AF$6*AD18 -> 5.3465347 | AG18: =$AG$6*AD18 -> 38.49505
A19: =taskB4 -> ฝึกภาคปฏิบัติพนักงาน | B19: 5 | C19: 4 | D19: 3 | E19: 2 | F19: 1 | G19: 5 | H19: 4 | I19: 3 | J19: 2 | K19: 1 | L19: 5 | M19: 4 | N19: 3 | O19: 2 | P19: 1 | Q19: 5 | R19: 4 | S19: 3 | T19: 2 | U19: 1 | V19: 5 | W19: 4 | X19: 3 | Y19: 2 | Z19: 1 | AA19: 14 | AB19: 14 | AC19: =(AA19+AB19)/2 -> 14 | AD19: =AC19/$AC$7 -> 0.055445545 | AE19: =$AE$6*AD19 -> 3.3267327 | AF19: =$AF$6*AD19 -> 5.5445545 | AG19: =$AG$6*AD19 -> 39.920792
A20: =taskB5 -> ส่งพนักงานเข้าไลน์การผลิต | B20: 5 | C20: 4 | D20: 3 | E20: 2 | F20: 1 | G20: 5 | H20: 4 | I20: 3 | J20: 2 | K20: 1 | L20: 5 | M20: 4 | N20: 3 | O20: 2 | P20: 1 | Q20: 5 | R20: 4 | S20: 3 | T20: 2 | U20: 1 | V20: 5 | W20: 4 | X20: 3 | Y20: 2 | Z20: 1 | AA20: 12 | AB20: 12 | AC20: =(AA20+AB20)/2 -> 12 | AD20: =AC20/$AC$7 -> 0.047524752 | AE20: =$AE$6*AD20 -> 2.8514851 | AF20: =$AF$6*AD20 -> 4.7524752 | AG20: =$AG$6*AD20 -> 34.217822
A21: =taskB6 -> Re-trainning พนักงานเก่า | B21: 5 | C21: 4 | D21: 3 | E21: 2 | F21: 1 | G21: 5 | H21: 4 | I21: 3 | J21: 2 | K21: 1 | L21: 5 | M21: 4 | N21: 3 | O21: 2 | P21: 1 | Q21: 5 | R21: 4 | S21: 3 | T21: 2 | U21: 1 | V21: 5 | W21: 4 | X21: 3 | Y21: 2 | Z21: 1 | AA21: 15 | AB21: 15 | AC21: =(AA21+AB21)/2 -> 15 | AD21: =AC21/$AC$7 -> 0.059405941 | AE21: =$AE$6*AD21 -> 3.5643564 | AF21: =$AF$6*AD21 -> 5.9405941 | AG21: =$AG$6*AD21 -> 42.772277
A22: =duty_C -> การตรวจติดตามพนักงาน
A23: =taskC1 -> วางแผนการตรวจติดตามพนักงาน | B23: 5 | C23: 4 | D23: 3 | E23: 2 | F23: 1 | G23: 5 | H23: 4 | I23: 3 | J23: 2 | K23: 1 | L23: 5 | M23: 4 | N23: 3 | O23: 2 | P23: 1 | Q23: 5 | R23: 4 | S23: 3 | T23: 2 | U23: 1 | V23: 5 | W23: 4 | X23: 3 | Y23: 2 | Z23: 1 | AA23: 13 | AB23: 11 | AC23: =(AA23+AB23)/2 -> 12 | AD23: =AC23/$AC$7 -> 0.047524752 | AE23: =$AE$6*AD23 -> 2.8514851 | AF23: =$AF$6*AD23 -> 4.7524752 | AG23: =$AG$6*AD23 -> 34.217822
A24: =taskC2 -> ตรวจติดตามพนักงานใหม่รายสัปดาห์ | B24: 5 | C24: 4 | D24: 3 | E24: 2 | F24: 1 | G24: 5 | H24: 4 | I24: 3 | J24: 2 | K24: 1 | L24: 5 | M24: 4 | N24: 3 | O24: 2 | P24: 1 | Q24: 5 | R24: 4 | S24: 3 | T24: 2 | U24: 1 | V24: 5 | W24: 4 | X24: 3 | Y24: 2 | Z24: 1 | AA24: 14 | AB24: 14 | AC24: =(AA24+AB24)/2 -> 14 | AD24: =AC24/$AC$7 -> 0.055445545 | AE24: =$AE$6*AD24 -> 3.3267327 | AF24: =$AF$6*AD24 -> 5.5445545 | AG24: =$AG$6*AD24 -> 39.920792
A25: =taskC3 -> ตรวจติดตามพนักงานเก่ารายเดือน | B25: 5 | C25: 4 | D25: 3 | E25: 2 | F25: 1 | G25: 5 | H25: 4 | I25: 3 | J25: 2 | K25: 1 | L25: 5 | M25: 4 | N25: 3 | O25: 2 | P25: 1 | Q25: 5 | R25: 4 | S25: 3 | T25: 2 | U25: 1 | V25: 5 | W25: 4 | X25: 3 | Y25: 2 | Z25: 1 | AA25: 11 | AB25: 11 | AC25: =(AA25+AB25)/2 -> 11 | AD25: =AC25/$AC$7 -> 0.043564356 | AE25: =$AE$6*AD25 -> 2.6138614 | AF25: =$AF$6*AD25 -> 4.3564356 | AG25: =$AG$6*AD25 -> 31.366337
A26: =taskC4 -> รายงานผลการตรวจติดตามพนักงานประจำเดือน | B26: 5 | C26: 4 | D26: 3 | E26: 2 | F26: 1 | G26: 5 | H26: 4 | I26: 3 | J26: 2 | K26: 1 | L26: 5 | M26: 4 | N26: 3 | O26: 2 | P26: 1 | Q26: 5 | R26: 4 | S26: 3 | T26: 2 | U26: 1 | V26: 5 | W26: 4 | X26: 3 | Y26: 2 | Z26: 1 | AA26: 13 | AB26: 13 | AC26: =(AA26+AB26)/2 -> 13 | AD26: =AC26/$AC$7 -> 0.051485149 | AE26: =$AE$6*AD26 -> 3.0891089 | AF26: =$AF$6*AD26 -> 5.1485149 | AG26: =$AG$6*AD26 -> 37.069307
A27: =duty_D -> การผลิตสื่อการฝึกอบรมพนักงาน
A28: =taskD1 -> สร้างสื่อการสอนด้วยโปรแกรมเพาเวอร์พ้อยท์ | B28: 5 | C28: 4 | D28: 3 | E28: 2 | F28: 1 | G28: 5 | H28: 4 | I28: 3 | J28: 2 | K28: 1 | L28: 5 | M28: 4 | N28: 3 | O28: 2 | P28: 1 | Q28: 5 | R28: 4 | S28: 3 | T28: 2 | U28: 1 | V28: 5 | W28: 4 | X28: 3 | Y28: 2 | Z28: 1 | AA28: 14 | AB28: 14 | AC28: =(AA28+AB28)/2 -> 14 | AD28: =AC28/$AC$7 -> 0.055445545 | AE28: =$AE$6*AD28 -> 3.3267327 | AF28: =$AF$6*AD28 -> 5.5445545 | AG28: =$AG$6*AD28 -> 39.920792
A29: =taskD2 -> สร้างสื่อการสอนด้วยมัลติมีเดีย | B29: 5 | C29: 4 | D29: 3 | E29: 2 | F29: 1 | G29: 5 | H29: 4 | I29: 3 | J29: 2 | K29: 1 | L29: 5 | M29: 4 | N29: 3 | O29: 2 | P29: 1 | Q29: 5 | R29: 4 | S29: 3 | T29: 2 | U29: 1 | V29: 5 | W29: 4 | X29: 3 | Y29: 2 | Z29: 1 | AA29: 15 | AB29: 15 | AC29: =(AA29+AB29)/2 -> 15 | AD29: =AC29/$AC$7 -> 0.059405941 | AE29: =$AE$6*AD29 -> 3.5643564 | AF29: =$AF$6*AD29 -> 5.9405941 | AG29: =$AG$6*AD29 -> 42.772277
A30: =taskD3 -> จัดทำคู่มือการปฏิบัติงาน | B30: 5 | C30: 4 | D30: 3 | E30: 2 | F30: 1 | G30: 5 | H30: 4 | I30: 3 | J30: 2 | K30: 1 | L30: 5 | M30: 4 | N30: 3 | O30: 2 | P30: 1 | Q30: 5 | R30: 4 | S30: 3 | T30: 2 | U30: 1 | V30: 5 | W30: 4 | X30: 3 | Y30: 2 | Z30: 1 | AA30: 13 | AB30: 13 | AC30: =(AA30+AB30)/2 -> 13 | AD30: =AC30/$AC$7 -> 0.051485149 | AE30: =$AE$6*AD30 -> 3.0891089 | AF30: =$AF$6*AD30 -> 5.1485149 | AG30: =$AG$6*AD30 -> 37.069307
A31: =taskD4 -> จัดทำบอร์ดความรู้ในการปฏิบัติงาน | B31: 5 | C31: 4 | D31: 3 | E31: 2 | F31: 1 | G31: 5 | H31: 4 | I31: 3 | J31: 2 | K31: 1 | L31: 5 | M31: 4 | N31: 3 | O31: 2 | P31: 1 | Q31: 5 | R31: 4 | S31: 3 | T31: 2 | U31: 1 | V31: 5 | W31: 4 | X31: 3 | Y31: 2 | Z31: 1 | AA31: 9 | AB31: 9 | AC31: =(AA31+AB31)/2 -> 9 | AD31: =AC31/$AC$7 -> 0.035643564 | AE31: =$AE$6*AD31 -> 2.1386139 | AF31: =$AF$6*AD31 -> 3.5643564 | AG31: =$AG$6*AD31 -> 25.663366
A35: แบบสำรวจเกี่ยวกับการปฏิบัติงาน
A36: ="ตำแหน่ง "&position -> ตำแหน่ง เจ้าหน้าที่ VSTM
A37: (กรุณาทำแถบสี ลงบนหมายเลขที่ท่านพิจารณาแล้วเห็นว่าถูกต้อง)
A38: รายละเอียดของงานย่อย | B38: ความสำคัญของงาน | G38: ความถี่ของการปฎิบัติงาน | L38: ความยากง่ายในการปฏิบัติงาน | Q38: ผลกระทบของงานต่อผู้บริโภค | V38: ความต้องการฝึกอบรม | AA38: รวมคะ แนน | AD38: เวลาที่ใช้ในการฝึกอบรม | AE38: ข้อสอบภาคความรู้ (ข้อ) | AF38: ข้อสอบภาคทักษะ(คะแนน) | AG38: เวลาที่ใช้ในการฝึกอบรม
B39: มาก - - - - - - - - - - - - - น้อย | G39: มาก - - - - - - - - - - - - - น้อย | L39: มาก - - - - - - - - - - - - - น้อย | Q39: มาก - - - - - - - - - - - - - น้อย | V39: มาก - - - - - - - - - - - - - น้อย
B40: 5 | C40: 4 | D40: 3 | E40: 2 | F40: 1 | G40: 5 | H40: 4 | I40: 3 | J40: 2 | K40: 1 | L40: 5 | M40: 4 | N40: 3 | O40: 2 | P40: 1 | Q40: 5 | R40: 4 | S40: 3 | T40: 2 | U40: 1 | V40: 5 | W40: 4 | X40: 3 | Y40: 2 | Z40: 1 | AD40: =12*60 -> 720 | AE40: 60 | AF40: 100 | AG40: =12*60 -> 720
A41: รวม | AA41: =SUM(AA42:AA65) -> 251 | AD41: =SUM(AD43:AD65) -> 0 | AE41: =SUM(AE43:AE65) -> 0 | AF41: =SUM(AF43:AF65) -> 0 | AG41: =SUM(AG43:AG65) -> 0
A42: =duty_A -> การรับพนักงานใหม่
A43: =taskA1 -> เตรียมเอกสารแบบทดสอบพนักงานใหม่ | B43: 5 | C43: 4 | D43: 3 | E43: 2 | F43: 1 | G43: 5 | H43: 4 | I43: 3 | J43: 2 | K43: 1 | L43: 5 | M43: 4 | N43: 3 | O43: 2 | P43: 1 | Q43: 5 | R43: 4 | S43: 3 | T43: 2 | U43: 1 | V43: 5 | W43: 4 | X43: 3 | Y43: 2 | Z43: 1 | AA43: 8
A44: =taskA2 -> ทดสอบภาคทฤษฎีพนักงานใหม่ | B44: 5 | C44: 4 | D44: 3 | E44: 2 | F44: 1 | G44: 5 | H44: 4 | I44: 3 | J44: 2 | K44: 1 | L44: 5 | M44: 4 | N44: 3 | O44: 2 | P44: 1 | Q44: 5 | R44: 4 | S44: 3 | T44: 2 | U44: 1 | V44: 5 | W44: 4 | X44: 3 | Y44: 2 | Z44: 1 | AA44: 12
A45: =taskA3 -> ทดสอบภาคปฏิบัติพนักงานใหม่ | B45: 5 | C45: 4 | D45: 3 | E45: 2 | F45: 1 | G45: 5 | H45: 4 | I45: 3 | J45: 2 | K45: 1 | L45: 5 | M45: 4 | N45: 3 | O45: 2 | P45: 1 | AA45: 12
A46: =taskA4 -> สัมภาษณ์พนักงานใหม่ | B46: 5 | C46: 4 | D46: 3 | E46: 2 | F46: 1 | G46: 5 | H46: 4 | I46: 3 | J46: 2 | K46: 1 | L46: 5 | M46: 4 | N46: 3 | O46: 2 | P46: 1 | AA46: 15
A47: =taskA5 -> สรุปผลการทดสอบพนักงานใหม่ | B47: 5 | C47: 4 | D47: 3 | E47: 2 | F47: 1 | G47: 5 | H47: 4 | I47: 3 | J47: 2 | K47: 1 | L47: 5 | M47: 4 | N47: 3 | O47: 2 | P47: 1 | Q47: 5 | R47: 4 | S47: 3 | T47: 2 | U47: 1 | V47: 5 | W47: 4 | X47: 3 | Y47: 2 | Z47: 1 | AA47: 13
A48: =taskA6 -> แจ้งพนักงานใหม่เข้ารับการอบรม | B48: 5 | C48: 4 | D48: 3 | E48: 2 | F48: 1 | G48: 5 | H48: 4 | I48: 3 | J48: 2 | K48: 1 | L48: 5 | M48: 4 | N48: 3 | O48: 2 | P48: 1 | Q48: 5 | R48: 4 | S48: 3 | T48: 2 | U48: 1 | V48: 5 | W48: 4 | X48: 3 | Y48: 2 | Z48: 1 | AA48: 11
A49: =duty_B -> การฝึกอบรมพนักงาน
A50: =taskB1 -> วางแผนการฝึกอบรมพนักงาน | B50: 5 | C50: 4 | D50: 3 | E50: 2 | F50: 1 | G50: 5 | H50: 4 | I50: 3 | J50: 2 | K50: 1 | L50: 5 | M50: 4 | N50: 3 | O50: 2 | P50: 1 | Q50: 5 | R50: 4 | S50: 3 | T50: 2 | U50: 1 | V50: 5 | W50: 4 | X50: 3 | Y50: 2 | Z50: 1 | AA50: 13
A51: =taskB2 -> เตรียมอุปกรณ์ในการฝึกอบรมพนักงาน | B51: 5 | C51: 4 | D51: 3 | E51: 2 | F51: 1 | G51: 5 | H51: 4 | I51: 3 | J51: 2 | K51: 1 | L51: 5 | M51: 4 | N51: 3 | O51: 2 | P51: 1 | Q51: 5 | R51: 4 | S51: 3 | T51: 2 | U51: 1 | V51: 5 | W51: 4 | X51: 3 | Y51: 2 | Z51: 1 | AA51: 13
A52: =taskB3 -> ฝึกอบรมภาคทฤษฎีพนักงาน | B52: 5 | C52: 4 | D52: 3 | E52: 2 | F52: 1 | G52: 5 | H52: 4 | I52: 3 | J52: 2 | K52: 1 | L52: 5 | M52: 4 | N52: 3 | O52: 2 | P52: 1 | Q52: 5 | R52: 4 | S52: 3 | T52: 2 | U52: 1 | V52: 5 | W52: 4 | X52: 3 | Y52: 2 | Z52: 1 | AA52: 13
A53: =taskB4 -> ฝึกภาคปฏิบัติพนักงาน | B53: 5 | C53: 4 | D53: 3 | E53: 2 | F53: 1 | G53: 5 | H53: 4 | I53: 3 | J53: 2 | K53: 1 | L53: 5 | M53: 4 | N53: 3 | O53: 2 | P53: 1 | Q53: 5 | R53: 4 | S53: 3 | T53: 2 | U53: 1 | V53: 5 | W53: 4 | X53: 3 | Y53: 2 | Z53: 1 | AA53: 14
A54: =taskB5 -> ส่งพนักงานเข้าไลน์การผลิต | B54: 5 | C54: 4 | D54: 3 | E54: 2 | F54: 1 | G54: 5 | H54: 4 | I54: 3 | J54: 2 | K54: 1 | L54: 5 | M54: 4 | N54: 3 | O54: 2 | P54: 1 | Q54: 5 | R54: 4 | S54: 3 | T54: 2 | U54: 1 | V54: 5 | W54: 4 | X54: 3 | Y54: 2 | Z54: 1 | AA54: 12
A55: =taskB6 -> Re-trainning พนักงานเก่า | B55: 5 | C55: 4 | D55: 3 | E55: 2 | F55: 1 | G55: 5 | H55: 4 | I55: 3 | J55: 2 | K55: 1 | L55: 5 | M55: 4 | N55: 3 | O55: 2 | P55: 1 | Q55: 5 | R55: 4 | S55: 3 | T55: 2 | U55: 1 | V55: 5 | W55: 4 | X55: 3 | Y55: 2 | Z55: 1 | AA55: 15
A56: =duty_C -> การตรวจติดตามพนักงาน
A57: =taskC1 -> วางแผนการตรวจติดตามพนักงาน | B57: 5 | C57: 4 | D57: 3 | E57: 2 | F57: 1 | G57: 5 | H57: 4 | I57: 3 | J57: 2 | K57: 1 | L57: 5 | M57: 4 | N57: 3 | O57: 2 | P57: 1 | Q57: 5 | R57: 4 | S57: 3 | T57: 2 | U57: 1 | V57: 5 | W57: 4 | X57: 3 | Y57: 2 | Z57: 1 | AA57: 11
A58: =taskC2 -> ตรวจติดตามพนักงานใหม่รายสัปดาห์ | B58: 5 | C58: 4 | D58: 3 | E58: 2 | F58: 1 | G58: 5 | H58: 4 | I58: 3 | J58: 2 | K58: 1 | L58: 5 | M58: 4 | N58: 3 | O58: 2 | P58: 1 | Q58: 5 | R58: 4 | S58: 3 | T58: 2 | U58: 1 | V58: 5 | W58: 4 | X58: 3 | Y58: 2 | Z58: 1 | AA58: 14
A59: =taskC3 -> ตรวจติดตามพนักงานเก่ารายเดือน | B59: 5 | C59: 4 | D59: 3 | E59: 2 | F59: 1 | G59: 5 | H59: 4 | I59: 3 | J59: 2 | K59: 1 | L59: 5 | M59: 4 | N59: 3 | O59: 2 | P59: 1 | Q59: 5 | R59: 4 | S59: 3 | T59: 2 | U59: 1 | V59: 5 | W59: 4 | X59: 3 | Y59: 2 | Z59: 1 | AA59: 11
A60: =taskC4 -> รายงานผลการตรวจติดตามพนักงานประจำเดือน | B60: 5 | C60: 4 | D60: 3 | E60: 2 | F60: 1 | G60: 5 | H60: 4 | I60: 3 | J60: 2 | K60: 1 | L60: 5 | M60: 4 | N60: 3 | O60: 2 | P60: 1 | Q60: 5 | R60: 4 | S60: 3 | T60: 2 | U60: 1 | V60: 5 | W60: 4 | X60: 3 | Y60: 2 | Z60: 1 | AA60: 13
A61: =duty_D -> การผลิตสื่อการฝึกอบรมพนักงาน
A62: =taskD1 -> สร้างสื่อการสอนด้วยโปรแกรมเพาเวอร์พ้อยท์ | B62: 5 | C62: 4 | D62: 3 | E62: 2 | F62: 1 | G62: 5 | H62: 4 | I62: 3 | J62: 2 | K62: 1 | L62: 5 | M62: 4 | N62: 3 | O62: 2 | P62: 1 | Q62: 5 | R62: 4 | S62: 3 | T62: 2 | U62: 1 | V62: 5 | W62: 4 | X62: 3 | Y62: 2 | Z62: 1 | AA62: 14
A63: =taskD2 -> สร้างสื่อการสอนด้วยมัลติมีเดีย | B63: 5 | C63: 4 | D63: 3 | E63: 2 | F63: 1 | G63: 5 | H63: 4 | I63: 3 | J63: 2 | K63: 1 | L63: 5 | M63: 4 | N63: 3 | O63: 2 | P63: 1 | Q63: 5 | R63: 4 | S63: 3 | T63: 2 | U63: 1 | V63: 5 | W63: 4 | X63: 3 | Y63: 2 | Z63: 1 | AA63: 15
A64: =taskD3 -> จัดทำคู่มือการปฏิบัติงาน | B64: 5 | C64: 4 | D64: 3 | E64: 2 | F64: 1 | G64: 5 | H64: 4 | I64: 3 | J64: 2 | K64: 1 | L64: 5 | M64: 4 | N64: 3 | O64: 2 | P64: 1 | Q64: 5 | R64: 4 | S64: 3 | T64: 2 | U64: 1 | V64: 5 | W64: 4 | X64: 3 | Y64: 2 | Z64: 1 | AA64: 13
A65: =taskD4 -> จัดทำบอร์ดความรู้ในการปฏิบัติงาน | B65: 5 | C65: 4 | D65: 3 | E65: 2 | F65: 1 | G65: 5 | H65: 4 | I65: 3 | J65: 2 | K65: 1 | L65: 5 | M65: 4 | N65: 3 | O65: 2 | P65: 1 | Q65: 5 | R65: 4 | S65: 3 | T65: 2 | U65: 1 | V65: 5 | W65: 4 | X65: 3 | Y65: 2 | Z65: 1 | AA65: 9
