Workbook

Sheet ปก

Sheet ปร.6
E1: แบบ ปร.6
A2: แบบสรุปราคากลาง งานซ่อมแซมอาคาร
A3: โครงการ : ซ่อมแซมสำนักงานพัฒนาฝีมือแรงงานกาฬสินธ์
A4: เจ้าของโครงการ : สำนักงานพัฒนาฝีมือแรงงานกาฬสินธ์ กรมพัฒนาฝีมือแรงงาน
A5: คำนวณ/กำหนดราคาโดย : | D5: เมื่อวันที่ :
A6: ตามแบบ : ปร.5(ก) จำนวน...1....ชุด | E6: หน่วย : บาท
A8: ลำดับที่ | B8: รายการ | C8: ค่าก่อสร้างเป็นเงิน (บาท) | E8: หมายเหตุ
B10: สรุปผลประมาณราคา ราคาดังนี้
A11: 1 | B11: ซ่อมแซมสำนักงานพัฒนาฝีมือแรงงานกาฬสินธ์ | C11: =ปร.5!$E$22 -> 497975.1 | E11: ยอดยกมา
B17: รวมค่างานซ่อมแซม ทั้งหมด | C17: =SUM(C11:D16) -> 497975.1 | E17: ยอดยกมา
A18: สรุป | B18: ประมาณราคา เป็นเงิน | C18: 497900 | E18: **ปัดเศษลง
B19: (ราคาตัวหนังสือ)..... | C19: =BAHTTEXT(C18) -> สี่แสนเก้าหมื่นเจ็ดพันเก้าร้อยบาทถ้วน
A21: หมายเหตุ | B21: จำนวนหน่วยในรายการเป็นการประมาณการเท่านั้น ผู้รับจ้างต้องทำการถอดจำนวนและราคาเองก่อนปฏิบัติงาน

Sheet ปร.5
F1: แบบ ปร.5(ก)
A3: แบบสรุปราคากลาง งานซ่อมแซมอาคาร
A4: =ปร.6!$A$3 -> โครงการ : ซ่อมแซมสำนักงานพัฒนาฝีมือแรงงานกาฬสินธ์ | D4: =ปร.6!$A$5 -> คำนวณ/กำหนดราคาโดย :
A5: =ปร.6!$A$4 -> เจ้าของโครงการ : สำนักงานพัฒนาฝีมือแรงงานกาฬสินธ์ กรมพัฒนาฝีมือแรงงาน | D5: =ปร.6!$D$5 -> เมื่อวันที่ :
A6: ตามแบบ : ปร.4 จำนวน......3......แผ่น | F6: หน่วย : บาท
A8: ลำดับ | B8: รายการ | C8: รวม | D8: ค่าอำนวยการ กำไร ภาษี | E8: รวมค่าก่อสร้าง | F8: หมายเหตุ
C9: ค่างานต้นทุน( บาท ) | D9: ตัวคูณ (Factor F)
B10: ประเภทงาน : งานซ่อมแซมอาคาร
B11: =ปร.6!$B$11 -> ซ่อมแซมสำนักงานพัฒนาฝีมือแรงงานกาฬสินธ์
A12: =ปร.6!A11 -> 1 | B12: งานซ่อมแซมทาสีอาคาร | C12: ='ปร.4 (สรุป)'!$I$20 -> 381414.75 | D12: 1.3056 | E12: =SUM(C12*D12) -> 497975.1 | F12: Factor F งาน 5 รายการ
F13: ที่ค่างานต้นทุนน้อยกว่า
F14: 500,000 บาท
B17: เงื่อนไขการใช้ตาราง Factor F | F17: Factor F งานอาคาร
B18: เงินล่วงหน้าจ่าย..........0.00% | F18: ปรับปรุง 19 มิ.ย. 63
B19: เงินประกันผลงานหัก...0.00%
B20: ดอกเบี้ยเงินกู้..............6.00%
B21: ค่าภาษีมูลค่าเพิ่ม........7.00%
A22: สรุป | B22: รวมค่าซ่อมแซม | E22: =SUM(E12:E21) -> 497975.1 | F22: ยอดยกไป

Sheet ปร.4 (สรุป)
J1: แบบ ปร.4 แผ่นที่ 1/3
A3: บัญชีแสดงปริมาณงาน ค่าวัสดุและค่าแรงงาน
A4: =ปร.5!A4 -> โครงการ : ซ่อมแซมสำนักงานพัฒนาฝีมือแรงงานกาฬสินธ์ | F4: =ปร.5!$D$4 -> คำนวณ/กำหนดราคาโดย :
A5: =ปร.5!A5 -> เจ้าของโครงการ : สำนักงานพัฒนาฝีมือแรงงานกาฬสินธ์ กรมพัฒนาฝีมือแรงงาน | F5: =ปร.6!$D$5 -> เมื่อวันที่ : | J5: หน่วย : บาท
A7: ลำดับ | B7: รายการ | C7: จำนวน | D7: หน่วย | E7: ค่างานต้นทุน(บาท) | G7: ค่าแรงงาน | I7: รวม | J7: หมายเหตุ
E8: ราคา/หน่วย | F8: จำนวนเงิน | G8: ราคา/หน่วย | H8: จำนวนเงิน
B9: ซ่อมแซมสำนักงานพัฒนาฝีมือแรงงานกาฬสินธ์
B10: หมวดงานซ่อมแซมทาสีอาคาร
A11: 1 | B11: อาคารอำนวยการ 2 ชั้น | C11: 1 | D11: หลัง | I11: ='ปร.4 งานซ่อมแซม 1-3'!$I$13 -> 75000 | J11: ยอดยกมา
A12: 2 | B12: อาคารโรงฝึกงานช่าง ขนาด 400 ตร.ม. | C12: 3 | D12: หลัง | I12: ='ปร.4 งานซ่อมแซม 1-3'!$I$21 -> 158805 | J12: ยอดยกมา
A13: 3 | B13: อาคารฝึกอบรม 3 ชั้น | C13: 1 | D13: หลัง | I13: ='ปร.4 งานซ่อมแซม 1-3'!$I$28 -> 96463 | J13: ยอดยกมา
A14: 4 | B14: อาคารพัสดุกลาง | C14: 1 | D14: หลัง | I14: ='ปร.4 งานซ่อมแซม (4-6)'!$I$13 -> 48460 | J14: ยอดยกมา
A15: 5 | B15: ป้อมยาม | C15: 1 | D15: หลัง | I15: ='ปร.4 งานซ่อมแซม (4-6)'!$I$19 -> 2686.75 | J15: ยอดยกมา
B20: รวมค่าวัสดุ และค่าแรงงาน (ต้นทุน) | I20: =SUM(I11:I19) -> 381414.75 | J20: ยอดยกไป

Sheet ปร.4 งานซ่อมแซม 1-3
J1: แบบ ปร.4 แผ่นที่ 2/3
A2: บัญชีแสดงปริมาณงาน ค่าวัสดุและค่าแรงงาน
A3: ='ปร.4 (สรุป)'!A4 -> โครงการ : ซ่อมแซมสำนักงานพัฒนาฝีมือแรงงานกาฬสินธ์ | F3: ='ปร.4 (สรุป)'!F4 -> คำนวณ/กำหนดราคาโดย :
A4: ='ปร.4 (สรุป)'!A5 -> เจ้าของโครงการ : สำนักงานพัฒนาฝีมือแรงงานกาฬสินธ์ กรมพัฒนาฝีมือแรงงาน | F4: ='ปร.4 (สรุป)'!F5 -> เมื่อวันที่ : | J4: หน่วย : บาท
A5: ลำดับ | B5: รายการ | C5: จำนวน | D5: หน่วย | E5: ค่างานต้นทุน(บาท) | G5: ค่าแรงงาน | I5: รวม | J5: หมายเหตุ
E6: ราคา/หน่วย | F6: จำนวนเงิน | G6: ราคา/หน่วย | H6: จำนวนเงิน
B7: หมวดงานซ่อมแซมทาสีอาคาร
A8: 1 | B8: ='ปร.4 (สรุป)'!$B$11 -> อาคารอำนวยการ 2 ชั้น | C8: 1 | D8: หลัง
B9: งานซ่อมแซมผิวผนัง ทาสีภายนอก
B10: - เตรียมพื้นผิว ทำความสะอาด ซ่อมแซมรอยแตกร้าวผนังเดิม | C10: 600 | D10: ตร.ม | E10: 0 | F10: =SUM(C10*E10) -> 0 | G10: 5 | H10: =SUM(C10*G10) -> 3000 | I10: =SUM(F10+H10) -> 3000
B11: - ทาน้ำยารองพื้นปูนเก่า และทาสีอคีลิค 100% ภายนอก (มอก. 2321-2549) | C11: 600 | D11: ตร.ม | E11: 60 | F11: =SUM(C11*E11) -> 36000 | G11: 34 | H11: =SUM(C11*G11) -> 20400 | I11: =SUM(F11+H11) -> 56400
B12: - ทาสีน้ำมัน (วงกบ บานประตู หน้าต่าง ช่องแสง) | C12: 195 | D12: ตร.ม | E12: 45 | F12: =SUM(C12*E12) -> 8775 | G12: 35 | H12: =SUM(C12*G12) -> 6825 | I12: =SUM(F12+H12) -> 15600
B13: รวม | F13: =SUM(F10:F12) -> 44775 | H13: =SUM(H10:H12) -> 30225 | I13: =SUM(I10:I12) -> 75000 | J13: ยอดยกไป
A15: 2 | B15: ='ปร.4 (สรุป)'!$B$12 -> อาคารโรงฝึกงานช่าง ขนาด 400 ตร.ม. | C15: 3 | D15: หลัง
B16: งานซ่อมแซมผิวผนัง ทาสีภายนอก
B17: - เตรียมพื้นผิว ทำความสะอาด ซ่อมแซมรอยแตกร้าวผนังเดิม | C17: 365 | D17: ตร.ม | E17: 0 | F17: =SUM(C17*E17) -> 0 | G17: 5 | H17: =SUM(C17*G17) -> 1825 | I17: =SUM(F17+H17) -> 1825
B18: - ทาน้ำยารองพื้นปูนเก่า และทาสีอคีลิค 100% ภายนอก (มอก. 2321-2549) | C18: 365 | D18: ตร.ม | E18: 60 | F18: =SUM(C18*E18) -> 21900 | G18: 34 | H18: =SUM(C18*G18) -> 12410 | I18: =SUM(F18+H18) -> 34310
B19: - ทาสีน้ำมัน (วงกบ บานประตู หน้าต่าง ช่องแสง) | C19: 210 | D19: ตร.ม | E19: 45 | F19: =SUM(C19*E19) -> 9450 | G19: 35 | H19: =SUM(C19*G19) -> 7350 | I19: =SUM(F19+H19) -> 16800
B20: รวม | C20: 1 | D20: หลัง | F20: =SUM(F17:F19) -> 31350 | H20: =SUM(H17:H19) -> 21585 | I20: =SUM(I17:I19) -> 52935
C21: 3 | D21: หลัง | I21: =3*I20 -> 158805 | J21: ยอดยกไป
A23: 3 | B23: ='ปร.4 (สรุป)'!$B$13 -> อาคารฝึกอบรม 3 ชั้น | C23: 1 | D23: หลัง
B24: งานซ่อมแซมผิวผนัง ทาสีภายนอก
B25: - เตรียมพื้นผิว ทำความสะอาด ซ่อมแซมรอยแตกร้าวผนังเดิม | C25: 757 | D25: ตร.ม | E25: 0 | F25: =SUM(C25*E25) -> 0 | G25: 5 | H25: =SUM(C25*G25) -> 3785 | I25: =SUM(F25+H25) -> 3785
B26: - ทาน้ำยารองพื้นปูนเก่า และทาสีอคีลิค 100% ภายนอก (มอก. 2321-2549) | C26: 757 | D26: ตร.ม | E26: 60 | F26: =SUM(C26*E26) -> 45420 | G26: 34 | H26: =SUM(C26*G26) -> 25738 | I26: =SUM(F26+H26) -> 71158
B27: - ทาสีน้ำมัน (วงกบ บานประตู หน้าต่าง ช่องแสง) | C27: 269 | D27: ตร.ม | E27: 45 | F27: =SUM(C27*E27) -> 12105 | G27: 35 | H27: =SUM(C27*G27) -> 9415 | I27: =SUM(F27+H27) -> 21520
B28: รวม | F28: =SUM(F25:F27) -> 57525 | H28: =SUM(H25:H27) -> 38938 | I28: =SUM(I25:I27) -> 96463 | J28: ยอดยกไป
B30: รวมค่าวัสดุและค่าแรงงาน (งาน 1+2+3) | I30: =I28+I21+I13 -> 330268

Sheet ปร.4 งานซ่อมแซม (4-6)
J1: แบบ ปร.4 แผ่นที่ 3/3
A2: บัญชีแสดงปริมาณงาน ค่าวัสดุและค่าแรงงาน
A3: ='ปร.4 (สรุป)'!A4 -> โครงการ : ซ่อมแซมสำนักงานพัฒนาฝีมือแรงงานกาฬสินธ์ | F3: ='ปร.4 (สรุป)'!F4 -> คำนวณ/กำหนดราคาโดย :
A4: ='ปร.4 (สรุป)'!A5 -> เจ้าของโครงการ : สำนักงานพัฒนาฝีมือแรงงานกาฬสินธ์ กรมพัฒนาฝีมือแรงงาน | F4: ='ปร.4 (สรุป)'!F5 -> เมื่อวันที่ : | J4: หน่วย : บาท
A5: ลำดับ | B5: รายการ | C5: จำนวน | D5: หน่วย | E5: ค่างานต้นทุน(บาท) | G5: ค่าแรงงาน | I5: รวม | J5: หมายเหตุ
E6: ราคา/หน่วย | F6: จำนวนเงิน | G6: ราคา/หน่วย | H6: จำนวนเงิน
B7: หมวดงานซ่อมแซมทาสีอาคาร
A8: 4 | B8: ='ปร.4 (สรุป)'!$B$14 -> อาคารพัสดุกลาง | C8: 1 | D8: หลัง
B9: งานซ่อมแซมผิวผนัง ทาสีภายนอก-ภายใน
B10: - เตรียมพื้นผิว ทำความสะอาด ซ่อมแซมรอยแตกร้าวผนังเดิม | C10: 340 | D10: ตร.ม | E10: 0 | F10: =SUM(C10*E10) -> 0 | G10: 5 | H10: =SUM(C10*G10) -> 1700 | I10: =SUM(F10+H10) -> 1700
B11: - ทาน้ำยารองพื้นปูนเก่า และทาสีอคีลิค 100% ภายนอก (มอก. 2321-2549) | C11: 340 | D11: ตร.ม | E11: 60 | F11: =SUM(C11*E11) -> 20400 | G11: 34 | H11: =SUM(C11*G11) -> 11560 | I11: =SUM(F11+H11) -> 31960
B12: - ทาสีน้ำมัน (วงกบ บานประตู หน้าต่าง ช่องแสง) | C12: 185 | D12: ตร.ม | E12: 45 | F12: =SUM(C12*E12) -> 8325 | G12: 35 | H12: =SUM(C12*G12) -> 6475 | I12: =SUM(F12+H12) -> 14800
B13: รวม | F13: =SUM(F10:F12) -> 28725 | H13: =SUM(H10:H12) -> 19735 | I13: =SUM(I10:I12) -> 48460 | J13: ยอดยกไป
A15: 5 | B15: ='ปร.4 (สรุป)'!$B$15 -> ป้อมยาม | C15: 1 | D15: หลัง
B16: - เตรียมพื้นผิว ทำความสะอาด ซ่อมแซมรอยแตกร้าวผนังเดิม | C16: 18.25 | D16: ตร.ม | E16: 0 | F16: =SUM(C16*E16) -> 0 | G16: 5 | H16: =SUM(C16*G16) -> 91.25 | I16: =SUM(F16+H16) -> 91.25
B17: - ทาน้ำยารองพื้นปูนเก่า และทาสีอคีลิค 100% ภายนอก (มอก. 2321-2549) | C17: 18.25 | D17: ตร.ม | E17: 60 | F17: =SUM(C17*E17) -> 1095 | G17: 34 | H17: =SUM(C17*G17) -> 620.5 | I17: =SUM(F17+H17) -> 1715.5
B18: - ทาสีน้ำมัน (วงกบ บานประตู หน้าต่าง ช่องแสง) | C18: 11 | D18: ตร.ม | E18: 45 | F18: =SUM(C18*E18) -> 495 | G18: 35 | H18: =SUM(C18*G18) -> 385 | I18: =SUM(F18+H18) -> 880
B19: รวม | F19: =SUM(F16:F18) -> 1590 | H19: =SUM(H16:H18) -> 1096.75 | I19: =SUM(I16:I18) -> 2686.75 | J19: ยอดยกไป
B21: รวมค่าวัสดุและค่าแรงงาน (งานรายการ 4+5) | I21: =I13+I19 -> 51146.75
A23: หมายเหตุ :
B24: 1. จำนวนปริมาณงานซ่อมแซมผิว ทาสีอาคารเก่า ภายนอก-ภายใน ดังกล่าวข้างต้นเป็นการประมาณการในเบื้องต้น ผู้รับจ้างตรวจสอบปริมาณพื้นที่หน้างานอีกครั้ง ก่อนดำเนินการ
B25: 2. งานทาสีภายนอก "สีทาอาคารเก่า" ให้ใช้ผลิตภัณฑ์สี ที่ได้รับ มอก. 2321-2549 (สีทนสภาวะอากาศ) ผลิตภัณฑ์สีของ ทีโอเอ, ไอซีไอ, โจตัน, กัปตัน, นิปปอนเพ้นท์ หรือผลิตภัณฑ์สีตามที่ผู้ว่าจ้างกำหนด
B26: 3. งานทาสีภายใน "สีทาอาคารเก่า" ให้ใช้ผลิตภัณฑ์สี ที่ได้รับ มอก. 2321-2549 (สีทนสภาวะอากาศ) ผลิตภัณฑ์สีของ ทีโอเอ, ไอซีไอ, โจตัน, กัปตัน, นิปปอนเพ้นท์ หรือผลิตภัณฑ์สีตามที่ผู้ว่าจ้างกำหนด
B27: 4. งานทาสีน้ำมันให้ใช้ผลิตภัณฑ์สีของ ทีโอเอ, ไอซีไอ, โจตัน, กัปตัน, นิปปอนเพ้นท์ หรือผลิตภัณฑ์สีตามที่ผู้ว่าจ้างกำหนด
B28: 5. ขั้นตอนและกรรมวิธีการทาสีให้เป็นไปตามข้อกำหนดของผลิตภัณฑ์สีที่ผู้ว่าจ้างเลือกใช้ (โดยต้องทาน้ำยารองพื้น 1 ครั้ง และทาสีทับหน้าไม่น้อยกว่า 2 ครั้ง)
