Workbook

Sheet Sheet1
A1: แผน/ผลการดำเนินงานปีงบประมาณ 2559
A2: ศูนย์พัฒนาฝีมือแรงงานจังหวัดลพบุรี
A3: ระหว่างวันที่ 1 ตุลาคม 2558 - 29 กุมภาพันธ์ 2559
A4: กิจกรรม | C4: กิจกรรม | D4: การดำเนินงานทั้งปี(คน) | I4: ผลการเบิกจ่าย
C5: ที่ดำเนินการ | D5: เป้าหมาย | E5: เข้าฝึก | F5: ร้อยละ | G5: จบฝึก | H5: ร้อยละ | I5: แผน | J5: เบิกจ่าย | K5: ร้อยละ
B6: งบกรมพัฒนาฝีมือแรงงาน : รวมทุกผลผลิต(นับรวม พ.ร.บ.) | D6: =D8+D11+D21+D24 -> 13485 | E6: =E11+E21+E24 -> 14906 | F6: =E6*100/D6 -> 110.53763 | G6: =G11+G21+G24 -> 906 | H6: =G6*100/E6 -> 6.0780894 | I6: =I7 -> 2765200 | J6: =J11+J24+J21 -> #REF! | K6: =J6*100/I6 -> #REF!
B7: รวมทุกผลผลิต(ไม่นับรวม พ.ร.บ.) | D7: =D8+D11+D21+D26+D27+D28+D34 -> 1485 | E7: =E11+E21+E26+E27+E28+E34 -> 1147 | F7: =E7*100/D7 -> 77.239057 | G7: =G11+G21+G26+G27+G28+G34 -> 906 | H7: =G7*100/E7 -> 78.988666 | I7: =I8+I10+I11+I21+I24 -> 2765200 | J7: =J11+J21+J26+J27+J28+J34 -> #REF! | K7: =J7*100/I7 -> #REF!
A8: 1. โครงการ ฝึกอบรมฝีมือแรงงานรองรับระบบขนส่งบริการโลจิสติกส์ และการก่อสร้าง | D8: 60 | E8: =E9+E10 -> 56 | F8: =E8*100/D8 -> 93.333333 | G8: =SUM(G9:G10) -> 50 | H8: =G8*100/E8 -> 89.285714 | I8: 74000 | J8: =[1]โลจิสติกส์ยก!L13 -> 25320
C9: ยกระดับ | D9: 40 | E9: 40 | F9: 100 | G9: 34
C10: อาชีพเสริม | D10: 20 | E10: =[1]โลจิสติกส์เสริม!V12 -> 16 | F10: =E10*100/D10 -> 80 | G10: 16 | I10: 28000 | J10: =[1]โลจิสติกส์เสริม!L13 -> 14100
A11: 2. ผลผลิต การพัฒนาฝีมือแรงงานรองรับประชาคมอาเซียน | D11: =D12 -> 905 | E11: =E12 -> 710 | F11: =E11*100/D11 -> 78.453039 | G11: =G12 -> 631 | H11: =G11*100/E11 -> 88.873239 | I11: =I12 -> 2213200 | J11: =J12 -> 1264070 | K11: =J11*100/I11 -> 57.115037
A12: กิจกรรม ฝึกอบรมฝีมือแรงงานรองรับภาคอุตสาหกรรมในการเข้าสู่ประชาคมอาเซียน | D12: =SUM(D13:D20) -> 905 | E12: =SUM(E13:E20) -> 710 | F12: =E12*100/D12 -> 78.453039 | G12: =SUM(G13:G20) -> 631 | H12: =G12*100/E12 -> 88.873239 | I12: =SUM(I13:I20) -> 2213200 | J12: =SUM(J13:J20) -> 1264070
B13: - อบรมความสามารถด้านภาษาให้แก่แรงงานไทยเพื่อรองรับประชาคมอาเซียน (30 ชม.) | C13: ยกระดับ | D13: 190 | E13: =[1]ภาษารองรับอาเ!V12 -> 164 | F13: =E13*100/D13 -> 86.315789 | G13: =[1]ภาษารองรับอาเ!AB13 -> 164 | H13: =G13*100/E13 -> 100 | I13: 408000 | J13: =[1]ภาษารองรับอาเ!L13 -> 326600
B14: - ฝึกอบรมผู้ประกอบอาหารรองรับครัวไทยสู่ครัวโลก ( 30 ชม.) | C14: ยกระดับ | D14: 60 | E14: =[1]ครัวไทยครัวโลก!V12 -> 21 | F14: =E14*100/D14 -> 35 | G14: =[1]ครัวไทยครัวโลก!AB12 -> 0 | H14: =G14*100/E14 -> 0 | I14: 117000 | J14: =[1]ครัวไทยครัวโลก!L13 -> 39140
B15: - ฝึกอบรมฝีมือแรงงานส่งเสริมศักยภาพอุตสาหกรรมยานยนต์และชิ้นส่วน (18-30 ชม.) | D15: 20 | E15: =[1]ยานยนต์!V12 -> 0 | G15: =[1]ยานยนต์!AB12 -> 0 | I15: 29000 | J15: =[1]ยานยนต์!L13 -> 0
B16: - ฝึกอบรมฝีมือแรงงานไทยเพื่อส่งเสริมความสามารถของภาคบริการและการท่องเที่ยว | C16: ยกระดับ | D16: 60 | E16: =[1]ยกท่องเที่ยว!V12 -> 44 | F16: =E16*100/D16 -> 73.333333 | G16: =[1]ยกท่องเที่ยว!AB12 -> 20 | H16: =G16*100/E16 -> 45.454545 | I16: 141000 | J16: =[1]ยกท่องเที่ยว!L13 -> 78200
B17: (ยกระดับ 18-60 ชม., อาชีพเสริม 18-30 ชม.) | C17: อาชีพเสริม | D17: 100 | E17: =[1]เสริมท่องเที่ยว!V12 -> 62 | F17: =E17*100/D17 -> 62 | G17: =[1]เสริมท่องเที่ยว!AB12 -> 62 | H17: =G17*100/E17 -> 100 | I17: 145000 | J17: =[1]เสริมท่องเที่ยว!L13 -> 115450
B18: - พัฒนาบุคลากรด้านการท่องเที่ยวให้ได้มาตรฐานสมรรถนะร่วมวิชาชีพการท่องเที่ยวอาเซียน(24-34 ชม.) | C18: ยกระดับ | D18: 40 | E18: =[1]ท่องเที่ยวตามสมรรถนะ!V12 -> 0 | G18: =[1]ท่องเที่ยวตามสมรรถนะ!AB12 -> 0 | I18: 160000 | J18: =[1]ท่องเที่ยวตามสมรรถนะ!L13 -> 0
B19: - ฝึกอบรมฝีมือแรงงานไทยขับเคลื่อนการแข่งขันของภาคอุตสาหกรรม | C19: เตรียมฯ | D19: 15 | E19: =[1]เตรียมอาเ!V11 -> 15 | F19: =E19*100/D19 -> 100 | G19: =[1]เตรียมอาเ!AB11 -> 0 | H19: =G19*100/E19 -> 0 | I19: 268200 | J19: =[1]เตรียมอาเ!L11 -> 36600
B20: (เตรียมฯ 280 - 840 ชม., ยกระดับฯ 18-60 ชม.) | C20: ยกระดับ | D20: 420 | E20: =[1]ยกอาเ!X12 -> 404 | F20: =E20*100/D20 -> 96.190476 | G20: =[1]ยกอาเ!AD11 -> 385 | H20: =G20*100/E20 -> 95.29703 | I20: 945000 | J20: =[1]ยกอาเ!K12 -> 668080
A21: 3. โครงการพัฒนาฝีมือแรงงานร่วมเทิดทูนสถาบันพระมหากษัตริย์ | D21: =SUM(D22) -> 160 | E21: =E22 -> 151 | F21: =E21*100/D21 -> 94.375 | G21: =G22 -> 99 | H21: =G21*100/E21 -> 65.562914 | I21: =SUM(I22:I23) -> 128000 | J21: =SUM(J22:J23) -> 34000
B22: กิจกรรม ฝึกอาชีพแรงงานกลุ่มเฉพาะ(ทหารฯ ผู้ต้องขัง ผู้พิการ ผู้สูงอายุ)(30 ชม.) | C22: อาชีพเสริม | D22: 160 | E22: =[1]กลุ่มเฉพาะ!V11 -> 151 | F22: =E22*100/D22 -> 94.375 | G22: =[1]กลุ่มเฉพาะ!AB11 -> 99 | H22: =G22*100/E22 -> 65.562914 | I22: 128000 | J22: =[1]กลุ่มเฉพาะ!L10 -> 34000
B23: กิจกรรม จัดตั้งศูนย์ทดสอบมาตรฐานฝีมือแรงงานแห่งชาติ | D23: 2 แห่ง
A24: 4. ผลผลิต พัฒนาศักยภาพฝีมือแรงงานทั้งระบบให้สอดคล้องกับความต้องการ | D24: =D26+D27+D28+D30+D34 -> 12360 | E24: =E26+E27+E28+E30+E34 -> 14045 | F24: =E24*100/D24 -> 113.63269 | G24: =G26+G27+G28+G30+G34+G32 -> 176 | H24: =G24*100/E24 -> 1.253115 | I24: =SUM(I26:I34) -> 322000 | J24: =J26+J27+J28+J30+J32+J34 -> #REF! | K24: =J24*100/I24 -> #REF!
A25: มีรายได้ที่แท้จริงสูงขึ้น | B25: ของตลาดแรงงาน และการประกอบอาชีพ | D25: =D26+D27+D28+D34 -> 360 | E25: =E26+E27+E28+E34 -> 286 | F25: =E25*100/D25 -> 79.444444 | G25: =G26+G27+G28+G34 -> 176 | H25: =G25*100/E25 -> 61.538462 | J25: 0
A26: กิจกรรม พัฒนาฝีมือเพื่อเพิ่มโอกาสในการประกอบอาชีพ | C26: อาชีพเสริม | D26: 80 | E26: =[1]เพิ่มโอกาส!V9 -> 86 | F26: =E26*100/D26 -> 107.5 | G26: =[1]เพิ่มโอกาส!AA9 -> 86 | H26: =G26*100/E26 -> 100 | I26: 80000 | J26: =[1]รายทีม!I30 -> #REF!
A27: กิจกรรม พัฒนา/ส่งเสริมการประกอบอาชีพอิสระ | C27: อาชีพเสริม | D27: 20 | E27: =[1]อิสระ!V10 -> 0 | F27: =E27*100/D27 -> 0 | G27: =[1]อิสระ!AB10 -> 0 | I27: 20000 | J27: =[1]อิสระ!L9 -> 0
A28: กิจกรรม ทดสอบมาตรฐานฝีมือแรงงาน | D28: 240 | E28: =[1]ทดสอบฯ!U10 -> 176 | F28: =E28*100/D28 -> 73.333333 | G28: =[1]ทดสอบฯ!AA10 -> 66 | H28: =G28*100/E28 -> 37.5 | I28: 168000 | J28: =[1]ทดสอบฯ!K10 -> 62462
B29: (ด้านช่างอุตสาหกรรม) | H29: 0
A30: กิจกรรม : ส่งเสริมและสนับสนุนให้สถานประกอบกิจการดำเนินการฝึกอบรม | D30: 12000 | E30: =[1]รับรองหลักสูตร!H8 -> 13759 | F30: =E30*100/D30 -> 114.65833 | G30: =[1]รับรองหลักสูตร!K8 -> 0 | H30: 0 | I30: 0 | J30: 0
B31: ฝีมือแรงงานตามพระราชบัญญัติส่งเสริมการพัฒนาฝีมือแรงงาน พ.ศ. 2545
B32: - รับรองหลักสูตร และค่าใช้จ่ายในการฝึกอบรมฝีมือแรงงานของ | D32: 12000 | E32: =[1]รับรองหลักสูตร!H8 -> 13759 | I32: 0 | J32: 0
B33: สถานประกอบกิจการ 31 แห่ง
A34: รายการ : พัฒนาศักยภาพแรงงานเพื่อรองรับการจ่ายค่าจ้างตามมาตรฐานฝีมือแรงงาน | D34: 20 | E34: =E35 -> 24 | F34: =E34*100/D34 -> 120 | G34: =G35 -> 24 | I34: 54000 | J34: =SUM(J35:J36) -> 0
B35: ด้านการฝึก | C35: ยกระดับ | D35: 20 | E35: =[1]เพิ่มขีดความสามารถ!U12 -> 24 | F35: =E35*100/D35 -> 120 | G35: =[1]เพิ่มขีดความสามารถ!AA13 -> 24 | H35: =G35*100/E35 -> 100 | J35: =[1]เพิ่มขีดความสามารถ!O14 -> 0
B36: ด้านการทดสอบฯ | D36: 24 | E36: =[1]เพิ่มขีดความสามารถ!U31 -> 23 | F36: =E36*100/D36 -> 95.833333 | G36: =[1]เพิ่มขีดความสามารถ!AA31 -> 0 | H36: =G36*100/E36 -> 0 | I36: =[1]เพิ่มขีดความสามารถ!K31 -> 0 | J36: =[1]เพิ่มขีดความสามารถ!K31 -> 0
A37: 5. โครงการเพิ่มผลิตภาพแรงงานไทย | D37: 3 แห่ง | E37: 3 แห่ง
D39: ศูนย์พัฒนาฝีมือแรงงานจังหวัดลพบุรี
D40: ข้อมูล ณ วันที่ 29 กุมภาพันธ์ 2559

Sheet Sheet2

Sheet Sheet3
